Workbook
Name SKU_Codes: 'Данные'!$A$7:$A$18
Name SKU_Names: 'Данные'!$B$7:$B$18
Name Prices: 'Данные'!$E$7:$E$18
Name Sales: 'Данные'!$F$7:$AC$18
Name Periods: 'Данные'!$F$4:$AC$4
Name MonthNo: 'Данные'!$F$5:$AC$5
Name Thr_A: 'ABC-XYZ'!$D$4
Name Thr_B: 'ABC-XYZ'!$D$5
Name Thr_X: 'ABC-XYZ'!$K$4
Name Thr_Y: 'ABC-XYZ'!$K$5
Name SL_A: 'Закупки'!$D$4
Name SL_B: 'Закупки'!$F$4
Name SL_C: 'Закупки'!$H$4
Name Sel_SKU: 'Дашборд'!$F$5
Name Sel_Row: 'Дашборд'!$AD$3
Name N_Hist: 'Дашборд'!$AF$3

Sheet Дашборд
B2: Планирование спроса и закупок | R2: «Зерно и пар» · сеть из 4 кофеен | AB2: Служебная таблица для графиков (вне области печати)
B3: Факт: окт 2024 — сен 2026 · прогноз: окт 2026 — сен 2027 · остатки и заказ на 01.10.2026 | AB3: Строка SKU | AD3: =MATCH(Sel_SKU,SKU_Codes,0) -> 7 | AE3: Мес. факта | AF3: =COUNT(Periods) -> 24
B5: Выберите SKU ▸ | F5: CUP-07 | J5: =INDEX(SKU_Names,Sel_Row) -> Стакан бумажный 300 мл | R5: =INDEX('Данные'!$C$7:$C$18,Sel_Row)&" · "&INDEX('Данные'!$D$7:$D$18,Sel_Row)&" · класс "&INDEX('Закупки'!$D$7:$D$18,Sel_Row)&CHAR(10)&INDEX('ABC-XYZ'!$N$8:$N$19,MATCH(Sel_SKU,'ABC-XYZ'!$B$8:$B$19,0)) -> Упаковка · шт. · класс BY Плановые поставки, умеренный страховой запас | AB5: k | AC5: Месяц | AD5: Подпись | AE5: Факт | AF5: Модель | AG5: Прогноз | AH5: Факт, тыс. ₽ | AI5: Прогноз, тыс. ₽
AB6: 1 | AC6: =EDATE('Данные'!$F$6,AB6-1) -> 45566 | AD6: =IF(MOD(AB6-1,6)=0,INDEX({"янв","фев","мар","апр","май","июн","июл","авг","сен","окт","ноя","дек"},MONTH(AC6))&" "&RIGHT(YEAR(AC6),2),"") -> окт 24 | AE6: =IF(AB6<=N_Hist,INDEX(Sales,Sel_Row,AB6),"") -> 11612 | AF6: =IF(AB6<=N_Hist,INDEX('Прогноз'!$D$25:$AA$36,Sel_Row,AB6),"") -> 11575.663 | AG6: =IF(AB6<N_Hist,"",IF(AB6=N_Hist,AE6,INDEX('Прогноз'!$D$7:$O$18,Sel_Row,AB6-N_Hist))) | AH6: =IF(AB6<=N_Hist,INDEX('Данные'!$F$19:$AC$19,AB6),NA()) -> 1709.3069 | AI6: =IF(AB6>N_Hist,INDEX('Прогноз'!$D$19:$O$19,AB6-N_Hist),NA()) -> #N/A
B7: ="Факт за 12 мес., "&INDEX('Данные'!$D$7:$D$18,Sel_Row) -> Факт за 12 мес., шт. | F7: ="Прогноз на 12 мес., "&INDEX('Данные'!$D$7:$D$18,Sel_Row) -> Прогноз на 12 мес., шт. | J7: ="Прогноз на окт 2026, "&INDEX('Данные'!$D$7:$D$18,Sel_Row) -> Прогноз на окт 2026, шт. | N7: ="Страховой запас, "&INDEX('Данные'!$D$7:$D$18,Sel_Row) -> Страховой запас, шт. | R7: ="Точка заказа, "&INDEX('Данные'!$D$7:$D$18,Sel_Row) -> Точка заказа, шт. | V7: ="К заказу сейчас, "&INDEX('Данные'!$D$7:$D$18,Sel_Row) -> К заказу сейчас, шт. | AB7: 2 | AC7: =EDATE('Данные'!$F$6,AB7-1) -> 45597 | AD7: =IF(MOD(AB7-1,6)=0,INDEX({"янв","фев","мар","апр","май","июн","июл","авг","сен","окт","ноя","дек"},MONTH(AC7))&" "&RIGHT(YEAR(AC7),2),"") | AE7: =IF(AB7<=N_Hist,INDEX(Sales,Sel_Row,AB7),"") -> 11985 | AF7: =IF(AB7<=N_Hist,INDEX('Прогноз'!$D$25:$AA$36,Sel_Row,AB7),"") -> 10905.768 | AG7: =IF(AB7<N_Hist,"",IF(AB7=N_Hist,AE7,INDEX('Прогноз'!$D$7:$O$18,Sel_Row,AB7-N_Hist))) | AH7: =IF(AB7<=N_Hist,INDEX('Данные'!$F$19:$AC$19,AB7),NA()) -> 1745.9905 | AI7: =IF(AB7>N_Hist,INDEX('Прогноз'!$D$19:$O$19,AB7-N_Hist),NA()) -> #N/A
B8: =SUM(INDEX('Данные'!$R$7:$AC$18,Sel_Row,0)) -> 184203 | F8: =INDEX('Прогноз'!$P$7:$P$18,Sel_Row) -> 204543.12 | J8: =INDEX('Прогноз'!$D$7:$D$18,Sel_Row) -> 14681.366 | N8: =INDEX('Закупки'!$L$7:$L$18,Sel_Row) -> 638.48931 | R8: =INDEX('Закупки'!$N$7:$N$18,Sel_Row) -> 7489.7932 | V8: =INDEX('Закупки'!$U$7:$U$18,Sel_Row) -> 8000 | AB8: 3 | AC8: =EDATE('Данные'!$F$6,AB8-1) -> 45627 | AD8: =IF(MOD(AB8-1,6)=0,INDEX({"янв","фев","мар","апр","май","июн","июл","авг","сен","окт","ноя","дек"},MONTH(AC8))&" "&RIGHT(YEAR(AC8),2),"") | AE8: =IF(AB8<=N_Hist,INDEX(Sales,Sel_Row,AB8),"") -> 12360 | AF8: =IF(AB8<=N_Hist,INDEX('Прогноз'!$D$25:$AA$36,Sel_Row,AB8),"") -> 11919.194 | AG8: =IF(AB8<N_Hist,"",IF(AB8=N_Hist,AE8,INDEX('Прогноз'!$D$7:$O$18,Sel_Row,AB8-N_Hist))) | AH8: =IF(AB8<=N_Hist,INDEX('Данные'!$F$19:$AC$19,AB8),NA()) -> 1724.1423 | AI8: =IF(AB8>N_Hist,INDEX('Прогноз'!$D$19:$O$19,AB8-N_Hist),NA()) -> #N/A
B9: =SUM(INDEX('Данные'!$R$7:$AC$18,Sel_Row,0))*INDEX(Prices,Sel_Row)/1000 -> 1363.1022 | F9: =INDEX('Прогноз'!$R$7:$R$18,Sel_Row) -> 0.1104223 | J9: =INDEX('Прогноз'!$T$7:$T$18,Sel_Row) -> 0.030952109 | N9: =INDEX('Закупки'!$H$7:$H$18,Sel_Row) -> 0.95 | R9: =INDEX('Закупки'!$R$7:$R$18,Sel_Row) -> 6441 | V9: =IF(INDEX('Закупки'!$U$7:$U$18,Sel_Row)>0,INDEX('Закупки'!$V$7:$V$18,Sel_Row),"заказ не требуется") -> 59200 | AB9: 4 | AC9: =EDATE('Данные'!$F$6,AB9-1) -> 45658 | AD9: =IF(MOD(AB9-1,6)=0,INDEX({"янв","фев","мар","апр","май","июн","июл","авг","сен","окт","ноя","дек"},MONTH(AC9))&" "&RIGHT(YEAR(AC9),2),"") | AE9: =IF(AB9<=N_Hist,INDEX(Sales,Sel_Row,AB9),"") -> 11100 | AF9: =IF(AB9<=N_Hist,INDEX('Прогноз'!$D$25:$AA$36,Sel_Row,AB9),"") -> 11005.242 | AG9: =IF(AB9<N_Hist,"",IF(AB9=N_Hist,AE9,INDEX('Прогноз'!$D$7:$O$18,Sel_Row,AB9-N_Hist))) | AH9: =IF(AB9<=N_Hist,INDEX('Данные'!$F$19:$AC$19,AB9),NA()) -> 1523.9058 | AI9: =IF(AB9>N_Hist,INDEX('Прогноз'!$D$19:$O$19,AB9-N_Hist),NA()) -> #N/A
AB10: 5 | AC10: =EDATE('Данные'!$F$6,AB10-1) -> 45689 | AD10: =IF(MOD(AB10-1,6)=0,INDEX({"янв","фев","мар","апр","май","июн","июл","авг","сен","окт","ноя","дек"},MONTH(AC10))&" "&RIGHT(YEAR(AC10),2),"") | AE10: =IF(AB10<=N_Hist,INDEX(Sales,Sel_Row,AB10),"") -> 11432 | AF10: =IF(AB10<=N_Hist,INDEX('Прогноз'!$D$25:$AA$36,Sel_Row,AB10),"") -> 11456.584 | AG10: =IF(AB10<N_Hist,"",IF(AB10=N_Hist,AE10,INDEX('Прогноз'!$D$7:$O$18,Sel_Row,AB10-N_Hist))) | AH10: =IF(AB10<=N_Hist,INDEX('Данные'!$F$19:$AC$19,AB10),NA()) -> 1529.9284 | AI10: =IF(AB10>N_Hist,INDEX('Прогноз'!$D$19:$O$19,AB10-N_Hist),NA()) -> #N/A
AB11: 6 | AC11: =EDATE('Данные'!$F$6,AB11-1) -> 45717 | AD11: =IF(MOD(AB11-1,6)=0,INDEX({"янв","фев","мар","апр","май","июн","июл","авг","сен","окт","ноя","дек"},MONTH(AC11))&" "&RIGHT(YEAR(AC11),2),"") | AE11: =IF(AB11<=N_Hist,INDEX(Sales,Sel_Row,AB11),"") -> 12721 | AF11: =IF(AB11<=N_Hist,INDEX('Прогноз'!$D$25:$AA$36,Sel_Row,AB11),"") -> 13379.654 | AG11: =IF(AB11<N_Hist,"",IF(AB11=N_Hist,AE11,INDEX('Прогноз'!$D$7:$O$18,Sel_Row,AB11-N_Hist))) | AH11: =IF(AB11<=N_Hist,INDEX('Данные'!$F$19:$AC$19,AB11),NA()) -> 1641.834 | AI11: =IF(AB11>N_Hist,INDEX('Прогноз'!$D$19:$O$19,AB11-N_Hist),NA()) -> #N/A
B12: ="Спрос по месяцам: факт, модель и прогноз, "&INDEX('Данные'!$D$7:$D$18,Sel_Row) -> Спрос по месяцам: факт, модель и прогноз, шт. | R12: =INDEX('ABC-XYZ'!$K$8:$K$19,MATCH(Sel_SKU,'ABC-XYZ'!$B$8:$B$19,0)) -> 0.18045219 | AB12: 7 | AC12: =EDATE('Данные'!$F$6,AB12-1) -> 45748 | AD12: =IF(MOD(AB12-1,6)=0,INDEX({"янв","фев","мар","апр","май","июн","июл","авг","сен","окт","ноя","дек"},MONTH(AC12))&" "&RIGHT(YEAR(AC12),2),"") -> апр 25 | AE12: =IF(AB12<=N_Hist,INDEX(Sales,Sel_Row,AB12),"") -> 13131 | AF12: =IF(AB12<=N_Hist,INDEX('Прогноз'!$D$25:$AA$36,Sel_Row,AB12),"") -> 13595.451 | AG12: =IF(AB12<N_Hist,"",IF(AB12=N_Hist,AE12,INDEX('Прогноз'!$D$7:$O$18,Sel_Row,AB12-N_Hist))) | AH12: =IF(AB12<=N_Hist,INDEX('Данные'!$F$19:$AC$19,AB12),NA()) -> 1619.5751 | AI12: =IF(AB12>N_Hist,INDEX('Прогноз'!$D$19:$O$19,AB12-N_Hist),NA()) -> #N/A
AB13: 8 | AC13: =EDATE('Данные'!$F$6,AB13-1) -> 45778 | AD13: =IF(MOD(AB13-1,6)=0,INDEX({"янв","фев","мар","апр","май","июн","июл","авг","сен","окт","ноя","дек"},MONTH(AC13))&" "&RIGHT(YEAR(AC13),2),"") | AE13: =IF(AB13<=N_Hist,INDEX(Sales,Sel_Row,AB13),"") -> 15105 | AF13: =IF(AB13<=N_Hist,INDEX('Прогноз'!$D$25:$AA$36,Sel_Row,AB13),"") -> 14708.547 | AG13: =IF(AB13<N_Hist,"",IF(AB13=N_Hist,AE13,INDEX('Прогноз'!$D$7:$O$18,Sel_Row,AB13-N_Hist))) | AH13: =IF(AB13<=N_Hist,INDEX('Данные'!$F$19:$AC$19,AB13),NA()) -> 1642.2479 | AI13: =IF(AB13>N_Hist,INDEX('Прогноз'!$D$19:$O$19,AB13-N_Hist),NA()) -> #N/A
AB14: 9 | AC14: =EDATE('Данные'!$F$6,AB14-1) -> 45809 | AD14: =IF(MOD(AB14-1,6)=0,INDEX({"янв","фев","мар","апр","май","июн","июл","авг","сен","окт","ноя","дек"},MONTH(AC14))&" "&RIGHT(YEAR(AC14),2),"") | AE14: =IF(AB14<=N_Hist,INDEX(Sales,Sel_Row,AB14),"") -> 16412 | AF14: =IF(AB14<=N_Hist,INDEX('Прогноз'!$D$25:$AA$36,Sel_Row,AB14),"") -> 17302.547 | AG14: =IF(AB14<N_Hist,"",IF(AB14=N_Hist,AE14,INDEX('Прогноз'!$D$7:$O$18,Sel_Row,AB14-N_Hist))) | AH14: =IF(AB14<=N_Hist,INDEX('Данные'!$F$19:$AC$19,AB14),NA()) -> 1627.228 | AI14: =IF(AB14>N_Hist,INDEX('Прогноз'!$D$19:$O$19,AB14-N_Hist),NA()) -> #N/A
AB15: 10 | AC15: =EDATE('Данные'!$F$6,AB15-1) -> 45839 | AD15: =IF(MOD(AB15-1,6)=0,INDEX({"янв","фев","мар","апр","май","июн","июл","авг","сен","окт","ноя","дек"},MONTH(AC15))&" "&RIGHT(YEAR(AC15),2),"") | AE15: =IF(AB15<=N_Hist,INDEX(Sales,Sel_Row,AB15),"") -> 16529 | AF15: =IF(AB15<=N_Hist,INDEX('Прогноз'!$D$25:$AA$36,Sel_Row,AB15),"") -> 16335.35 | AG15: =IF(AB15<N_Hist,"",IF(AB15=N_Hist,AE15,INDEX('Прогноз'!$D$7:$O$18,Sel_Row,AB15-N_Hist))) | AH15: =IF(AB15<=N_Hist,INDEX('Данные'!$F$19:$AC$19,AB15),NA()) -> 1596.6061 | AI15: =IF(AB15>N_Hist,INDEX('Прогноз'!$D$19:$O$19,AB15-N_Hist),NA()) -> #N/A
AB16: 11 | AC16: =EDATE('Данные'!$F$6,AB16-1) -> 45870 | AD16: =IF(MOD(AB16-1,6)=0,INDEX({"янв","фев","мар","апр","май","июн","июл","авг","сен","окт","ноя","дек"},MONTH(AC16))&" "&RIGHT(YEAR(AC16),2),"") | AE16: =IF(AB16<=N_Hist,INDEX(Sales,Sel_Row,AB16),"") -> 17117 | AF16: =IF(AB16<=N_Hist,INDEX('Прогноз'!$D$25:$AA$36,Sel_Row,AB16),"") -> 16925.809 | AG16: =IF(AB16<N_Hist,"",IF(AB16=N_Hist,AE16,INDEX('Прогноз'!$D$7:$O$18,Sel_Row,AB16-N_Hist))) | AH16: =IF(AB16<=N_Hist,INDEX('Данные'!$F$19:$AC$19,AB16),NA()) -> 1655.0341 | AI16: =IF(AB16>N_Hist,INDEX('Прогноз'!$D$19:$O$19,AB16-N_Hist),NA()) -> #N/A
AB17: 12 | AC17: =EDATE('Данные'!$F$6,AB17-1) -> 45901 | AD17: =IF(MOD(AB17-1,6)=0,INDEX({"янв","фев","мар","апр","май","июн","июл","авг","сен","окт","ноя","дек"},MONTH(AC17))&" "&RIGHT(YEAR(AC17),2),"") | AE17: =IF(AB17<=N_Hist,INDEX(Sales,Sel_Row,AB17),"") -> 13727 | AF17: =IF(AB17<=N_Hist,INDEX('Прогноз'!$D$25:$AA$36,Sel_Row,AB17),"") -> 14287.839 | AG17: =IF(AB17<N_Hist,"",IF(AB17=N_Hist,AE17,INDEX('Прогноз'!$D$7:$O$18,Sel_Row,AB17-N_Hist))) | AH17: =IF(AB17<=N_Hist,INDEX('Данные'!$F$19:$AC$19,AB17),NA()) -> 1762.6766 | AI17: =IF(AB17>N_Hist,INDEX('Прогноз'!$D$19:$O$19,AB17-N_Hist),NA()) -> #N/A
AB18: 13 | AC18: =EDATE('Данные'!$F$6,AB18-1) -> 45931 | AD18: =IF(MOD(AB18-1,6)=0,INDEX({"янв","фев","мар","апр","май","июн","июл","авг","сен","окт","ноя","дек"},MONTH(AC18))&" "&RIGHT(YEAR(AC18),2),"") -> окт 25 | AE18: =IF(AB18<=N_Hist,INDEX(Sales,Sel_Row,AB18),"") -> 13066 | AF18: =IF(AB18<=N_Hist,INDEX('Прогноз'!$D$25:$AA$36,Sel_Row,AB18),"") -> 13128.514 | AG18: =IF(AB18<N_Hist,"",IF(AB18=N_Hist,AE18,INDEX('Прогноз'!$D$7:$O$18,Sel_Row,AB18-N_Hist))) | AH18: =IF(AB18<=N_Hist,INDEX('Данные'!$F$19:$AC$19,AB18),NA()) -> 1805.1704 | AI18: =IF(AB18>N_Hist,INDEX('Прогноз'!$D$19:$O$19,AB18-N_Hist),NA()) -> #N/A
AB19: 14 | AC19: =EDATE('Данные'!$F$6,AB19-1) -> 45962 | AD19: =IF(MOD(AB19-1,6)=0,INDEX({"янв","фев","мар","апр","май","июн","июл","авг","сен","окт","ноя","дек"},MONTH(AC19))&" "&RIGHT(YEAR(AC19),2),"") | AE19: =IF(AB19<=N_Hist,INDEX(Sales,Sel_Row,AB19),"") -> 11112 | AF19: =IF(AB19<=N_Hist,INDEX('Прогноз'!$D$25:$AA$36,Sel_Row,AB19),"") -> 12352.581 | AG19: =IF(AB19<N_Hist,"",IF(AB19=N_Hist,AE19,INDEX('Прогноз'!$D$7:$O$18,Sel_Row,AB19-N_Hist))) | AH19: =IF(AB19<=N_Hist,INDEX('Данные'!$F$19:$AC$19,AB19),NA()) -> 1809.762 | AI19: =IF(AB19>N_Hist,INDEX('Прогноз'!$D$19:$O$19,AB19-N_Hist),NA()) -> #N/A
AB20: 15 | AC20: =EDATE('Данные'!$F$6,AB20-1) -> 45992 | AD20: =IF(MOD(AB20-1,6)=0,INDEX({"янв","фев","мар","апр","май","июн","июл","авг","сен","окт","ноя","дек"},MONTH(AC20))&" "&RIGHT(YEAR(AC20),2),"") | AE20: =IF(AB20<=N_Hist,INDEX(Sales,Sel_Row,AB20),"") -> 12971 | AF20: =IF(AB20<=N_Hist,INDEX('Прогноз'!$D$25:$AA$36,Sel_Row,AB20),"") -> 13483.163 | AG20: =IF(AB20<N_Hist,"",IF(AB20=N_Hist,AE20,INDEX('Прогноз'!$D$7:$O$18,Sel_Row,AB20-N_Hist))) | AH20: =IF(AB20<=N_Hist,INDEX('Данные'!$F$19:$AC$19,AB20),NA()) -> 1878.6184 | AI20: =IF(AB20>N_Hist,INDEX('Прогноз'!$D$19:$O$19,AB20-N_Hist),NA()) -> #N/A
AB21: 16 | AC21: =EDATE('Данные'!$F$6,AB21-1) -> 46023 | AD21: =IF(MOD(AB21-1,6)=0,INDEX({"янв","фев","мар","апр","май","июн","июл","авг","сен","окт","ноя","дек"},MONTH(AC21))&" "&RIGHT(YEAR(AC21),2),"") | AE21: =IF(AB21<=N_Hist,INDEX(Sales,Sel_Row,AB21),"") -> 12319 | AF21: =IF(AB21<=N_Hist,INDEX('Прогноз'!$D$25:$AA$36,Sel_Row,AB21),"") -> 12433.667 | AG21: =IF(AB21<N_Hist,"",IF(AB21=N_Hist,AE21,INDEX('Прогноз'!$D$7:$O$18,Sel_Row,AB21-N_Hist))) | AH21: =IF(AB21<=N_Hist,INDEX('Данные'!$F$19:$AC$19,AB21),NA()) -> 1633.1511 | AI21: =IF(AB21>N_Hist,INDEX('Прогноз'!$D$19:$O$19,AB21-N_Hist),NA()) -> #N/A
AB22: 17 | AC22: =EDATE('Данные'!$F$6,AB22-1) -> 46054 | AD22: =IF(MOD(AB22-1,6)=0,INDEX({"янв","фев","мар","апр","май","июн","июл","авг","сен","окт","ноя","дек"},MONTH(AC22))&" "&RIGHT(YEAR(AC22),2),"") | AE22: =IF(AB22<=N_Hist,INDEX(Sales,Sel_Row,AB22),"") -> 12952 | AF22: =IF(AB22<=N_Hist,INDEX('Прогноз'!$D$25:$AA$36,Sel_Row,AB22),"") -> 12927.68 | AG22: =IF(AB22<N_Hist,"",IF(AB22=N_Hist,AE22,INDEX('Прогноз'!$D$7:$O$18,Sel_Row,AB22-N_Hist))) | AH22: =IF(AB22<=N_Hist,INDEX('Данные'!$F$19:$AC$19,AB22),NA()) -> 1702.7734 | AI22: =IF(AB22>N_Hist,INDEX('Прогноз'!$D$19:$O$19,AB22-N_Hist),NA()) -> #N/A
AB23: 18 | AC23: =EDATE('Данные'!$F$6,AB23-1) -> 46082 | AD23: =IF(MOD(AB23-1,6)=0,INDEX({"янв","фев","мар","апр","май","июн","июл","авг","сен","окт","ноя","дек"},MONTH(AC23))&" "&RIGHT(YEAR(AC23),2),"") | AE23: =IF(AB23<=N_Hist,INDEX(Sales,Sel_Row,AB23),"") -> 15824 | AF23: =IF(AB23<=N_Hist,INDEX('Прогноз'!$D$25:$AA$36,Sel_Row,AB23),"") -> 15079.495 | AG23: =IF(AB23<N_Hist,"",IF(AB23=N_Hist,AE23,INDEX('Прогноз'!$D$7:$O$18,Sel_Row,AB23-N_Hist))) | AH23: =IF(AB23<=N_Hist,INDEX('Данные'!$F$19:$AC$19,AB23),NA()) -> 1839.5814 | AI23: =IF(AB23>N_Hist,INDEX('Прогноз'!$D$19:$O$19,AB23-N_Hist),NA()) -> #N/A
AB24: 19 | AC24: =EDATE('Данные'!$F$6,AB24-1) -> 46113 | AD24: =IF(MOD(AB24-1,6)=0,INDEX({"янв","фев","мар","апр","май","июн","июл","авг","сен","окт","ноя","дек"},MONTH(AC24))&" "&RIGHT(YEAR(AC24),2),"") -> апр 26 | AE24: =IF(AB24<=N_Hist,INDEX(Sales,Sel_Row,AB24),"") -> 15834 | AF24: =IF(AB24<=N_Hist,INDEX('Прогноз'!$D$25:$AA$36,Sel_Row,AB24),"") -> 15304.613 | AG24: =IF(AB24<N_Hist,"",IF(AB24=N_Hist,AE24,INDEX('Прогноз'!$D$7:$O$18,Sel_Row,AB24-N_Hist))) | AH24: =IF(AB24<=N_Hist,INDEX('Данные'!$F$19:$AC$19,AB24),NA()) -> 1783.5634 | AI24: =IF(AB24>N_Hist,INDEX('Прогноз'!$D$19:$O$19,AB24-N_Hist),NA()) -> #N/A
... AB29: 24 | AC29: =EDATE('Данные'!$F$6,AB29-1) -> 46266 | AD29: =IF(MOD(AB29-1,6)=0,INDEX({"янв","фев","мар","апр","май","июн","июл","авг","сен","окт","ноя","дек"},MONTH(AC29))&" "&RIGHT(YEAR(AC29),2),"") | AE29: =IF(AB29<=N_Hist,INDEX(Sales,Sel_Row,AB29),"") -> 16653 | AF29: =IF(AB29<=N_Hist,INDEX('Прогноз'!$D$25:$AA$36,Sel_Row,AB29),"") -> 15994.64 | AG29: =IF(AB29<N_Hist,"",IF(AB29=N_Hist,AE29,INDEX('Прогноз'!$D$7:$O$18,Sel_Row,AB29-N_Hist))) -> 16653 | AH29: =IF(AB29<=N_Hist,INDEX('Данные'!$F$19:$AC$19,AB29),NA()) -> 1940.1856 | AI29: =IF(AB29>N_Hist,INDEX('Прогноз'!$D$19:$O$19,AB29-N_Hist),NA()) -> #N/A
B30: ABC-анализ: доля SKU в стоимости закупок за 12 мес. | N30: Закупки по сети, тыс. ₽ в месяц: факт и прогноз | AB30: 25 | AC30: =EDATE('Данные'!$F$6,AB30-1) -> 46296 | AD30: =IF(MOD(AB30-1,6)=0,INDEX({"янв","фев","мар","апр","май","июн","июл","авг","сен","окт","ноя","дек"},MONTH(AC30))&" "&RIGHT(YEAR(AC30),2),"") -> окт 26 | AE30: =IF(AB30<=N_Hist,INDEX(Sales,Sel_Row,AB30),"") | AF30: =IF(AB30<=N_Hist,INDEX('Прогноз'!$D$25:$AA$36,Sel_Row,AB30),"") | AG30: =IF(AB30<N_Hist,"",IF(AB30=N_Hist,AE30,INDEX('Прогноз'!$D$7:$O$18,Sel_Row,AB30-N_Hist))) -> 14681.366 | AH30: =IF(AB30<=N_Hist,INDEX('Данные'!$F$19:$AC$19,AB30),NA()) -> #N/A | AI30: =IF(AB30>N_Hist,INDEX('Прогноз'!$D$19:$O$19,AB30-N_Hist),NA()) -> 1977.4313
AB31: 26 | AC31: =EDATE('Данные'!$F$6,AB31-1) -> 46327 | AD31: =IF(MOD(AB31-1,6)=0,INDEX({"янв","фев","мар","апр","май","июн","июл","авг","сен","окт","ноя","дек"},MONTH(AC31))&" "&RIGHT(YEAR(AC31),2),"") | AE31: =IF(AB31<=N_Hist,INDEX(Sales,Sel_Row,AB31),"") | AF31: =IF(AB31<=N_Hist,INDEX('Прогноз'!$D$25:$AA$36,Sel_Row,AB31),"") | AG31: =IF(AB31<N_Hist,"",IF(AB31=N_Hist,AE31,INDEX('Прогноз'!$D$7:$O$18,Sel_Row,AB31-N_Hist))) -> 13799.393 | AH31: =IF(AB31<=N_Hist,INDEX('Данные'!$F$19:$AC$19,AB31),NA()) -> #N/A | AI31: =IF(AB31>N_Hist,INDEX('Прогноз'!$D$19:$O$19,AB31-N_Hist),NA()) -> 1993.1785
AB32: 27 | AC32: =EDATE('Данные'!$F$6,AB32-1) -> 46357 | AD32: =IF(MOD(AB32-1,6)=0,INDEX({"янв","фев","мар","апр","май","июн","июл","авг","сен","окт","ноя","дек"},MONTH(AC32))&" "&RIGHT(YEAR(AC32),2),"") | AE32: =IF(AB32<=N_Hist,INDEX(Sales,Sel_Row,AB32),"") | AF32: =IF(AB32<=N_Hist,INDEX('Прогноз'!$D$25:$AA$36,Sel_Row,AB32),"") | AG32: =IF(AB32<N_Hist,"",IF(AB32=N_Hist,AE32,INDEX('Прогноз'!$D$7:$O$18,Sel_Row,AB32-N_Hist))) -> 15047.131 | AH32: =IF(AB32<=N_Hist,INDEX('Данные'!$F$19:$AC$19,AB32),NA()) -> #N/A | AI32: =IF(AB32>N_Hist,INDEX('Прогноз'!$D$19:$O$19,AB32-N_Hist),NA()) -> 2018.2219
AB33: 28 | AC33: =EDATE('Данные'!$F$6,AB33-1) -> 46388 | AD33: =IF(MOD(AB33-1,6)=0,INDEX({"янв","фев","мар","апр","май","июн","июл","авг","сен","окт","ноя","дек"},MONTH(AC33))&" "&RIGHT(YEAR(AC33),2),"") | AE33: =IF(AB33<=N_Hist,INDEX(Sales,Sel_Row,AB33),"") | AF33: =IF(AB33<=N_Hist,INDEX('Прогноз'!$D$25:$AA$36,Sel_Row,AB33),"") | AG33: =IF(AB33<N_Hist,"",IF(AB33=N_Hist,AE33,INDEX('Прогноз'!$D$7:$O$18,Sel_Row,AB33-N_Hist))) -> 13862.093 | AH33: =IF(AB33<=N_Hist,INDEX('Данные'!$F$19:$AC$19,AB33),NA()) -> #N/A | AI33: =IF(AB33>N_Hist,INDEX('Прогноз'!$D$19:$O$19,AB33-N_Hist),NA()) -> 1774.5918
AB34: 29 | AC34: =EDATE('Данные'!$F$6,AB34-1) -> 46419 | AD34: =IF(MOD(AB34-1,6)=0,INDEX({"янв","фев","мар","апр","май","июн","июл","авг","сен","окт","ноя","дек"},MONTH(AC34))&" "&RIGHT(YEAR(AC34),2),"") | AE34: =IF(AB34<=N_Hist,INDEX(Sales,Sel_Row,AB34),"") | AF34: =IF(AB34<=N_Hist,INDEX('Прогноз'!$D$25:$AA$36,Sel_Row,AB34),"") | AG34: =IF(AB34<N_Hist,"",IF(AB34=N_Hist,AE34,INDEX('Прогноз'!$D$7:$O$18,Sel_Row,AB34-N_Hist))) -> 14398.775 | AH34: =IF(AB34<=N_Hist,INDEX('Данные'!$F$19:$AC$19,AB34),NA()) -> #N/A | AI34: =IF(AB34>N_Hist,INDEX('Прогноз'!$D$19:$O$19,AB34-N_Hist),NA()) -> 1810.128
AB35: 30 | AC35: =EDATE('Данные'!$F$6,AB35-1) -> 46447 | AD35: =IF(MOD(AB35-1,6)=0,INDEX({"янв","фев","мар","апр","май","июн","июл","авг","сен","окт","ноя","дек"},MONTH(AC35))&" "&RIGHT(YEAR(AC35),2),"") | AE35: =IF(AB35<=N_Hist,INDEX(Sales,Sel_Row,AB35),"") | AF35: =IF(AB35<=N_Hist,INDEX('Прогноз'!$D$25:$AA$36,Sel_Row,AB35),"") | AG35: =IF(AB35<N_Hist,"",IF(AB35=N_Hist,AE35,INDEX('Прогноз'!$D$7:$O$18,Sel_Row,AB35-N_Hist))) -> 16779.335 | AH35: =IF(AB35<=N_Hist,INDEX('Данные'!$F$19:$AC$19,AB35),NA()) -> #N/A | AI35: =IF(AB35>N_Hist,INDEX('Прогноз'!$D$19:$O$19,AB35-N_Hist),NA()) -> 1943.9211
AB36: 31 | AC36: =EDATE('Данные'!$F$6,AB36-1) -> 46478 | AD36: =IF(MOD(AB36-1,6)=0,INDEX({"янв","фев","мар","апр","май","июн","июл","авг","сен","окт","ноя","дек"},MONTH(AC36))&" "&RIGHT(YEAR(AC36),2),"") -> апр 27 | AE36: =IF(AB36<=N_Hist,INDEX(Sales,Sel_Row,AB36),"") | AF36: =IF(AB36<=N_Hist,INDEX('Прогноз'!$D$25:$AA$36,Sel_Row,AB36),"") | AG36: =IF(AB36<N_Hist,"",IF(AB36=N_Hist,AE36,INDEX('Прогноз'!$D$7:$O$18,Sel_Row,AB36-N_Hist))) -> 17013.775 | AH36: =IF(AB36<=N_Hist,INDEX('Данные'!$F$19:$AC$19,AB36),NA()) -> #N/A | AI36: =IF(AB36>N_Hist,INDEX('Прогноз'!$D$19:$O$19,AB36-N_Hist),NA()) -> 1903.4562
AB37: 32 | AC37: =EDATE('Данные'!$F$6,AB37-1) -> 46508 | AD37: =IF(MOD(AB37-1,6)=0,INDEX({"янв","фев","мар","апр","май","июн","июл","авг","сен","окт","ноя","дек"},MONTH(AC37))&" "&RIGHT(YEAR(AC37),2),"") | AE37: =IF(AB37<=N_Hist,INDEX(Sales,Sel_Row,AB37),"") | AF37: =IF(AB37<=N_Hist,INDEX('Прогноз'!$D$25:$AA$36,Sel_Row,AB37),"") | AG37: =IF(AB37<N_Hist,"",IF(AB37=N_Hist,AE37,INDEX('Прогноз'!$D$7:$O$18,Sel_Row,AB37-N_Hist))) -> 18368.396 | AH37: =IF(AB37<=N_Hist,INDEX('Данные'!$F$19:$AC$19,AB37),NA()) -> #N/A | AI37: =IF(AB37>N_Hist,INDEX('Прогноз'!$D$19:$O$19,AB37-N_Hist),NA()) -> 1899.0756
AB38: 33 | AC38: =EDATE('Данные'!$F$6,AB38-1) -> 46539 | AD38: =IF(MOD(AB38-1,6)=0,INDEX({"янв","фев","мар","апр","май","июн","июл","авг","сен","окт","ноя","дек"},MONTH(AC38))&" "&RIGHT(YEAR(AC38),2),"") | AE38: =IF(AB38<=N_Hist,INDEX(Sales,Sel_Row,AB38),"") | AF38: =IF(AB38<=N_Hist,INDEX('Прогноз'!$D$25:$AA$36,Sel_Row,AB38),"") | AG38: =IF(AB38<N_Hist,"",IF(AB38=N_Hist,AE38,INDEX('Прогноз'!$D$7:$O$18,Sel_Row,AB38-N_Hist))) -> 21563.668 | AH38: =IF(AB38<=N_Hist,INDEX('Данные'!$F$19:$AC$19,AB38),NA()) -> #N/A | AI38: =IF(AB38>N_Hist,INDEX('Прогноз'!$D$19:$O$19,AB38-N_Hist),NA()) -> 1891.6757
AB39: 34 | AC39: =EDATE('Данные'!$F$6,AB39-1) -> 46569 | AD39: =IF(MOD(AB39-1,6)=0,INDEX({"янв","фев","мар","апр","май","июн","июл","авг","сен","окт","ноя","дек"},MONTH(AC39))&" "&RIGHT(YEAR(AC39),2),"") | AE39: =IF(AB39<=N_Hist,INDEX(Sales,Sel_Row,AB39),"") | AF39: =IF(AB39<=N_Hist,INDEX('Прогноз'!$D$25:$AA$36,Sel_Row,AB39),"") | AG39: =IF(AB39<N_Hist,"",IF(AB39=N_Hist,AE39,INDEX('Прогноз'!$D$7:$O$18,Sel_Row,AB39-N_Hist))) -> 20317.418 | AH39: =IF(AB39<=N_Hist,INDEX('Данные'!$F$19:$AC$19,AB39),NA()) -> #N/A | AI39: =IF(AB39>N_Hist,INDEX('Прогноз'!$D$19:$O$19,AB39-N_Hist),NA()) -> 1865.6246
AB40: 35 | AC40: =EDATE('Данные'!$F$6,AB40-1) -> 46600 | AD40: =IF(MOD(AB40-1,6)=0,INDEX({"янв","фев","мар","апр","май","июн","июл","авг","сен","окт","ноя","дек"},MONTH(AC40))&" "&RIGHT(YEAR(AC40),2),"") | AE40: =IF(AB40<=N_Hist,INDEX(Sales,Sel_Row,AB40),"") | AF40: =IF(AB40<=N_Hist,INDEX('Прогноз'!$D$25:$AA$36,Sel_Row,AB40),"") | AG40: =IF(AB40<N_Hist,"",IF(AB40=N_Hist,AE40,INDEX('Прогноз'!$D$7:$O$18,Sel_Row,AB40-N_Hist))) -> 21010.327 | AH40: =IF(AB40<=N_Hist,INDEX('Данные'!$F$19:$AC$19,AB40),NA()) -> #N/A | AI40: =IF(AB40>N_Hist,INDEX('Прогноз'!$D$19:$O$19,AB40-N_Hist),NA()) -> 1919.6251
AB41: 36 | AC41: =EDATE('Данные'!$F$6,AB41-1) -> 46631 | AD41: =IF(MOD(AB41-1,6)=0,INDEX({"янв","фев","мар","апр","май","июн","июл","авг","сен","окт","ноя","дек"},MONTH(AC41))&" "&RIGHT(YEAR(AC41),2),"") | AE41: =IF(AB41<=N_Hist,INDEX(Sales,Sel_Row,AB41),"") | AF41: =IF(AB41<=N_Hist,INDEX('Прогноз'!$D$25:$AA$36,Sel_Row,AB41),"") | AG41: =IF(AB41<N_Hist,"",IF(AB41=N_Hist,AE41,INDEX('Прогноз'!$D$7:$O$18,Sel_Row,AB41-N_Hist))) -> 17701.441 | AH41: =IF(AB41<=N_Hist,INDEX('Данные'!$F$19:$AC$19,AB41),NA()) -> #N/A | AI41: =IF(AB41>N_Hist,INDEX('Прогноз'!$D$19:$O$19,AB41-N_Hist),NA()) -> 2064.6275
AB42: Линия начала прогноза
AC43: =AC29 -> 46266 | AE43: 0
AC44: =AC29 -> 46266 | AE44: =MAX(AE6:AE41,AG6:AG41)*1.06 -> 22857.488
B47: ="Прогноз закупок на 12 мес.: "&FIXED('Прогноз'!S19/1000,1)&" млн ₽ · к заказу сейчас: "&'Закупки'!T19&" SKU на "&FIXED('Закупки'!V19/1000,0)&" тыс. ₽ · "&COUNTIF('ABC-XYZ'!G8:G19,"A")&" SKU класса A дают "&FIXED(SUMIF('ABC-XYZ'!G8:G19,"A",'ABC-XYZ'!E8:E19)*100,0)&" % стоимости закупок" -> Прогноз закупок на 12 мес.: 23,1 млн ₽ · к заказу сейчас: 6 SKU на 639 тыс. ₽ · 4 SKU класса A дают 78 % стоимости закупок
B48: Как пользоваться: выберите код SKU в жёлтой ячейке — карточки и графики пересчитаются. Данные — лист «Данные», параметры — жёлтые ячейки на листах.

Sheet Данные
A1: Исходные данные: расход по SKU, ед. в месяц
A2: Сеть кофеен «Зерно и пар» (4 точки) · факт за октябрь 2024 — сентябрь 2026 · данные синтетические, сгенерированы для демонстрации модели
A3: Обозначения: синий — исходные данные и параметры (ввод), чёрный — формулы, зелёный — ссылки на другие листы, жёлтая заливка — ячейки для ввода
E4: период t | F4: 1 | G4: =F4+1 -> 2 | H4: =G4+1 -> 3 | I4: =H4+1 -> 4 | J4: =I4+1 -> 5 | K4: =J4+1 -> 6 | L4: =K4+1 -> 7 | M4: =L4+1 -> 8 | N4: =M4+1 -> 9 | ... AC4: =AB4+1 -> 24
E5: месяц № | F5: =MONTH(F6) -> 10 | G5: =MONTH(G6) -> 11 | H5: =MONTH(H6) -> 12 | I5: =MONTH(I6) -> 1 | J5: =MONTH(J6) -> 2 | K5: =MONTH(K6) -> 3 | L5: =MONTH(L6) -> 4 | M5: =MONTH(M6) -> 5 | ... AC5: =MONTH(AC6) -> 9
A6: Код | B6: Наименование | C6: Категория | D6: Ед. | E6: Цена, ₽/ед. | F6: 45566 | G6: 45597 | H6: 45627 | I6: 45658 | J6: 45689 | K6: 45717 | L6: 45748 | M6: 45778 | N6: 45809 | O6: 45839 | P6: 45870 | Q6: 45901 | R6: 45931 | S6: 45962 | T6: 45992 | U6: 46023 | V6: 46054 | W6: 46082 | X6: 46113 | Y6: 46143 | Z6: 46174 | AA6: 46204 | AB6: 46235 | AC6: 46266 | AD6: Динамика 24 мес.
A7: ESP-01 | B7: Зерно «Эспрессо-бленд» | C7: Кофе | D7: кг | E7: 1680 | F7: 363 | G7: 382 | H7: 370 | I7: 350 | J7: 358 | K7: 366 | L7: 365 | M7: 367 | N7: 348 | O7: 339 | P7: 360 | Q7: 394 | R7: 400 | S7: 406 | T7: 427 | U7: 350 | V7: 370 | W7: 405 | X7: 394 | Y7: 372 | Z7: 371 | AA7: 376 | AB7: 374 | AC7: 414
A8: FLT-02 | B8: Зерно «Эфиопия Иргачеффе», фильтр | C8: Кофе | D8: кг | E8: 2450 | F8: 34 | G8: 36 | H8: 32 | I8: 37 | J8: 32 | K8: 36 | L8: 34 | M8: 43 | N8: 44 | O8: 46 | P8: 40 | Q8: 42 | R8: 38 | S8: 37 | T8: 41 | U8: 43 | V8: 42 | W8: 41 | X8: 42 | Y8: 52 | Z8: 51 | AA8: 54 | AB8: 59 | AC8: 45
A9: MLK-03 | B9: Молоко 3,2 % | C9: Молочное | D9: л | E9: 92 | F9: 3875 | G9: 4025 | H9: 3947 | I9: 3220 | J9: 3180 | K9: 3591 | L9: 3374 | M9: 3380 | N9: 3225 | O9: 3212 | P9: 3433 | Q9: 3512 | R9: 3570 | S9: 3619 | T9: 3779 | U9: 3123 | V9: 3343 | W9: 3858 | X9: 3561 | Y9: 3629 | Z9: 3299 | AA9: 3394 | AB9: 3229 | AC9: 3707
A10: OAT-04 | B10: Напиток овсяный «Бариста» | C10: Молочное | D10: л | E10: 245 | F10: 425 | G10: 371 | H10: 426 | I10: 384 | J10: 387 | K10: 398 | L10: 454 | M10: 426 | N10: 475 | O10: 417 | P10: 453 | Q10: 501 | R10: 516 | S10: 485 | T10: 520 | U10: 502 | V10: 505 | W10: 586 | X10: 592 | Y10: 521 | Z10: 529 | AA10: 549 | AB10: 619 | AC10: 749
A11: SYR-05 | B11: Сироп «Ваниль», 1 л | C11: Сиропы | D11: бут. | E11: 540 | F11: 36 | G11: 38 | H11: 35 | I11: 34 | J11: 32 | K11: 41 | L11: 46 | M11: 42 | N11: 52 | O11: 46 | P11: 43 | Q11: 43 | R11: 42 | S11: 44 | T11: 38 | U11: 31 | V11: 42 | W11: 40 | X11: 44 | Y11: 55 | Z11: 41 | AA11: 51 | AB11: 51 | AC11: 45
A12: SYR-06 | B12: Сироп «Тыквенный пряный», 1 л | C12: Сиропы | D12: бут. | E12: 610 | F12: 80 | G12: 64 | H12: 48 | I12: 10 | J12: 5 | K12: 4 | L12: 2 | M12: 3 | N12: 2 | O12: 3 | P12: 7 | Q12: 41 | R12: 86 | S12: 62 | T12: 56 | U12: 13 | V12: 5 | W12: 4 | X12: 2 | Y12: 2 | Z12: 3 | AA12: 3 | AB12: 11 | AC12: 56
A13: CUP-07 | B13: Стакан бумажный 300 мл | C13: Упаковка | D13: шт. | E13: 7.4 | F13: 11612 | G13: 11985 | H13: 12360 | I13: 11100 | J13: 11432 | K13: 12721 | L13: 13131 | M13: 15105 | N13: 16412 | O13: 16529 | P13: 17117 | Q13: 13727 | R13: 13066 | S13: 11112 | T13: 12971 | U13: 12319 | V13: 12952 | W13: 15824 | X13: 15834 | Y13: 16103 | Z13: 20454 | AA13: 18132 | AB13: 18783 | AC13: 16653
A14: LID-08 | B14: Крышка для стакана Ø 90 мм | C14: Упаковка | D14: шт. | E14: 3.1 | F14: 11241 | G14: 11615 | H14: 11373 | I14: 10798 | J14: 10726 | K14: 13046 | L14: 12807 | M14: 13539 | N14: 17162 | O14: 16295 | P14: 16003 | Q14: 15618 | R14: 13680 | S14: 12302 | T14: 12970 | U14: 11135 | V14: 12676 | W14: 14218 | X14: 15278 | Y14: 16118 | Z14: 14581 | AA14: 18835 | AB14: 17672 | AC14: 15324
A15: CRS-09 | B15: Круассан сливочный, заморозка | C15: Выпечка | D15: шт. | E15: 54 | F15: 5294 | G15: 5279 | H15: 5479 | I15: 4243 | J15: 4447 | K15: 5092 | L15: 4989 | M15: 4875 | N15: 4651 | O15: 4575 | P15: 4658 | Q15: 5262 | R15: 5411 | S15: 5725 | T15: 5545 | U15: 4987 | V15: 5181 | W15: 5272 | X15: 5091 | Y15: 5174 | Z15: 5053 | AA15: 4456 | AB15: 4893 | AC15: 5494
A16: TEA-10 | B16: Чай зелёный «Сенча», 500 г | C16: Чай и какао | D16: уп. | E16: 1450 | F16: 25 | G16: 29 | H16: 29 | I16: 29 | J16: 27 | K16: 25 | L16: 22 | M16: 18 | N16: 17 | O16: 15 | P16: 16 | Q16: 21 | R16: 25 | S16: 31 | T16: 33 | U16: 39 | V16: 37 | W16: 32 | X16: 29 | Y16: 18 | Z16: 18 | AA16: 17 | AB16: 18 | AC16: 28
A17: ICE-11 | B17: Лёд пищевой, кубики | C17: Прочее | D17: кг | E17: 34 | F17: 325 | G17: 196 | H17: 173 | I17: 135 | J17: 147 | K17: 244 | L17: 350 | M17: 525 | N17: 862 | O17: 1052 | P17: 974 | Q17: 476 | R17: 270 | S17: 196 | T17: 182 | U17: 147 | V17: 197 | W17: 311 | X17: 421 | Y17: 571 | Z17: 970 | AA17: 936 | AB17: 813 | AC17: 566
A18: CHO-12 | B18: Шоколад для горячего шоколада | C18: Чай и какао | D18: кг | E18: 1150 | F18: 29 | G18: 32 | H18: 33 | I18: 34 | J18: 35 | K18: 28 | L18: 22 | M18: 17 | N18: 11 | O18: 11 | P18: 12 | Q18: 20 | R18: 29 | S18: 37 | T18: 36 | U18: 42 | V18: 40 | W18: 29 | X18: 22 | Y18: 14 | Z18: 14 | AA18: 11 | AB18: 13 | AC18: 21
A19: Итого стоимость закупок, тыс. ₽ | F19: =SUMPRODUCT(F7:F18,Prices)/1000 -> 1709.3069 | G19: =SUMPRODUCT(G7:G18,Prices)/1000 -> 1745.9905 | H19: =SUMPRODUCT(H7:H18,Prices)/1000 -> 1724.1423 | I19: =SUMPRODUCT(I7:I18,Prices)/1000 -> 1523.9058 | J19: =SUMPRODUCT(J7:J18,Prices)/1000 -> 1529.9284 | K19: =SUMPRODUCT(K7:K18,Prices)/1000 -> 1641.834 | L19: =SUMPRODUCT(L7:L18,Prices)/1000 -> 1619.5751 | M19: =SUMPRODUCT(M7:M18,Prices)/1000 -> 1642.2479 | ... AC19: =SUMPRODUCT(AC7:AC18,Prices)/1000 -> 1940.1856
A21: Источник: выгрузка из учётной системы (здесь — синтетический ряд: тренд × сезонность × случайный шум, seed 2026). Чтобы обновить модель, замените значения в синих ячейках — все остальные листы пересчитаются.

Sheet Сезонность
A1: Сезонные индексы спроса
A2: Индекс месяца = СРЗНАЧЕСЛИМН(факт ÷ базовый тренд; месяц) ÷ среднее отношение за 24 мес. 1,20 — спрос на 20 % выше уровня тренда. Расчёт по шагам — ниже таблицы.
A3: Обозначения: синий — исходные данные и параметры (ввод), чёрный — формулы, зелёный — ссылки на другие листы, жёлтая заливка — ячейки для ввода
C5: месяц № | D5: 1 | E5: 2 | F5: 3 | G5: 4 | H5: 5 | I5: 6 | J5: 7 | K5: 8 | L5: 9 | M5: 10 | N5: 11 | O5: 12
A6: Код | B6: Наименование | C6: Ед. | D6: янв | E6: фев | F6: мар | G6: апр | H6: май | I6: июн | J6: июл | K6: авг | L6: сен | M6: окт | N6: ноя | O6: дек | P6: Пиковый месяц | Q6: Размах, max ÷ min | R6: Контроль: среднее
A7: ='Данные'!A7 -> ESP-01 | B7: ='Данные'!B7 -> Зерно «Эспрессо-бленд» | C7: ='Данные'!D7 -> кг | D7: =AVERAGEIFS($D23:$AA23,MonthNo,D$5)/AVERAGE($D23:$AA23) -> 0.94469575 | E7: =AVERAGEIFS($D23:$AA23,MonthNo,E$5)/AVERAGE($D23:$AA23) -> 0.9765011 | F7: =AVERAGEIFS($D23:$AA23,MonthNo,F$5)/AVERAGE($D23:$AA23) -> 1.0273209 | G7: =AVERAGEIFS($D23:$AA23,MonthNo,G$5)/AVERAGE($D23:$AA23) -> 1.0062038 | H7: =AVERAGEIFS($D23:$AA23,MonthNo,H$5)/AVERAGE($D23:$AA23) -> 0.97535494 | I7: =AVERAGEIFS($D23:$AA23,MonthNo,I$5)/AVERAGE($D23:$AA23) -> 0.94303859 | J7: =AVERAGEIFS($D23:$AA23,MonthNo,J$5)/AVERAGE($D23:$AA23) -> 0.932142 | K7: =AVERAGEIFS($D23:$AA23,MonthNo,K$5)/AVERAGE($D23:$AA23) -> 0.95278676 | ... O7: =AVERAGEIFS($D23:$AA23,MonthNo,O$5)/AVERAGE($D23:$AA23) -> 1.0790381 | P7: =INDEX($D$6:$O$6,MATCH(MAX(D7:O7),D7:O7,0)) -> дек | Q7: =MAX(D7:O7)/MIN(D7:O7) -> 1.1575898 | R7: =AVERAGE(D7:O7) -> 1
A8: ='Данные'!A8 -> FLT-02 | B8: ='Данные'!B8 -> Зерно «Эфиопия Иргачеффе», фильтр | C8: ='Данные'!D8 -> кг | D8: =AVERAGEIFS($D24:$AA24,MonthNo,D$5)/AVERAGE($D24:$AA24) -> 1.0001629 | E8: =AVERAGEIFS($D24:$AA24,MonthNo,E$5)/AVERAGE($D24:$AA24) -> 0.90597464 | F8: =AVERAGEIFS($D24:$AA24,MonthNo,F$5)/AVERAGE($D24:$AA24) -> 0.9344832 | G8: =AVERAGEIFS($D24:$AA24,MonthNo,G$5)/AVERAGE($D24:$AA24) -> 0.90539062 | H8: =AVERAGEIFS($D24:$AA24,MonthNo,H$5)/AVERAGE($D24:$AA24) -> 1.1162624 | I8: =AVERAGEIFS($D24:$AA24,MonthNo,I$5)/AVERAGE($D24:$AA24) -> 1.1022067 | J8: =AVERAGEIFS($D24:$AA24,MonthNo,J$5)/AVERAGE($D24:$AA24) -> 1.1431237 | K8: =AVERAGEIFS($D24:$AA24,MonthNo,K$5)/AVERAGE($D24:$AA24) -> 1.1053753 | ... O8: =AVERAGEIFS($D24:$AA24,MonthNo,O$5)/AVERAGE($D24:$AA24) -> 0.92283503 | P8: =INDEX($D$6:$O$6,MATCH(MAX(D8:O8),D8:O8,0)) -> июл | Q8: =MAX(D8:O8)/MIN(D8:O8) -> 1.2625751 | R8: =AVERAGE(D8:O8) -> 1
A9: ='Данные'!A9 -> MLK-03 | B9: ='Данные'!B9 -> Молоко 3,2 % | C9: ='Данные'!D9 -> л | D9: =AVERAGEIFS($D25:$AA25,MonthNo,D$5)/AVERAGE($D25:$AA25) -> 0.90584061 | E9: =AVERAGEIFS($D25:$AA25,MonthNo,E$5)/AVERAGE($D25:$AA25) -> 0.9312321 | F9: =AVERAGEIFS($D25:$AA25,MonthNo,F$5)/AVERAGE($D25:$AA25) -> 1.0631215 | G9: =AVERAGEIFS($D25:$AA25,MonthNo,G$5)/AVERAGE($D25:$AA25) -> 0.98950898 | H9: =AVERAGEIFS($D25:$AA25,MonthNo,H$5)/AVERAGE($D25:$AA25) -> 0.99978215 | I9: =AVERAGEIFS($D25:$AA25,MonthNo,I$5)/AVERAGE($D25:$AA25) -> 0.9303846 | J9: =AVERAGEIFS($D25:$AA25,MonthNo,J$5)/AVERAGE($D25:$AA25) -> 0.94179815 | K9: =AVERAGEIFS($D25:$AA25,MonthNo,K$5)/AVERAGE($D25:$AA25) -> 0.94961421 | ... O9: =AVERAGEIFS($D25:$AA25,MonthNo,O$5)/AVERAGE($D25:$AA25) -> 1.1036577 | P9: =INDEX($D$6:$O$6,MATCH(MAX(D9:O9),D9:O9,0)) -> дек | Q9: =MAX(D9:O9)/MIN(D9:O9) -> 1.2183795 | R9: =AVERAGE(D9:O9) -> 1
A10: ='Данные'!A10 -> OAT-04 | B10: ='Данные'!B10 -> Напиток овсяный «Бариста» | C10: ='Данные'!D10 -> л | D10: =AVERAGEIFS($D26:$AA26,MonthNo,D$5)/AVERAGE($D26:$AA26) -> 0.95456965 | E10: =AVERAGEIFS($D26:$AA26,MonthNo,E$5)/AVERAGE($D26:$AA26) -> 0.93885574 | F10: =AVERAGEIFS($D26:$AA26,MonthNo,F$5)/AVERAGE($D26:$AA26) -> 1.004142 | G10: =AVERAGEIFS($D26:$AA26,MonthNo,G$5)/AVERAGE($D26:$AA26) -> 1.0522312 | H10: =AVERAGEIFS($D26:$AA26,MonthNo,H$5)/AVERAGE($D26:$AA26) -> 0.9358526 | I10: =AVERAGEIFS($D26:$AA26,MonthNo,I$5)/AVERAGE($D26:$AA26) -> 0.97681775 | J10: =AVERAGEIFS($D26:$AA26,MonthNo,J$5)/AVERAGE($D26:$AA26) -> 0.91078177 | K10: =AVERAGEIFS($D26:$AA26,MonthNo,K$5)/AVERAGE($D26:$AA26) -> 0.98803147 | ... O10: =AVERAGEIFS($D26:$AA26,MonthNo,O$5)/AVERAGE($D26:$AA26) -> 1.0491783 | P10: =INDEX($D$6:$O$6,MATCH(MAX(D10:O10),D10:O10,0)) -> сен | Q10: =MAX(D10:O10)/MIN(D10:O10) -> 1.233405 | R10: =AVERAGE(D10:O10) -> 1
A11: ='Данные'!A11 -> SYR-05 | B11: ='Данные'!B11 -> Сироп «Ваниль», 1 л | C11: ='Данные'!D11 -> бут. | D11: =AVERAGEIFS($D27:$AA27,MonthNo,D$5)/AVERAGE($D27:$AA27) -> 0.78574654 | E11: =AVERAGEIFS($D27:$AA27,MonthNo,E$5)/AVERAGE($D27:$AA27) -> 0.88339217 | F11: =AVERAGEIFS($D27:$AA27,MonthNo,F$5)/AVERAGE($D27:$AA27) -> 0.96630186 | G11: =AVERAGEIFS($D27:$AA27,MonthNo,G$5)/AVERAGE($D27:$AA27) -> 1.0676768 | H11: =AVERAGEIFS($D27:$AA27,MonthNo,H$5)/AVERAGE($D27:$AA27) -> 1.1376368 | I11: =AVERAGEIFS($D27:$AA27,MonthNo,I$5)/AVERAGE($D27:$AA27) -> 1.0940014 | J11: =AVERAGEIFS($D27:$AA27,MonthNo,J$5)/AVERAGE($D27:$AA27) -> 1.1276981 | K11: =AVERAGEIFS($D27:$AA27,MonthNo,K$5)/AVERAGE($D27:$AA27) -> 1.0852404 | ... O11: =AVERAGEIFS($D27:$AA27,MonthNo,O$5)/AVERAGE($D27:$AA27) -> 0.88501038 | P11: =INDEX($D$6:$O$6,MATCH(MAX(D11:O11),D11:O11,0)) -> май | Q11: =MAX(D11:O11)/MIN(D11:O11) -> 1.447842 | R11: =AVERAGE(D11:O11) -> 1
A12: ='Данные'!A12 -> SYR-06 | B12: ='Данные'!B12 -> Сироп «Тыквенный пряный», 1 л | C12: ='Данные'!D12 -> бут. | D12: =AVERAGEIFS($D28:$AA28,MonthNo,D$5)/AVERAGE($D28:$AA28) -> 0.48093319 | E12: =AVERAGEIFS($D28:$AA28,MonthNo,E$5)/AVERAGE($D28:$AA28) -> 0.20864188 | F12: =AVERAGEIFS($D28:$AA28,MonthNo,F$5)/AVERAGE($D28:$AA28) -> 0.16523974 | G12: =AVERAGEIFS($D28:$AA28,MonthNo,G$5)/AVERAGE($D28:$AA28) -> 0.081799663 | H12: =AVERAGEIFS($D28:$AA28,MonthNo,H$5)/AVERAGE($D28:$AA28) -> 0.10243053 | I12: =AVERAGEIFS($D28:$AA28,MonthNo,I$5)/AVERAGE($D28:$AA28) -> 0.099096052 | J12: =AVERAGEIFS($D28:$AA28,MonthNo,J$5)/AVERAGE($D28:$AA28) -> 0.11915135 | K12: =AVERAGEIFS($D28:$AA28,MonthNo,K$5)/AVERAGE($D28:$AA28) -> 0.34956488 | ... O12: =AVERAGEIFS($D28:$AA28,MonthNo,O$5)/AVERAGE($D28:$AA28) -> 2.204258 | P12: =INDEX($D$6:$O$6,MATCH(MAX(D12:O12),D12:O12,0)) -> окт | Q12: =MAX(D12:O12)/MIN(D12:O12) -> 44.028755 | R12: =AVERAGE(D12:O12) -> 1
A13: ='Данные'!A13 -> CUP-07 | B13: ='Данные'!B13 -> Стакан бумажный 300 мл | C13: ='Данные'!D13 -> шт. | D13: =AVERAGEIFS($D29:$AA29,MonthNo,D$5)/AVERAGE($D29:$AA29) -> 0.83319533 | E13: =AVERAGEIFS($D29:$AA29,MonthNo,E$5)/AVERAGE($D29:$AA29) -> 0.85808471 | F13: =AVERAGEIFS($D29:$AA29,MonthNo,F$5)/AVERAGE($D29:$AA29) -> 0.99151075 | G13: =AVERAGEIFS($D29:$AA29,MonthNo,G$5)/AVERAGE($D29:$AA29) -> 0.99694768 | H13: =AVERAGEIFS($D29:$AA29,MonthNo,H$5)/AVERAGE($D29:$AA29) -> 1.0673882 | I13: =AVERAGEIFS($D29:$AA29,MonthNo,I$5)/AVERAGE($D29:$AA29) -> 1.2427483 | J13: =AVERAGEIFS($D29:$AA29,MonthNo,J$5)/AVERAGE($D29:$AA29) -> 1.1613627 | K13: =AVERAGEIFS($D29:$AA29,MonthNo,K$5)/AVERAGE($D29:$AA29) -> 1.1912419 | ... O13: =AVERAGEIFS($D29:$AA29,MonthNo,O$5)/AVERAGE($D29:$AA29) -> 0.91225692 | P13: =INDEX($D$6:$O$6,MATCH(MAX(D13:O13),D13:O13,0)) -> июн | Q13: =MAX(D13:O13)/MIN(D13:O13) -> 1.491545 | R13: =AVERAGE(D13:O13) -> 1
A14: ='Данные'!A14 -> LID-08 | B14: ='Данные'!B14 -> Крышка для стакана Ø 90 мм | C14: ='Данные'!D14 -> шт. | D14: =AVERAGEIFS($D30:$AA30,MonthNo,D$5)/AVERAGE($D30:$AA30) -> 0.80326681 | E14: =AVERAGEIFS($D30:$AA30,MonthNo,E$5)/AVERAGE($D30:$AA30) -> 0.84822455 | F14: =AVERAGEIFS($D30:$AA30,MonthNo,F$5)/AVERAGE($D30:$AA30) -> 0.98275068 | G14: =AVERAGEIFS($D30:$AA30,MonthNo,G$5)/AVERAGE($D30:$AA30) -> 1.003058 | H14: =AVERAGEIFS($D30:$AA30,MonthNo,H$5)/AVERAGE($D30:$AA30) -> 1.0516562 | I14: =AVERAGEIFS($D30:$AA30,MonthNo,I$5)/AVERAGE($D30:$AA30) -> 1.125677 | J14: =AVERAGEIFS($D30:$AA30,MonthNo,J$5)/AVERAGE($D30:$AA30) -> 1.2288919 | K14: =AVERAGEIFS($D30:$AA30,MonthNo,K$5)/AVERAGE($D30:$AA30) -> 1.1708466 | ... O14: =AVERAGEIFS($D30:$AA30,MonthNo,O$5)/AVERAGE($D30:$AA30) -> 0.89616585 | P14: =INDEX($D$6:$O$6,MATCH(MAX(D14:O14),D14:O14,0)) -> июл | Q14: =MAX(D14:O14)/MIN(D14:O14) -> 1.5298676 | R14: =AVERAGE(D14:O14) -> 1
A15: ='Данные'!A15 -> CRS-09 | B15: ='Данные'!B15 -> Круассан сливочный, заморозка | C15: ='Данные'!D15 -> шт. | D15: =AVERAGEIFS($D31:$AA31,MonthNo,D$5)/AVERAGE($D31:$AA31) -> 0.92331738 | E15: =AVERAGEIFS($D31:$AA31,MonthNo,E$5)/AVERAGE($D31:$AA31) -> 0.95866542 | F15: =AVERAGEIFS($D31:$AA31,MonthNo,F$5)/AVERAGE($D31:$AA31) -> 1.0287826 | G15: =AVERAGEIFS($D31:$AA31,MonthNo,G$5)/AVERAGE($D31:$AA31) -> 0.99606837 | H15: =AVERAGEIFS($D31:$AA31,MonthNo,H$5)/AVERAGE($D31:$AA31) -> 0.98778745 | I15: =AVERAGEIFS($D31:$AA31,MonthNo,I$5)/AVERAGE($D31:$AA31) -> 0.94910085 | J15: =AVERAGEIFS($D31:$AA31,MonthNo,J$5)/AVERAGE($D31:$AA31) -> 0.88050787 | K15: =AVERAGEIFS($D31:$AA31,MonthNo,K$5)/AVERAGE($D31:$AA31) -> 0.92591251 | ... O15: =AVERAGEIFS($D31:$AA31,MonthNo,O$5)/AVERAGE($D31:$AA31) -> 1.1104721 | P15: =INDEX($D$6:$O$6,MATCH(MAX(D15:O15),D15:O15,0)) -> ноя | Q15: =MAX(D15:O15)/MIN(D15:O15) -> 1.2637108 | R15: =AVERAGE(D15:O15) -> 1
A16: ='Данные'!A16 -> TEA-10 | B16: ='Данные'!B16 -> Чай зелёный «Сенча», 500 г | C16: ='Данные'!D16 -> уп. | D16: =AVERAGEIFS($D32:$AA32,MonthNo,D$5)/AVERAGE($D32:$AA32) -> 1.3927579 | E16: =AVERAGEIFS($D32:$AA32,MonthNo,E$5)/AVERAGE($D32:$AA32) -> 1.2902878 | F16: =AVERAGEIFS($D32:$AA32,MonthNo,F$5)/AVERAGE($D32:$AA32) -> 1.135721 | G16: =AVERAGEIFS($D32:$AA32,MonthNo,G$5)/AVERAGE($D32:$AA32) -> 1.0002232 | H16: =AVERAGEIFS($D32:$AA32,MonthNo,H$5)/AVERAGE($D32:$AA32) -> 0.70422255 | I16: =AVERAGEIFS($D32:$AA32,MonthNo,I$5)/AVERAGE($D32:$AA32) -> 0.6733301 | J16: =AVERAGEIFS($D32:$AA32,MonthNo,J$5)/AVERAGE($D32:$AA32) -> 0.60531852 | K16: =AVERAGEIFS($D32:$AA32,MonthNo,K$5)/AVERAGE($D32:$AA32) -> 0.63451858 | ... O16: =AVERAGEIFS($D32:$AA32,MonthNo,O$5)/AVERAGE($D32:$AA32) -> 1.2991976 | P16: =INDEX($D$6:$O$6,MATCH(MAX(D16:O16),D16:O16,0)) -> янв | Q16: =MAX(D16:O16)/MIN(D16:O16) -> 2.3008679 | R16: =AVERAGE(D16:O16) -> 1
A17: ='Данные'!A17 -> ICE-11 | B17: ='Данные'!B17 -> Лёд пищевой, кубики | C17: ='Данные'!D17 -> кг | D17: =AVERAGEIFS($D33:$AA33,MonthNo,D$5)/AVERAGE($D33:$AA33) -> 0.30883639 | E17: =AVERAGEIFS($D33:$AA33,MonthNo,E$5)/AVERAGE($D33:$AA33) -> 0.37562154 | F17: =AVERAGEIFS($D33:$AA33,MonthNo,F$5)/AVERAGE($D33:$AA33) -> 0.6050744 | G17: =AVERAGEIFS($D33:$AA33,MonthNo,G$5)/AVERAGE($D33:$AA33) -> 0.83929372 | H17: =AVERAGEIFS($D33:$AA33,MonthNo,H$5)/AVERAGE($D33:$AA33) -> 1.1915627 | I17: =AVERAGEIFS($D33:$AA33,MonthNo,I$5)/AVERAGE($D33:$AA33) -> 1.9877464 | J17: =AVERAGEIFS($D33:$AA33,MonthNo,J$5)/AVERAGE($D33:$AA33) -> 2.1558473 | K17: =AVERAGEIFS($D33:$AA33,MonthNo,K$5)/AVERAGE($D33:$AA33) -> 1.9350296 | ... O17: =AVERAGEIFS($D33:$AA33,MonthNo,O$5)/AVERAGE($D33:$AA33) -> 0.38957201 | P17: =INDEX($D$6:$O$6,MATCH(MAX(D17:O17),D17:O17,0)) -> июл | Q17: =MAX(D17:O17)/MIN(D17:O17) -> 6.9805481 | R17: =AVERAGE(D17:O17) -> 1
A18: ='Данные'!A18 -> CHO-12 | B18: ='Данные'!B18 -> Шоколад для горячего шоколада | C18: ='Данные'!D18 -> кг | D18: =AVERAGEIFS($D34:$AA34,MonthNo,D$5)/AVERAGE($D34:$AA34) -> 1.5504301 | E18: =AVERAGEIFS($D34:$AA34,MonthNo,E$5)/AVERAGE($D34:$AA34) -> 1.5220083 | F18: =AVERAGEIFS($D34:$AA34,MonthNo,F$5)/AVERAGE($D34:$AA34) -> 1.1511813 | G18: =AVERAGEIFS($D34:$AA34,MonthNo,G$5)/AVERAGE($D34:$AA34) -> 0.88325785 | H18: =AVERAGEIFS($D34:$AA34,MonthNo,H$5)/AVERAGE($D34:$AA34) -> 0.62052004 | I18: =AVERAGEIFS($D34:$AA34,MonthNo,I$5)/AVERAGE($D34:$AA34) -> 0.49279168 | J18: =AVERAGEIFS($D34:$AA34,MonthNo,J$5)/AVERAGE($D34:$AA34) -> 0.43285604 | K18: =AVERAGEIFS($D34:$AA34,MonthNo,K$5)/AVERAGE($D34:$AA34) -> 0.48787736 | ... O18: =AVERAGEIFS($D34:$AA34,MonthNo,O$5)/AVERAGE($D34:$AA34) -> 1.4210116 | P18: =INDEX($D$6:$O$6,MATCH(MAX(D18:O18),D18:O18,0)) -> янв | Q18: =MAX(D18:O18)/MIN(D18:O18) -> 3.5818609 | R18: =AVERAGE(D18:O18) -> 1
A20: Цветовая шкала: синий — месяц ниже тренда, красный — выше; серый — около среднего уровня (индекс ≈ 1,00).
A21: Шаг 1. Отношение факта к базовому тренду. Базовый тренд: уровень = среднее за 24 мес., наклон = (Σ 2-го года − Σ 1-го года) ÷ 144 — годовые суммы не зависят от сезонности
A22: Код | B22: Наименование | C22: Ед. | D22: ='Данные'!F6 -> 45566 | E22: ='Данные'!G6 -> 45597 | F22: ='Данные'!H6 -> 45627 | G22: ='Данные'!I6 -> 45658 | H22: ='Данные'!J6 -> 45689 | I22: ='Данные'!K6 -> 45717 | J22: ='Данные'!L6 -> 45748 | K22: ='Данные'!M6 -> 45778 | ... AA22: ='Данные'!AC6 -> 46266 | AB22: Уровень, ед./мес. | AC22: Наклон, ед./мес.
A23: ='Данные'!A7 -> ESP-01 | B23: ='Данные'!B7 -> Зерно «Эспрессо-бленд» | C23: ='Данные'!D7 -> кг | D23: ='Данные'!F7/($AB23+$AC23*('Данные'!F$4-AVERAGE(Periods))) -> 1.0307924 | E23: ='Данные'!G7/($AB23+$AC23*('Данные'!G$4-AVERAGE(Periods))) -> 1.0784296 | F23: ='Данные'!H7/($AB23+$AC23*('Данные'!H$4-AVERAGE(Periods))) -> 1.0385054 | G23: ='Данные'!I7/($AB23+$AC23*('Данные'!I$4-AVERAGE(Periods))) -> 0.97671579 | H23: ='Данные'!J7/($AB23+$AC23*('Данные'!J$4-AVERAGE(Periods))) -> 0.99332351 | I23: ='Данные'!K7/($AB23+$AC23*('Данные'!K$4-AVERAGE(Periods))) -> 1.0097422 | J23: ='Данные'!L7/($AB23+$AC23*('Данные'!L$4-AVERAGE(Periods))) -> 1.0012859 | K23: ='Данные'!M7/($AB23+$AC23*('Данные'!M$4-AVERAGE(Periods))) -> 1.0011082 | ... AA23: ='Данные'!AC7/($AB23+$AC23*('Данные'!AC$4-AVERAGE(Periods))) -> 1.0360522 | AB23: =AVERAGE('Данные'!$F7:$AC7) -> 375.875 | AC23: =(SUM('Данные'!$R7:$AC7)-SUM('Данные'!$F7:$Q7))/144 -> 2.0625
A24: ='Данные'!A8 -> FLT-02 | B24: ='Данные'!B8 -> Зерно «Эфиопия Иргачеффе», фильтр | C24: ='Данные'!D8 -> кг | D24: ='Данные'!F8/($AB24+$AC24*('Данные'!F$4-AVERAGE(Periods))) -> 0.98263924 | E24: ='Данные'!G8/($AB24+$AC24*('Данные'!G$4-AVERAGE(Periods))) -> 1.0221828 | F24: ='Данные'!H8/($AB24+$AC24*('Данные'!H$4-AVERAGE(Periods))) -> 0.89293673 | G24: ='Данные'!I8/($AB24+$AC24*('Данные'!I$4-AVERAGE(Periods))) -> 1.0149538 | H24: ='Данные'!J8/($AB24+$AC24*('Данные'!J$4-AVERAGE(Periods))) -> 0.86316381 | I24: ='Данные'!K8/($AB24+$AC24*('Данные'!K$4-AVERAGE(Periods))) -> 0.95513588 | J24: ='Данные'!L8/($AB24+$AC24*('Данные'!L$4-AVERAGE(Periods))) -> 0.88751926 | K24: ='Данные'!M8/($AB24+$AC24*('Данные'!M$4-AVERAGE(Periods))) -> 1.1046294 | ... AA24: ='Данные'!AC8/($AB24+$AC24*('Данные'!AC$4-AVERAGE(Periods))) -> 0.92182943 | AB24: =AVERAGE('Данные'!$F8:$AC8) -> 41.708333 | AC24: =(SUM('Данные'!$R8:$AC8)-SUM('Данные'!$F8:$Q8))/144 -> 0.61805556
A25: ='Данные'!A9 -> MLK-03 | B25: ='Данные'!B9 -> Молоко 3,2 % | C25: ='Данные'!D9 -> л | D25: ='Данные'!F9/($AB25+$AC25*('Данные'!F$4-AVERAGE(Periods))) -> 1.1094884 | E25: ='Данные'!G9/($AB25+$AC25*('Данные'!G$4-AVERAGE(Periods))) -> 1.1521225 | F25: ='Данные'!H9/($AB25+$AC25*('Данные'!H$4-AVERAGE(Periods))) -> 1.1294881 | G25: ='Данные'!I9/($AB25+$AC25*('Данные'!I$4-AVERAGE(Periods))) -> 0.92119628 | H25: ='Данные'!J9/($AB25+$AC25*('Данные'!J$4-AVERAGE(Periods))) -> 0.9095053 | I25: ='Данные'!K9/($AB25+$AC25*('Данные'!K$4-AVERAGE(Periods))) -> 1.0267752 | J25: ='Данные'!L9/($AB25+$AC25*('Данные'!L$4-AVERAGE(Periods))) -> 0.96446597 | K25: ='Данные'!M9/($AB25+$AC25*('Данные'!M$4-AVERAGE(Periods))) -> 0.96591839 | ... AA25: ='Данные'!AC9/($AB25+$AC25*('Данные'!AC$4-AVERAGE(Periods))) -> 1.0547783 | AB25: =AVERAGE('Данные'!$F9:$AC9) -> 3503.5417 | AC25: =(SUM('Данные'!$R9:$AC9)-SUM('Данные'!$F9:$Q9))/144 -> 0.95138889
A26: ='Данные'!A10 -> OAT-04 | B26: ='Данные'!B10 -> Напиток овсяный «Бариста» | C26: ='Данные'!D10 -> л | D26: ='Данные'!F10/($AB26+$AC26*('Данные'!F$4-AVERAGE(Periods))) -> 1.158082 | E26: ='Данные'!G10/($AB26+$AC26*('Данные'!G$4-AVERAGE(Periods))) -> 0.98202272 | F26: ='Данные'!H10/($AB26+$AC26*('Данные'!H$4-AVERAGE(Periods))) -> 1.0962508 | G26: ='Данные'!I10/($AB26+$AC26*('Данные'!I$4-AVERAGE(Periods))) -> 0.96143548 | H26: ='Данные'!J10/($AB26+$AC26*('Данные'!J$4-AVERAGE(Periods))) -> 0.94342306 | I26: ='Данные'!K10/($AB26+$AC26*('Данные'!K$4-AVERAGE(Periods))) -> 0.94533698 | J26: ='Данные'!L10/($AB26+$AC26*('Данные'!L$4-AVERAGE(Periods))) -> 1.0513653 | K26: ='Данные'!M10/($AB26+$AC26*('Данные'!M$4-AVERAGE(Periods))) -> 0.96243999 | ... AA26: ='Данные'!AC10/($AB26+$AC26*('Данные'!AC$4-AVERAGE(Periods))) -> 1.2168694 | AB26: =AVERAGE('Данные'!$F10:$AC10) -> 491.25 | AC26: =(SUM('Данные'!$R10:$AC10)-SUM('Данные'!$F10:$Q10))/144 -> 10.805556
A27: ='Данные'!A11 -> SYR-05 | B27: ='Данные'!B11 -> Сироп «Ваниль», 1 л | C27: ='Данные'!D11 -> бут. | D27: ='Данные'!F11/($AB27+$AC27*('Данные'!F$4-AVERAGE(Periods))) -> 0.91622481 | E27: ='Данные'!G11/($AB27+$AC27*('Данные'!G$4-AVERAGE(Periods))) -> 0.96101159 | F27: ='Данные'!H11/($AB27+$AC27*('Данные'!H$4-AVERAGE(Periods))) -> 0.87958115 | G27: ='Данные'!I11/($AB27+$AC27*('Данные'!I$4-AVERAGE(Periods))) -> 0.8491155 | H27: ='Данные'!J11/($AB27+$AC27*('Данные'!J$4-AVERAGE(Periods))) -> 0.79420889 | I27: ='Данные'!K11/($AB27+$AC27*('Данные'!K$4-AVERAGE(Periods))) -> 1.0113052 | J27: ='Данные'!L11/($AB27+$AC27*('Данные'!L$4-AVERAGE(Periods))) -> 1.1276813 | K27: ='Данные'!M11/($AB27+$AC27*('Данные'!M$4-AVERAGE(Periods))) -> 1.0233503 | ... AA27: ='Данные'!AC11/($AB27+$AC27*('Данные'!AC$4-AVERAGE(Periods))) -> 0.99907493 | AB27: =AVERAGE('Данные'!$F11:$AC11) -> 42.166667 | AC27: =(SUM('Данные'!$R11:$AC11)-SUM('Данные'!$F11:$Q11))/144 -> 0.25
A28: ='Данные'!A12 -> SYR-06 | B28: ='Данные'!B12 -> Сироп «Тыквенный пряный», 1 л | C28: ='Данные'!D12 -> бут. | D28: ='Данные'!F12/($AB28+$AC28*('Данные'!F$4-AVERAGE(Periods))) -> 3.7882276 | E28: ='Данные'!G12/($AB28+$AC28*('Данные'!G$4-AVERAGE(Periods))) -> 2.9970732 | F28: ='Данные'!H12/($AB28+$AC28*('Данные'!H$4-AVERAGE(Periods))) -> 2.2232229 | G28: ='Данные'!I12/($AB28+$AC28*('Данные'!I$4-AVERAGE(Periods))) -> 0.45816099 | H28: ='Данные'!J12/($AB28+$AC28*('Данные'!J$4-AVERAGE(Periods))) -> 0.2266289 | I28: ='Данные'!K12/($AB28+$AC28*('Данные'!K$4-AVERAGE(Periods))) -> 0.17938337 | J28: ='Данные'!L12/($AB28+$AC28*('Данные'!L$4-AVERAGE(Periods))) -> 0.088751926 | K28: ='Данные'!M12/($AB28+$AC28*('Данные'!M$4-AVERAGE(Periods))) -> 0.13174748 | ... AA28: ='Данные'!AC12/($AB28+$AC28*('Данные'!AC$4-AVERAGE(Periods))) -> 2.1093382 | AB28: =AVERAGE('Данные'!$F12:$AC12) -> 23.833333 | AC28: =(SUM('Данные'!$R12:$AC12)-SUM('Данные'!$F12:$Q12))/144 -> 0.23611111
A29: ='Данные'!A13 -> CUP-07 | B29: ='Данные'!B13 -> Стакан бумажный 300 мл | C29: ='Данные'!D13 -> шт. | D29: ='Данные'!F13/($AB29+$AC29*('Данные'!F$4-AVERAGE(Periods))) -> 0.90707628 | E29: ='Данные'!G13/($AB29+$AC29*('Данные'!G$4-AVERAGE(Periods))) -> 0.92568218 | F29: ='Данные'!H13/($AB29+$AC29*('Данные'!H$4-AVERAGE(Periods))) -> 0.9440269 | G29: ='Данные'!I13/($AB29+$AC29*('Данные'!I$4-AVERAGE(Periods))) -> 0.83846445 | H29: ='Данные'!J13/($AB29+$AC29*('Данные'!J$4-AVERAGE(Periods))) -> 0.85414624 | I29: ='Данные'!K13/($AB29+$AC29*('Данные'!K$4-AVERAGE(Periods))) -> 0.94022336 | J29: ='Данные'!L13/($AB29+$AC29*('Данные'!L$4-AVERAGE(Periods))) -> 0.9601911 | K29: ='Данные'!M13/($AB29+$AC29*('Данные'!M$4-AVERAGE(Periods))) -> 1.0928988 | ... AA29: ='Данные'!AC13/($AB29+$AC29*('Данные'!AC$4-AVERAGE(Periods))) -> 1.0310648 | AB29: =AVERAGE('Данные'!$F13:$AC13) -> 14476.417 | AC29: =(SUM('Данные'!$R13:$AC13)-SUM('Данные'!$F13:$Q13))/144 -> 145.63889
A30: ='Данные'!A14 -> LID-08 | B30: ='Данные'!B14 -> Крышка для стакана Ø 90 мм | C30: ='Данные'!D14 -> шт. | D30: ='Данные'!F14/($AB30+$AC30*('Данные'!F$4-AVERAGE(Periods))) -> 0.87850673 | E30: ='Данные'!G14/($AB30+$AC30*('Данные'!G$4-AVERAGE(Periods))) -> 0.90061595 | F30: ='Данные'!H14/($AB30+$AC30*('Данные'!H$4-AVERAGE(Periods))) -> 0.87498871 | G30: ='Данные'!I14/($AB30+$AC30*('Данные'!I$4-AVERAGE(Periods))) -> 0.82433555 | H30: ='Данные'!J14/($AB30+$AC30*('Данные'!J$4-AVERAGE(Periods))) -> 0.81256422 | I30: ='Данные'!K14/($AB30+$AC30*('Данные'!K$4-AVERAGE(Periods))) -> 0.98080342 | J30: ='Данные'!L14/($AB30+$AC30*('Данные'!L$4-AVERAGE(Periods))) -> 0.95556849 | K30: ='Данные'!M14/($AB30+$AC30*('Данные'!M$4-AVERAGE(Periods))) -> 1.0026181 | ... AA30: ='Данные'!AC14/($AB30+$AC30*('Данные'!AC$4-AVERAGE(Periods))) -> 1.013352 | AB30: =AVERAGE('Данные'!$F14:$AC14) -> 13958.833 | AC30: =(SUM('Данные'!$R14:$AC14)-SUM('Данные'!$F14:$Q14))/144 -> 101.15278
A31: ='Данные'!A15 -> CRS-09 | B31: ='Данные'!B15 -> Круассан сливочный, заморозка | C31: ='Данные'!D15 -> шт. | D31: ='Данные'!F15/($AB31+$AC31*('Данные'!F$4-AVERAGE(Periods))) -> 1.1093058 | E31: ='Данные'!G15/($AB31+$AC31*('Данные'!G$4-AVERAGE(Periods))) -> 1.1006563 | F31: ='Данные'!H15/($AB31+$AC31*('Данные'!H$4-AVERAGE(Periods))) -> 1.1366974 | G31: ='Данные'!I15/($AB31+$AC31*('Данные'!I$4-AVERAGE(Periods))) -> 0.87593275 | H31: ='Данные'!J15/($AB31+$AC31*('Данные'!J$4-AVERAGE(Periods))) -> 0.91354421 | I31: ='Данные'!K15/($AB31+$AC31*('Данные'!K$4-AVERAGE(Periods))) -> 1.0409407 | J31: ='Данные'!L15/($AB31+$AC31*('Данные'!L$4-AVERAGE(Periods))) -> 1.0149312 | K31: ='Данные'!M15/($AB31+$AC31*('Данные'!M$4-AVERAGE(Periods))) -> 0.98694616 | ... AA31: ='Данные'!AC15/($AB31+$AC31*('Данные'!AC$4-AVERAGE(Periods))) -> 1.0324197 | AB31: =AVERAGE('Данные'!$F15:$AC15) -> 5046.9167 | AC31: =(SUM('Данные'!$R15:$AC15)-SUM('Данные'!$F15:$Q15))/144 -> 23.875
A32: ='Данные'!A16 -> TEA-10 | B32: ='Данные'!B16 -> Чай зелёный «Сенча», 500 г | C32: ='Данные'!D16 -> уп. | D32: ='Данные'!F16/($AB32+$AC32*('Данные'!F$4-AVERAGE(Periods))) -> 1.2040134 | E32: ='Данные'!G16/($AB32+$AC32*('Данные'!G$4-AVERAGE(Periods))) -> 1.3727811 | F32: ='Данные'!H16/($AB32+$AC32*('Данные'!H$4-AVERAGE(Periods))) -> 1.3497091 | G32: ='Данные'!I16/($AB32+$AC32*('Данные'!I$4-AVERAGE(Periods))) -> 1.3273999 | H32: ='Данные'!J16/($AB32+$AC32*('Данные'!J$4-AVERAGE(Periods))) -> 1.2157598 | I32: ='Данные'!K16/($AB32+$AC32*('Данные'!K$4-AVERAGE(Periods))) -> 1.1076923 | J32: ='Данные'!L16/($AB32+$AC32*('Данные'!L$4-AVERAGE(Periods))) -> 0.95941853 | K32: ='Данные'!M16/($AB32+$AC32*('Данные'!M$4-AVERAGE(Periods))) -> 0.77280859 | ... AA32: ='Данные'!AC16/($AB32+$AC32*('Данные'!AC$4-AVERAGE(Periods))) -> 0.9632107 | AB32: =AVERAGE('Данные'!$F16:$AC16) -> 24.916667 | AC32: =(SUM('Данные'!$R16:$AC16)-SUM('Данные'!$F16:$Q16))/144 -> 0.36111111
A33: ='Данные'!A17 -> ICE-11 | B33: ='Данные'!B17 -> Лёд пищевой, кубики | C33: ='Данные'!D17 -> кг | D33: ='Данные'!F17/($AB33+$AC33*('Данные'!F$4-AVERAGE(Periods))) -> 0.72174885 | E33: ='Данные'!G17/($AB33+$AC33*('Данные'!G$4-AVERAGE(Periods))) -> 0.43445935 | F33: ='Данные'!H17/($AB33+$AC33*('Данные'!H$4-AVERAGE(Periods))) -> 0.38276395 | G33: ='Данные'!I17/($AB33+$AC33*('Данные'!I$4-AVERAGE(Periods))) -> 0.29813436 | H33: ='Данные'!J17/($AB33+$AC33*('Данные'!J$4-AVERAGE(Periods))) -> 0.32403389 | I33: ='Данные'!K17/($AB33+$AC33*('Данные'!K$4-AVERAGE(Periods))) -> 0.53685779 | J33: ='Данные'!L17/($AB33+$AC33*('Данные'!L$4-AVERAGE(Periods))) -> 0.76866178 | K33: ='Данные'!M17/($AB33+$AC33*('Данные'!M$4-AVERAGE(Periods))) -> 1.1508689 | ... AA33: ='Данные'!AC17/($AB33+$AC33*('Данные'!AC$4-AVERAGE(Periods))) -> 1.2052258 | AB33: =AVERAGE('Данные'!$F17:$AC17) -> 459.95833 | AC33: =(SUM('Данные'!$R17:$AC17)-SUM('Данные'!$F17:$Q17))/144 -> 0.84027778
A34: ='Данные'!A18 -> CHO-12 | B34: ='Данные'!B18 -> Шоколад для горячего шоколада | C34: ='Данные'!D18 -> кг | D34: ='Данные'!F18/($AB34+$AC34*('Данные'!F$4-AVERAGE(Periods))) -> 1.2747253 | E34: ='Данные'!G18/($AB34+$AC34*('Данные'!G$4-AVERAGE(Periods))) -> 1.3963636 | F34: ='Данные'!H18/($AB34+$AC34*('Данные'!H$4-AVERAGE(Periods))) -> 1.4296029 | G34: ='Данные'!I18/($AB34+$AC34*('Данные'!I$4-AVERAGE(Periods))) -> 1.4623656 | H34: ='Данные'!J18/($AB34+$AC34*('Данные'!J$4-AVERAGE(Periods))) -> 1.4946619 | I34: ='Данные'!K18/($AB34+$AC34*('Данные'!K$4-AVERAGE(Periods))) -> 1.1872792 | J34: ='Данные'!L18/($AB34+$AC34*('Данные'!L$4-AVERAGE(Periods))) -> 0.92631579 | K34: ='Данные'!M18/($AB34+$AC34*('Данные'!M$4-AVERAGE(Periods))) -> 0.71080139 | ... AA34: ='Данные'!AC18/($AB34+$AC34*('Данные'!AC$4-AVERAGE(Periods))) -> 0.78996865 | AB34: =AVERAGE('Данные'!$F18:$AC18) -> 24.666667 | AC34: =(SUM('Данные'!$R18:$AC18)-SUM('Данные'!$F18:$Q18))/144 -> 0.16666667
A36: Шаг 3. Ряд, очищенный от сезонности (факт ÷ индекс месяца) — по нему ПРЕДСКАЗ.ЛИНЕЙН строит тренд на листе «Прогноз»
A37: Код | B37: Наименование | C37: Ед. | D37: ='Данные'!F6 -> 45566 | E37: ='Данные'!G6 -> 45597 | F37: ='Данные'!H6 -> 45627 | G37: ='Данные'!I6 -> 45658 | H37: ='Данные'!J6 -> 45689 | I37: ='Данные'!K6 -> 45717 | J37: ='Данные'!L6 -> 45748 | K37: ='Данные'!M6 -> 45778 | ... AA37: ='Данные'!AC6 -> 46266
A38: ='Данные'!A7 -> ESP-01 | B38: ='Данные'!B7 -> Зерно «Эспрессо-бленд» | C38: ='Данные'!D7 -> кг | D38: ='Данные'!F7/INDEX($D7:$O7,'Данные'!F$5) -> 347.19809 | E38: ='Данные'!G7/INDEX($D7:$O7,'Данные'!G$5) -> 355.56541 | F38: ='Данные'!H7/INDEX($D7:$O7,'Данные'!H$5) -> 342.89801 | G38: ='Данные'!I7/INDEX($D7:$O7,'Данные'!I$5) -> 370.48965 | H38: ='Данные'!J7/INDEX($D7:$O7,'Данные'!J$5) -> 366.61505 | I38: ='Данные'!K7/INDEX($D7:$O7,'Данные'!K$5) -> 356.26649 | J38: ='Данные'!L7/INDEX($D7:$O7,'Данные'!L$5) -> 362.74956 | K38: ='Данные'!M7/INDEX($D7:$O7,'Данные'!M$5) -> 376.27328 | ... AA38: ='Данные'!AC7/INDEX($D7:$O7,'Данные'!AC$5) -> 396.90903
A39: ='Данные'!A8 -> FLT-02 | B39: ='Данные'!B8 -> Зерно «Эфиопия Иргачеффе», фильтр | C39: ='Данные'!D8 -> кг | D39: ='Данные'!F8/INDEX($D8:$O8,'Данные'!F$5) -> 35.941162 | E39: ='Данные'!G8/INDEX($D8:$O8,'Данные'!G$5) -> 37.995374 | F39: ='Данные'!H8/INDEX($D8:$O8,'Данные'!H$5) -> 34.675753 | G39: ='Данные'!I8/INDEX($D8:$O8,'Данные'!I$5) -> 36.993973 | H39: ='Данные'!J8/INDEX($D8:$O8,'Данные'!J$5) -> 35.321077 | I39: ='Данные'!K8/INDEX($D8:$O8,'Данные'!K$5) -> 38.523967 | J39: ='Данные'!L8/INDEX($D8:$O8,'Данные'!L$5) -> 37.552852 | K39: ='Данные'!M8/INDEX($D8:$O8,'Данные'!M$5) -> 38.521409 | ... AA39: ='Данные'!AC8/INDEX($D8:$O8,'Данные'!AC$5) -> 46.357762
A40: ='Данные'!A9 -> MLK-03 | B40: ='Данные'!B9 -> Молоко 3,2 % | C40: ='Данные'!D9 -> л | D40: ='Данные'!F9/INDEX($D9:$O9,'Данные'!F$5) -> 3641.4767 | E40: ='Данные'!G9/INDEX($D9:$O9,'Данные'!G$5) -> 3684.896 | F40: ='Данные'!H9/INDEX($D9:$O9,'Данные'!H$5) -> 3576.2901 | G40: ='Данные'!I9/INDEX($D9:$O9,'Данные'!I$5) -> 3554.7093 | H40: ='Данные'!J9/INDEX($D9:$O9,'Данные'!J$5) -> 3414.8307 | I40: ='Данные'!K9/INDEX($D9:$O9,'Данные'!K$5) -> 3377.789 | J40: ='Данные'!L9/INDEX($D9:$O9,'Данные'!L$5) -> 3409.772 | K40: ='Данные'!M9/INDEX($D9:$O9,'Данные'!M$5) -> 3380.7365 | ... AA40: ='Данные'!AC9/INDEX($D9:$O9,'Данные'!AC$5) -> 3603.8065
A41: ='Данные'!A10 -> OAT-04 | B41: ='Данные'!B10 -> Напиток овсяный «Бариста» | C41: ='Данные'!D10 -> л | D41: ='Данные'!F10/INDEX($D10:$O10,'Данные'!F$5) -> 387.11405 | E41: ='Данные'!G10/INDEX($D10:$O10,'Данные'!G$5) -> 383.14216 | F41: ='Данные'!H10/INDEX($D10:$O10,'Данные'!H$5) -> 406.03205 | G41: ='Данные'!I10/INDEX($D10:$O10,'Данные'!I$5) -> 402.27552 | H41: ='Данные'!J10/INDEX($D10:$O10,'Данные'!J$5) -> 412.2039 | I41: ='Данные'!K10/INDEX($D10:$O10,'Данные'!K$5) -> 396.35827 | J41: ='Данные'!L10/INDEX($D10:$O10,'Данные'!L$5) -> 431.4641 | K41: ='Данные'!M10/INDEX($D10:$O10,'Данные'!M$5) -> 455.19989 | ... AA41: ='Данные'!AC10/INDEX($D10:$O10,'Данные'!AC$5) -> 666.74807
A42: ='Данные'!A11 -> SYR-05 | B42: ='Данные'!B11 -> Сироп «Ваниль», 1 л | C42: ='Данные'!D11 -> бут. | D42: ='Данные'!F11/INDEX($D11:$O11,'Данные'!F$5) -> 37.65812 | E42: ='Данные'!G11/INDEX($D11:$O11,'Данные'!G$5) -> 38.037673 | F42: ='Данные'!H11/INDEX($D11:$O11,'Данные'!H$5) -> 39.547559 | G42: ='Данные'!I11/INDEX($D11:$O11,'Данные'!I$5) -> 43.270951 | H42: ='Данные'!J11/INDEX($D11:$O11,'Данные'!J$5) -> 36.224002 | I42: ='Данные'!K11/INDEX($D11:$O11,'Данные'!K$5) -> 42.429806 | J42: ='Данные'!L11/INDEX($D11:$O11,'Данные'!L$5) -> 43.084198 | K42: ='Данные'!M11/INDEX($D11:$O11,'Данные'!M$5) -> 36.918637 | ... AA42: ='Данные'!AC11/INDEX($D11:$O11,'Данные'!AC$5) -> 44.452488
A43: ='Данные'!A12 -> SYR-06 | B43: ='Данные'!B12 -> Сироп «Тыквенный пряный», 1 л | C43: ='Данные'!D12 -> бут. | D43: ='Данные'!F12/INDEX($D12:$O12,'Данные'!F$5) -> 22.212737 | E43: ='Данные'!G12/INDEX($D12:$O12,'Данные'!G$5) -> 23.581707 | F43: ='Данные'!H12/INDEX($D12:$O12,'Данные'!H$5) -> 21.776035 | G43: ='Данные'!I12/INDEX($D12:$O12,'Данные'!I$5) -> 20.792909 | H43: ='Данные'!J12/INDEX($D12:$O12,'Данные'!J$5) -> 23.964508 | I43: ='Данные'!K12/INDEX($D12:$O12,'Данные'!K$5) -> 24.207252 | J43: ='Данные'!L12/INDEX($D12:$O12,'Данные'!L$5) -> 24.449979 | K43: ='Данные'!M12/INDEX($D12:$O12,'Данные'!M$5) -> 29.288144 | ... AA43: ='Данные'!AC12/INDEX($D12:$O12,'Данные'!AC$5) -> 29.892505
...

Sheet Прогноз
A1: Прогноз спроса на 12 месяцев, ед.
A2: Модель: линейный тренд ПРЕДСКАЗ.ЛИНЕЙН по ряду без сезонности × сезонный индекс месяца · горизонт: октябрь 2026 — сентябрь 2027
A3: Обозначения: синий — исходные данные и параметры (ввод), чёрный — формулы, зелёный — ссылки на другие листы, жёлтая заливка — ячейки для ввода
C4: период t | D4: =MAX(Periods)+1 -> 25 | E4: =D4+1 -> 26 | F4: =E4+1 -> 27 | G4: =F4+1 -> 28 | H4: =G4+1 -> 29 | I4: =H4+1 -> 30 | J4: =I4+1 -> 31 | K4: =J4+1 -> 32 | L4: =K4+1 -> 33 | ... O4: =N4+1 -> 36
C5: месяц № | D5: =MONTH(D6) -> 10 | E5: =MONTH(E6) -> 11 | F5: =MONTH(F6) -> 12 | G5: =MONTH(G6) -> 1 | H5: =MONTH(H6) -> 2 | I5: =MONTH(I6) -> 3 | J5: =MONTH(J6) -> 4 | K5: =MONTH(K6) -> 5 | ... O5: =MONTH(O6) -> 9
A6: Код | B6: Наименование | C6: Ед. | D6: =EDATE('Данные'!$AC$6,1) -> 46296 | E6: =EDATE(D6,1) -> 46327 | F6: =EDATE(E6,1) -> 46357 | G6: =EDATE(F6,1) -> 46388 | H6: =EDATE(G6,1) -> 46419 | I6: =EDATE(H6,1) -> 46447 | J6: =EDATE(I6,1) -> 46478 | K6: =EDATE(J6,1) -> 46508 | L6: =EDATE(K6,1) -> 46539 | ... O6: =EDATE(N6,1) -> 46631 | P6: Прогноз 12 мес., ед. | Q6: Факт пред. 12 мес., ед. | R6: Δ к факту | S6: Закупки 12 мес., тыс. ₽ | T6: Ошибка модели, WAPE | U6: σ ошибки, ед./мес. | V6: Профиль прогноза по месяцам
