Workbook
Name SKU_Codes: 'Данные'!$A$7:$A$18
Name SKU_Names: 'Данные'!$B$7:$B$18
Name Prices: 'Данные'!$E$7:$E$18
Name Sales: 'Данные'!$F$7:$AC$18
Name Periods: 'Данные'!$F$4:$AC$4
Name MonthNo: 'Данные'!$F$5:$AC$5
Name Thr_A: 'ABC-XYZ'!$D$4
Name Thr_B: 'ABC-XYZ'!$D$5
Name Thr_X: 'ABC-XYZ'!$K$4
Name Thr_Y: 'ABC-XYZ'!$K$5
Name SL_A: 'Закупки'!$D$4
Name SL_B: 'Закупки'!$F$4
Name SL_C: 'Закупки'!$H$4
Name Sel_SKU: 'Дашборд'!$F$5
Name Sel_Row: 'Дашборд'!$AD$3
Name N_Hist: 'Дашборд'!$AF$3

Sheet Дашборд
B2: Планирование спроса и закупок | R2: «Зерно и пар» · сеть из 4 кофеен | AB2: Служебная таблица для графиков (вне области печати)
B3: Факт: окт 2024 — сен 2026 · прогноз: окт 2026 — сен 2027 · остатки и заказ на 01.10.2026 | AB3: Строка SKU | AD3: =MATCH(Sel_SKU,SKU_Codes,0) -> 7 | AE3: Мес. факта | AF3: =COUNT(Periods) -> 24
B5: Выберите SKU ▸ | F5: CUP-07 | J5: =INDEX(SKU_Names,Sel_Row) -> Стакан бумажный 300 мл | R5: =INDEX('Данные'!$C$7:$C$18,Sel_Row)&" · "&INDEX('Данные'!$D$7:$D$18,Sel_Row)&" · класс "&INDEX('Закупки'!$D$7:$D$18,Sel_Row)&CHAR(10)&INDEX('ABC-XYZ'!$N$8:$N$19,MATCH(Sel_SKU,'ABC-XYZ'!$B$8:$B$19,0)) -> Упаковка · шт. · класс BY Плановые поставки, умеренный страховой запас | AB5: k | AC5: Месяц | AD5: Подпись | AE5: Факт | AF5: Модель | AG5: Прогноз | AH5: Факт, тыс. ₽ | AI5: Прогноз, тыс. ₽
AB6: 1 | AC6: =EDATE('Данные'!$F$6,AB6-1) -> 45566 | AD6: =IF(MOD(AB6-1,6)=0,INDEX({"янв","фев","мар","апр","май","июн","июл","авг","сен","окт","ноя","дек"},MONTH(AC6))&" "&RIGHT(YEAR(AC6),2),"") -> окт 24 | AE6: =IF(AB6<=N_Hist,INDEX(Sales,Sel_Row,AB6),"") -> 11612 | AF6: =IF(AB6<=N_Hist,INDEX('Прогноз'!$D$25:$AA$36,Sel_Row,AB6),"") -> 11575.663 | AG6: =IF(AB6<N_Hist,"",IF(AB6=N_Hist,AE6,INDEX('Прогноз'!$D$7:$O$18,Sel_Row,AB6-N_Hist))) | AH6: =IF(AB6<=N_Hist,INDEX('Данные'!$F$19:$AC$19,AB6),NA()) -> 1709.3069 | AI6: =IF(AB6>N_Hist,INDEX('Прогноз'!$D$19:$O$19,AB6-N_Hist),NA()) -> #N/A
B7: ="Факт за 12 мес., "&INDEX('Данные'!$D$7:$D$18,Sel_Row) -> Факт за 12 мес., шт. | F7: ="Прогноз на 12 мес., "&INDEX('Данные'!$D$7:$D$18,Sel_Row) -> Прогноз на 12 мес., шт. | J7: ="Прогноз на окт 2026, "&INDEX('Данные'!$D$7:$D$18,Sel_Row) -> Прогноз на окт 2026, шт. | N7: ="Страховой запас, "&INDEX('Данные'!$D$7:$D$18,Sel_Row) -> Страховой запас, шт. | R7: ="Точка заказа, "&INDEX('Данные'!$D$7:$D$18,Sel_Row) -> Точка заказа, шт. | V7: ="К заказу сейчас, "&INDEX('Данные'!$D$7:$D$18,Sel_Row) -> К заказу сейчас, шт. | AB7: 2 | AC7: =EDATE('Данные'!$F$6,AB7-1) -> 45597 | AD7: =IF(MOD(AB7-1,6)=0,INDEX({"янв","фев","мар","апр","май","июн","июл","авг","сен","окт","ноя","дек"},MONTH(AC7))&" "&RIGHT(YEAR(AC7),2),"") | AE7: =IF(AB7<=N_Hist,INDEX(Sales,Sel_Row,AB7),"") -> 11985 | AF7: =IF(AB7<=N_Hist,INDEX('Прогноз'!$D$25:$AA$36,Sel_Row,AB7),"") -> 10905.768 | AG7: =IF(AB7<N_Hist,"",IF(AB7=N_Hist,AE7,INDEX('Прогноз'!$D$7:$O$18,Sel_Row,AB7-N_Hist))) | AH7: =IF(AB7<=N_Hist,INDEX('Данные'!$F$19:$AC$19,AB7),NA()) -> 1745.9905 | AI7: =IF(AB7>N_Hist,INDEX('Прогноз'!$D$19:$O$19,AB7-N_Hist),NA()) -> #N/A
B8: =SUM(INDEX('Данные'!$R$7:$AC$18,Sel_Row,0)) -> 184203 | F8: =INDEX('Прогноз'!$P$7:$P$18,Sel_Row) -> 204543.12 | J8: =INDEX('Прогноз'!$D$7:$D$18,Sel_Row) -> 14681.366 | N8: =INDEX('Закупки'!$L$7:$L$18,Sel_Row) -> 638.48931 | R8: =INDEX('Закупки'!$N$7:$N$18,Sel_Row) -> 7489.7932 | V8: =INDEX('Закупки'!$U$7:$U$18,Sel_Row) -> 8000 | AB8: 3 | AC8: =EDATE('Данные'!$F$6,AB8-1) -> 45627 | AD8: =IF(MOD(AB8-1,6)=0,INDEX({"янв","фев","мар","апр","май","июн","июл","авг","сен","окт","ноя","дек"},MONTH(AC8))&" "&RIGHT(YEAR(AC8),2),"") | AE8: =IF(AB8<=N_Hist,INDEX(Sales,Sel_Row,AB8),"") -> 12360 | AF8: =IF(AB8<=N_Hist,INDEX('Прогноз'!$D$25:$AA$36,Sel_Row,AB8),"") -> 11919.194 | AG8: =IF(AB8<N_Hist,"",IF(AB8=N_Hist,AE8,INDEX('Прогноз'!$D$7:$O$18,Sel_Row,AB8-N_Hist))) | AH8: =IF(AB8<=N_Hist,INDEX('Данные'!$F$19:$AC$19,AB8),NA()) -> 1724.1423 | AI8: =IF(AB8>N_Hist,INDEX('Прогноз'!$D$19:$O$19,AB8-N_Hist),NA()) -> #N/A
B9: =SUM(INDEX('Данные'!$R$7:$AC$18,Sel_Row,0))*INDEX(Prices,Sel_Row)/1000 -> 1363.1022 | F9: =INDEX('Прогноз'!$R$7:$R$18,Sel_Row) -> 0.1104223 | J9: =INDEX('Прогноз'!$T$7:$T$18,Sel_Row) -> 0.030952109 | N9: =INDEX('Закупки'!$H$7:$H$18,Sel_Row) -> 0.95 | R9: =INDEX('Закупки'!$R$7:$R$18,Sel_Row) -> 6441 | V9: =IF(INDEX('Закупки'!$U$7:$U$18,Sel_Row)>0,INDEX('Закупки'!$V$7:$V$18,Sel_Row),"заказ не требуется") -> 59200 | AB9: 4 | AC9: =EDATE('Данные'!$F$6,AB9-1) -> 45658 | AD9: =IF(MOD(AB9-1,6)=0,INDEX({"янв","фев","мар","апр","май","июн","июл","авг","сен","окт","ноя","дек"},MONTH(AC9))&" "&RIGHT(YEAR(AC9),2),"") | AE9: =IF(AB9<=N_Hist,INDEX(Sales,Sel_Row,AB9),"") -> 11100 | AF9: =IF(AB9<=N_Hist,INDEX('Прогноз'!$D$25:$AA$36,Sel_Row,AB9),"") -> 11005.242 | AG9: =IF(AB9<N_Hist,"",IF(AB9=N_Hist,AE9,INDEX('Прогноз'!$D$7:$O$18,Sel_Row,AB9-N_Hist))) | AH9: =IF(AB9<=N_Hist,INDEX('Данные'!$F$19:$AC$19,AB9),NA()) -> 1523.9058 | AI9: =IF(AB9>N_Hist,INDEX('Прогноз'!$D$19:$O$19,AB9-N_Hist),NA()) -> #N/A
AB10: 5 | AC10: =EDATE('Данные'!$F$6,AB10-1) -> 45689 | AD10: =IF(MOD(AB10-1,6)=0,INDEX({"янв","фев","мар","апр","май","июн","июл","авг","сен","окт","ноя","дек"},MONTH(AC10))&" "&RIGHT(YEAR(AC10),2),"") | AE10: =IF(AB10<=N_Hist,INDEX(Sales,Sel_Row,AB10),"") -> 11432 | AF10: =IF(AB10<=N_Hist,INDEX('Прогноз'!$D$25:$AA$36,Sel_Row,AB10),"") -> 11456.584 | AG10: =IF(AB10<N_Hist,"",IF(AB10=N_Hist,AE10,INDEX('Прогноз'!$D$7:$O$18,Sel_Row,AB10-N_Hist))) | AH10: =IF(AB10<=N_Hist,INDEX('Данные'!$F$19:$AC$19,AB10),NA()) -> 1529.9284 | AI10: =IF(AB10>N_Hist,INDEX('Прогноз'!$D$19:$O$19,AB10-N_Hist),NA()) -> #N/A
AB11: 6 | AC11: =EDATE('Данные'!$F$6,AB11-1) -> 45717 | AD11: =IF(MOD(AB11-1,6)=0,INDEX({"янв","фев","мар","апр","май","июн","июл","авг","сен","окт","ноя","дек"},MONTH(AC11))&" "&RIGHT(YEAR(AC11),2),"") | AE11: =IF(AB11<=N_Hist,INDEX(Sales,Sel_Row,AB11),"") -> 12721 | AF11: =IF(AB11<=N_Hist,INDEX('Прогноз'!$D$25:$AA$36,Sel_Row,AB11),"") -> 13379.654 | AG11: =IF(AB11<N_Hist,"",IF(AB11=N_Hist,AE11,INDEX('Прогноз'!$D$7:$O$18,Sel_Row,AB11-N_Hist))) | AH11: =IF(AB11<=N_Hist,INDEX('Данные'!$F$19:$AC$19,AB11),NA()) -> 1641.834 | AI11: =IF(AB11>N_Hist,INDEX('Прогноз'!$D$19:$O$19,AB11-N_Hist),NA()) -> #N/A
B12: ="Спрос по месяцам: факт, модель и прогноз, "&INDEX('Данные'!$D$7:$D$18,Sel_Row) -> Спрос по месяцам: факт, модель и прогноз, шт. | R12: =INDEX('ABC-XYZ'!$K$8:$K$19,MATCH(Sel_SKU,'ABC-XYZ'!$B$8:$B$19,0)) -> 0.18045219 | AB12: 7 | AC12: =EDATE('Данные'!$F$6,AB12-1) -> 45748 | AD12: =IF(MOD(AB12-1,6)=0,INDEX({"янв","фев","мар","апр","май","июн","июл","авг","сен","окт","ноя","дек"},MONTH(AC12))&" "&RIGHT(YEAR(AC12),2),"") -> апр 25 | AE12: =IF(AB12<=N_Hist,INDEX(Sales,Sel_Row,AB12),"") -> 13131 | AF12: =IF(AB12<=N_Hist,INDEX('Прогноз'!$D$25:$AA$36,Sel_Row,AB12),"") -> 13595.451 | AG12: =IF(AB12<N_Hist,"",IF(AB12=N_Hist,AE12,INDEX('Прогноз'!$D$7:$O$18,Sel_Row,AB12-N_Hist))) | AH12: =IF(AB12<=N_Hist,INDEX('Данные'!$F$19:$AC$19,AB12),NA()) -> 1619.5751 | AI12: =IF(AB12>N_Hist,INDEX('Прогноз'!$D$19:$O$19,AB12-N_Hist),NA()) -> #N/A
AB13: 8 | AC13: =EDATE('Данные'!$F$6,AB13-1) -> 45778 | AD13: =IF(MOD(AB13-1,6)=0,INDEX({"янв","фев","мар","апр","май","июн","июл","авг","сен","окт","ноя","дек"},MONTH(AC13))&" "&RIGHT(YEAR(AC13),2),"") | AE13: =IF(AB13<=N_Hist,INDEX(Sales,Sel_Row,AB13),"") -> 15105 | AF13: =IF(AB13<=N_Hist,INDEX('Прогноз'!$D$25:$AA$36,Sel_Row,AB13),"") -> 14708.547 | AG13: =IF(AB13<N_Hist,"",IF(AB13=N_Hist,AE13,INDEX('Прогноз'!$D$7:$O$18,Sel_Row,AB13-N_Hist))) | AH13: =IF(AB13<=N_Hist,INDEX('Данные'!$F$19:$AC$19,AB13),NA()) -> 1642.2479 | AI13: =IF(AB13>N_Hist,INDEX('Прогноз'!$D$19:$O$19,AB13-N_Hist),NA()) -> #N/A
AB14: 9 | AC14: =EDATE('Данные'!$F$6,AB14-1) -> 45809 | AD14: =IF(MOD(AB14-1,6)=0,INDEX({"янв","фев","мар","апр","май","июн","июл","авг","сен","окт","ноя","дек"},MONTH(AC14))&" "&RIGHT(YEAR(AC14),2),"") | AE14: =IF(AB14<=N_Hist,INDEX(Sales,Sel_Row,AB14),"") -> 16412 | AF14: =IF(AB14<=N_Hist,INDEX('Прогноз'!$D$25:$AA$36,Sel_Row,AB14),"") -> 17302.547 | AG14: =IF(AB14<N_Hist,"",IF(AB14=N_Hist,AE14,INDEX('Прогноз'!$D$7:$O$18,Sel_Row,AB14-N_Hist))) | AH14: =IF(AB14<=N_Hist,INDEX('Данные'!$F$19:$AC$19,AB14),NA()) -> 1627.228 | AI14: =IF(AB14>N_Hist,INDEX('Прогноз'!$D$19:$O$19,AB14-N_Hist),NA()) -> #N/A
AB15: 10 | AC15: =EDATE('Данные'!$F$6,AB15-1) -> 45839 | AD15: =IF(MOD(AB15-1,6)=0,INDEX({"янв","фев","мар","апр","май","июн","июл","авг","сен","окт","ноя","дек"},MONTH(AC15))&" "&RIGHT(YEAR(AC15),2),"") | AE15: =IF(AB15<=N_Hist,INDEX(Sales,Sel_Row,AB15),"") -> 16529 | AF15: =IF(AB15<=N_Hist,INDEX('Прогноз'!$D$25:$AA$36,Sel_Row,AB15),"") -> 16335.35 | AG15: =IF(AB15<N_Hist,"",IF(AB15=N_Hist,AE15,INDEX('Прогноз'!$D$7:$O$18,Sel_Row,AB15-N_Hist))) | AH15: =IF(AB15<=N_Hist,INDEX('Данные'!$F$19:$AC$19,AB15),NA()) -> 1596.6061 | AI15: =IF(AB15>N_Hist,INDEX('Прогноз'!$D$19:$O$19,AB15-N_Hist),NA()) -> #N/A
AB16: 11 | AC16: =EDATE('Данные'!$F$6,AB16-1) -> 45870 | AD16: =IF(MOD(AB16-1,6)=0,INDEX({"янв","фев","мар","апр","май","июн","июл","авг","сен","окт","ноя","дек"},MONTH(AC16))&" "&RIGHT(YEAR(AC16),2),"") | AE16: =IF(AB16<=N_Hist,INDEX(Sales,Sel_Row,AB16),"") -> 17117 | AF16: =IF(AB16<=N_Hist,INDEX('Прогноз'!$D$25:$AA$36,Sel_Row,AB16),"") -> 16925.809 | AG16: =IF(AB16<N_Hist,"",IF(AB16=N_Hist,AE16,INDEX('Прогноз'!$D$7:$O$18,Sel_Row,AB16-N_Hist))) | AH16: =IF(AB16<=N_Hist,INDEX('Данные'!$F$19:$AC$19,AB16),NA()) -> 1655.0341 | AI16: =IF(AB16>N_Hist,INDEX('Прогноз'!$D$19:$O$19,AB16-N_Hist),NA()) -> #N/A
AB17: 12 | AC17: =EDATE('Данные'!$F$6,AB17-1) -> 45901 | AD17: =IF(MOD(AB17-1,6)=0,INDEX({"янв","фев","мар","апр","май","июн","июл","авг","сен","окт","ноя","дек"},MONTH(AC17))&" "&RIGHT(YEAR(AC17),2),"") | AE17: =IF(AB17<=N_Hist,INDEX(Sales,Sel_Row,AB17),"") -> 13727 | AF17: =IF(AB17<=N_Hist,INDEX('Прогноз'!$D$25:$AA$36,Sel_Row,AB17),"") -> 14287.839 | AG17: =IF(AB17<N_Hist,"",IF(AB17=N_Hist,AE17,INDEX('Прогноз'!$D$7:$O$18,Sel_Row,AB17-N_Hist))) | AH17: =IF(AB17<=N_Hist,INDEX('Данные'!$F$19:$AC$19,AB17),NA()) -> 1762.6766 | AI17: =IF(AB17>N_Hist,INDEX('Прогноз'!$D$19:$O$19,AB17-N_Hist),NA()) -> #N/A
AB18: 13 | AC18: =EDATE('Данные'!$F$6,AB18-1) -> 45931 | AD18: =IF(MOD(AB18-1,6)=0,INDEX({"янв","фев","мар","апр","май","июн","июл","авг","сен","окт","ноя","дек"},MONTH(AC18))&" "&RIGHT(YEAR(AC18),2),"") -> окт 25 | AE18: =IF(AB18<=N_Hist,INDEX(Sales,Sel_Row,AB18),"") -> 13066 | AF18: =IF(AB18<=N_Hist,INDEX('Прогноз'!$D$25:$AA$36,Sel_Row,AB18),"") -> 13128.514 | AG18: =IF(AB18<N_Hist,"",IF(AB18=N_Hist,AE18,INDEX('Прогноз'!$D$7:$O$18,Sel_Row,AB18-N_Hist))) | AH18: =IF(AB18<=N_Hist,INDEX('Данные'!$F$19:$AC$19,AB18),NA()) -> 1805.1704 | AI18: =IF(AB18>N_Hist,INDEX('Прогноз'!$D$19:$O$19,AB18-N_Hist),NA()) -> #N/A
AB19: 14 | AC19: =EDATE('Данные'!$F$6,AB19-1) -> 45962 | AD19: =IF(MOD(AB19-1,6)=0,INDEX({"янв","фев","мар","апр","май","июн","июл","авг","сен","окт","ноя","дек"},MONTH(AC19))&" "&RIGHT(YEAR(AC19),2),"") | AE19: =IF(AB19<=N_Hist,INDEX(Sales,Sel_Row,AB19),"") -> 11112 | AF19: =IF(AB19<=N_Hist,INDEX('Прогноз'!$D$25:$AA$36,Sel_Row,AB19),"") -> 12352.581 | AG19: =IF(AB19<N_Hist,"",IF(AB19=N_Hist,AE19,INDEX('Прогноз'!$D$7:$O$18,Sel_Row,AB19-N_Hist))) | AH19: =IF(AB19<=N_Hist,INDEX('Данные'!$F$19:$AC$19,AB19),NA()) -> 1809.762 | AI19: =IF(AB19>N_Hist,INDEX('Прогноз'!$D$19:$O$19,AB19-N_Hist),NA()) -> #N/A
AB20: 15 | AC20: =EDATE('Данные'!$F$6,AB20-1) -> 45992 | AD20: =IF(MOD(AB20-1,6)=0,INDEX({"янв","фев","мар","апр","май","июн","июл","авг","сен","окт","ноя","дек"},MONTH(AC20))&" "&RIGHT(YEAR(AC20),2),"") | AE20: =IF(AB20<=N_Hist,INDEX(Sales,Sel_Row,AB20),"") -> 12971 | AF20: =IF(AB20<=N_Hist,INDEX('Прогноз'!$D$25:$AA$36,Sel_Row,AB20),"") -> 13483.163 | AG20: =IF(AB20<N_Hist,"",IF(AB20=N_Hist,AE20,INDEX('Прогноз'!$D$7:$O$18,Sel_Row,AB20-N_Hist))) | AH20: =IF(AB20<=N_Hist,INDEX('Данные'!$F$19:$AC$19,AB20),NA()) -> 1878.6184 | AI20: =IF(AB20>N_Hist,INDEX('Прогноз'!$D$19:$O$19,AB20-N_Hist),NA()) -> #N/A
AB21: 16 | AC21: =EDATE('Данные'!$F$6,AB21-1) -> 46023 | AD21: =IF(MOD(AB21-1,6)=0,INDEX({"янв","фев","мар","апр","май","июн","июл","авг","сен","окт","ноя","дек"},MONTH(AC21))&" "&RIGHT(YEAR(AC21),2),"") | AE21: =IF(AB21<=N_Hist,INDEX(Sales,Sel_Row,AB21),"") -> 12319 | AF21: =IF(AB21<=N_Hist,INDEX('Прогноз'!$D$25:$AA$36,Sel_Row,AB21),"") -> 12433.667 | AG21: =IF(AB21<N_Hist,"",IF(AB21=N_Hist,AE21,INDEX('Прогноз'!$D$7:$O$18,Sel_Row,AB21-N_Hist))) | AH21: =IF(AB21<=N_Hist,INDEX('Данные'!$F$19:$AC$19,AB21),NA()) -> 1633.1511 | AI21: =IF(AB21>N_Hist,INDEX('Прогноз'!$D$19:$O$19,AB21-N_Hist),NA()) -> #N/A
AB22: 17 | AC22: =EDATE('Данные'!$F$6,AB22-1) -> 46054 | AD22: =IF(MOD(AB22-1,6)=0,INDEX({"янв","фев","мар","апр","май","июн","июл","авг","сен","окт","ноя","дек"},MONTH(AC22))&" "&RIGHT(YEAR(AC22),2),"") | AE22: =IF(AB22<=N_Hist,INDEX(Sales,Sel_Row,AB22),"") -> 12952 | AF22: =IF(AB22<=N_Hist,INDEX('Прогноз'!$D$25:$AA$36,Sel_Row,AB22),"") -> 12927.68 | AG22: =IF(AB22<N_Hist,"",IF(AB22=N_Hist,AE22,INDEX('Прогноз'!$D$7:$O$18,Sel_Row,AB22-N_Hist))) | AH22: =IF(AB22<=N_Hist,INDEX('Данные'!$F$19:$AC$19,AB22),NA()) -> 1702.7734 | AI22: =IF(AB22>N_Hist,INDEX('Прогноз'!$D$19:$O$19,AB22-N_Hist),NA()) -> #N/A
AB23: 18 | AC23: =EDATE('Данные'!$F$6,AB23-1) -> 46082 | AD23: =IF(MOD(AB23-1,6)=0,INDEX({"янв","фев","мар","апр","май","июн","июл","авг","сен","окт","ноя","дек"},MONTH(AC23))&" "&RIGHT(YEAR(AC23),2),"") | AE23: =IF(AB23<=N_Hist,INDEX(Sales,Sel_Row,AB23),"") -> 15824 | AF23: =IF(AB23<=N_Hist,INDEX('Прогноз'!$D$25:$AA$36,Sel_Row,AB23),"") -> 15079.495 | AG23: =IF(AB23<N_Hist,"",IF(AB23=N_Hist,AE23,INDEX('Прогноз'!$D$7:$O$18,Sel_Row,AB23-N_Hist))) | AH23: =IF(AB23<=N_Hist,INDEX('Данные'!$F$19:$AC$19,AB23),NA()) -> 1839.5814 | AI23: =IF(AB23>N_Hist,INDEX('Прогноз'!$D$19:$O$19,AB23-N_Hist),NA()) -> #N/A
AB24: 19 | AC24: =EDATE('Данные'!$F$6,AB24-1) -> 46113 | AD24: =IF(MOD(AB24-1,6)=0,INDEX({"янв","фев","мар","апр","май","июн","июл","авг","сен","окт","ноя","дек"},MONTH(AC24))&" "&RIGHT(YEAR(AC24),2),"") -> апр 26 | AE24: =IF(AB24<=N_Hist,INDEX(Sales,Sel_Row,AB24),"") -> 15834 | AF24: =IF(AB24<=N_Hist,INDEX('Прогноз'!$D$25:$AA$36,Sel_Row,AB24),"") -> 15304.613 | AG24: =IF(AB24<N_Hist,"",IF(AB24=N_Hist,AE24,INDEX('Прогноз'!$D$7:$O$18,Sel_Row,AB24-N_Hist))) | AH24: =IF(AB24<=N_Hist,INDEX('Данные'!$F$19:$AC$19,AB24),NA()) -> 1783.5634 | AI24: =IF(AB24>N_Hist,INDEX('Прогноз'!$D$19:$O$19,AB24-N_Hist),NA()) -> #N/A
... AB29: 24 | AC29: =EDATE('Данные'!$F$6,AB29-1) -> 46266 | AD29: =IF(MOD(AB29-1,6)=0,INDEX({"янв","фев","мар","апр","май","июн","июл","авг","сен","окт","ноя","дек"},MONTH(AC29))&" "&RIGHT(YEAR(AC29),2),"") | AE29: =IF(AB29<=N_Hist,INDEX(Sales,Sel_Row,AB29),"") -> 16653 | AF29: =IF(AB29<=N_Hist,INDEX('Прогноз'!$D$25:$AA$36,Sel_Row,AB29),"") -> 15994.64 | AG29: =IF(AB29<N_Hist,"",IF(AB29=N_Hist,AE29,INDEX('Прогноз'!$D$7:$O$18,Sel_Row,AB29-N_Hist))) -> 16653 | AH29: =IF(AB29<=N_Hist,INDEX('Данные'!$F$19:$AC$19,AB29),NA()) -> 1940.1856 | AI29: =IF(AB29>N_Hist,INDEX('Прогноз'!$D$19:$O$19,AB29-N_Hist),NA()) -> #N/A
B30: ABC-анализ: доля SKU в стоимости закупок за 12 мес. | N30: Закупки по сети, тыс. ₽ в месяц: факт и прогноз | AB30: 25 | AC30: =EDATE('Данные'!$F$6,AB30-1) -> 46296 | AD30: =IF(MOD(AB30-1,6)=0,INDEX({"янв","фев","мар","апр","май","июн","июл","авг","сен","окт","ноя","дек"},MONTH(AC30))&" "&RIGHT(YEAR(AC30),2),"") -> окт 26 | AE30: =IF(AB30<=N_Hist,INDEX(Sales,Sel_Row,AB30),"") | AF30: =IF(AB30<=N_Hist,INDEX('Прогноз'!$D$25:$AA$36,Sel_Row,AB30),"") | AG30: =IF(AB30<N_Hist,"",IF(AB30=N_Hist,AE30,INDEX('Прогноз'!$D$7:$O$18,Sel_Row,AB30-N_Hist))) -> 14681.366 | AH30: =IF(AB30<=N_Hist,INDEX('Данные'!$F$19:$AC$19,AB30),NA()) -> #N/A | AI30: =IF(AB30>N_Hist,INDEX('Прогноз'!$D$19:$O$19,AB30-N_Hist),NA()) -> 1977.4313
AB31: 26 | AC31: =EDATE('Данные'!$F$6,AB31-1) -> 46327 | AD31: =IF(MOD(AB31-1,6)=0,INDEX({"янв","фев","мар","апр","май","июн","июл","авг","сен","окт","ноя","дек"},MONTH(AC31))&" "&RIGHT(YEAR(AC31),2),"") | AE31: =IF(AB31<=N_Hist,INDEX(Sales,Sel_Row,AB31),"") | AF31: =IF(AB31<=N_Hist,INDEX('Прогноз'!$D$25:$AA$36,Sel_Row,AB31),"") | AG31: =IF(AB31<N_Hist,"",IF(AB31=N_Hist,AE31,INDEX('Прогноз'!$D$7:$O$18,Sel_Row,AB31-N_Hist))) -> 13799.393 | AH31: =IF(AB31<=N_Hist,INDEX('Данные'!$F$19:$AC$19,AB31),NA()) -> #N/A | AI31: =IF(AB31>N_Hist,INDEX('Прогноз'!$D$19:$O$19,AB31-N_Hist),NA()) -> 1993.1785
AB32: 27 | AC32: =EDATE('Данные'!$F$6,AB32-1) -> 46357 | AD32: =IF(MOD(AB32-1,6)=0,INDEX({"янв","фев","мар","апр","май","июн","июл","авг","сен","окт","ноя","дек"},MONTH(AC32))&" "&RIGHT(YEAR(AC32),2),"") | AE32: =IF(AB32<=N_Hist,INDEX(Sales,Sel_Row,AB32),"") | AF32: =IF(AB32<=N_Hist,INDEX('Прогноз'!$D$25:$AA$36,Sel_Row,AB32),"") | AG32: =IF(AB32<N_Hist,"",IF(AB32=N_Hist,AE32,INDEX('Прогноз'!$D$7:$O$18,Sel_Row,AB32-N_Hist))) -> 15047.131 | AH32: =IF(AB32<=N_Hist,INDEX('Данные'!$F$19:$AC$19,AB32),NA()) -> #N/A | AI32: =IF(AB32>N_Hist,INDEX('Прогноз'!$D$19:$O$19,AB32-N_Hist),NA()) -> 2018.2219
AB33: 28 | AC33: =EDATE('Данные'!$F$6,AB33-1) -> 46388 | AD33: =IF(MOD(AB33-1,6)=0,INDEX({"янв","фев","мар","апр","май","июн","июл","авг","сен","окт","ноя","дек"},MONTH(AC33))&" "&RIGHT(YEAR(AC33),2),"") | AE33: =IF(AB33<=N_Hist,INDEX(Sales,Sel_Row,AB33),"") | AF33: =IF(AB33<=N_Hist,INDEX('Прогноз'!$D$25:$AA$36,Sel_Row,AB33),"") | AG33: =IF(AB33<N_Hist,"",IF(AB33=N_Hist,AE33,INDEX('Прогноз'!$D$7:$O$18,Sel_Row,AB33-N_Hist))) -> 13862.093 | AH33: =IF(AB33<=N_Hist,INDEX('Данные'!$F$19:$AC$19,AB33),NA()) -> #N/A | AI33: =IF(AB33>N_Hist,INDEX('Прогноз'!$D$19:$O$19,AB33-N_Hist),NA()) -> 1774.5918
AB34: 29 | AC34: =EDATE('Данные'!$F$6,AB34-1) -> 46419 | AD34: =IF(MOD(AB34-1,6)=0,INDEX({"янв","фев","мар","апр","май","июн","июл","авг","сен","окт","ноя","дек"},MONTH(AC34))&" "&RIGHT(YEAR(AC34),2),"") | AE34: =IF(AB34<=N_Hist,INDEX(Sales,Sel_Row,AB34),"") | AF34: =IF(AB34<=N_Hist,INDEX('Прогноз'!$D$25:$AA$36,Sel_Row,AB34),"") | AG34: =IF(AB34<N_Hist,"",IF(AB34=N_Hist,AE34,INDEX('Прогноз'!$D$7:$O$18,Sel_Row,AB34-N_Hist))) -> 14398.775 | AH34: =IF(AB34<=N_Hist,INDEX('Данные'!$F$19:$AC$19,AB34),NA()) -> #N/A | AI34: =IF(AB34>N_Hist,INDEX('Прогноз'!$D$19:$O$19,AB34-N_Hist),NA()) -> 1810.128
AB35: 30 | AC35: =EDATE('Данные'!$F$6,AB35-1) -> 46447 | AD35: =IF(MOD(AB35-1,6)=0,INDEX({"янв","фев","мар","апр","май","июн","июл","авг","сен","окт","ноя","дек"},MONTH(AC35))&" "&RIGHT(YEAR(AC35),2),"") | AE35: =IF(AB35<=N_Hist,INDEX(Sales,Sel_Row,AB35),"") | AF35: =IF(AB35<=N_Hist,INDEX('Прогноз'!$D$25:$AA$36,Sel_Row,AB35),"") | AG35: =IF(AB35<N_Hist,"",IF(AB35=N_Hist,AE35,INDEX('Прогноз'!$D$7:$O$18,Sel_Row,AB35-N_Hist))) -> 16779.335 | AH35: =IF(AB35<=N_Hist,INDEX('Данные'!$F$19:$AC$19,AB35),NA()) -> #N/A | AI35: =IF(AB35>N_Hist,INDEX('Прогноз'!$D$19:$O$19,AB35-N_Hist),NA()) -> 1943.9211
AB36: 31 | AC36: =EDATE('Данные'!$F$6,AB36-1) -> 46478 | AD36: =IF(MOD(AB36-1,6)=0,INDEX({"янв","фев","мар","апр","май","июн","июл","авг","сен","окт","ноя","дек"},MONTH(AC36))&" "&RIGHT(YEAR(AC36),2),"") -> апр 27 | AE36: =IF(AB36<=N_Hist,INDEX(Sales,Sel_Row,AB36),"") | AF36: =IF(AB36<=N_Hist,INDEX('Прогноз'!$D$25:$AA$36,Sel_Row,AB36),"") | AG36: =IF(AB36<N_Hist,"",IF(AB36=N_Hist,AE36,INDEX('Прогноз'!$D$7:$O$18,Sel_Row,AB36-N_Hist))) -> 17013.775 | AH36: =IF(AB36<=N_Hist,INDEX('Данные'!$F$19:$AC$19,AB36),NA()) -> #N/A | AI36: =IF(AB36>N_Hist,INDEX('Прогноз'!$D$19:$O$19,AB36-N_Hist),NA()) -> 1903.4562
AB37: 32 | AC37: =EDATE('Данные'!$F$6,AB37-1) -> 46508 | AD37: =IF(MOD(AB37-1,6)=0,INDEX({"янв","фев","мар","апр","май","июн","июл","авг","сен","окт","ноя","дек"},MONTH(AC37))&" "&RIGHT(YEAR(AC37),2),"") | AE37: =IF(AB37<=N_Hist,INDEX(Sales,Sel_Row,AB37),"") | AF37: =IF(AB37<=N_Hist,INDEX('Прогноз'!$D$25:$AA$36,Sel_Row,AB37),"") | AG37: =IF(AB37<N_Hist,"",IF(AB37=N_Hist,AE37,INDEX('Прогноз'!$D$7:$O$18,Sel_Row,AB37-N_Hist))) -> 18368.396 | AH37: =IF(AB37<=N_Hist,INDEX('Данные'!$F$19:$AC$19,AB37),NA()) -> #N/A | AI37: =IF(AB37>N_Hist,INDEX('Прогноз'!$D$19:$O$19,AB37-N_Hist),NA()) -> 1899.0756
AB38: 33 | AC38: =EDATE('Данные'!$F$6,AB38-1) -> 46539 | AD38: =IF(MOD(AB38-1,6)=0,INDEX({"янв","фев","мар","апр","май","июн","июл","авг","сен","окт","ноя","дек"},MONTH(AC38))&" "&RIGHT(YEAR(AC38),2),"") | AE38: =IF(AB38<=N_Hist,INDEX(Sales,Sel_Row,AB38),"") | AF38: =IF(AB38<=N_Hist,INDEX('Прогноз'!$D$25:$AA$36,Sel_Row,AB38),"") | AG38: =IF(AB38<N_Hist,"",IF(AB38=N_Hist,AE38,INDEX('Прогноз'!$D$7:$O$18,Sel_Row,AB38-N_Hist))) -> 21563.668 | AH38: =IF(AB38<=N_Hist,INDEX('Данные'!$F$19:$AC$19,AB38),NA()) -> #N/A | AI38: =IF(AB38>N_Hist,INDEX('Прогноз'!$D$19:$O$19,AB38-N_Hist),NA()) -> 1891.6757
AB39: 34 | AC39: =EDATE('Данные'!$F$6,AB39-1) -> 46569 | AD39: =IF(MOD(AB39-1,6)=0,INDEX({"янв","фев","мар","апр","май","июн","июл","авг","сен","окт","ноя","дек"},MONTH(AC39))&" "&RIGHT(YEAR(AC39),2),"") | AE39: =IF(AB39<=N_Hist,INDEX(Sales,Sel_Row,AB39),"") | AF39: =IF(AB39<=N_Hist,INDEX('Прогноз'!$D$25:$AA$36,Sel_Row,AB39),"") | AG39: =IF(AB39<N_Hist,"",IF(AB39=N_Hist,AE39,INDEX('Прогноз'!$D$7:$O$18,Sel_Row,AB39-N_Hist))) -> 20317.418 | AH39: =IF(AB39<=N_Hist,INDEX('Данные'!$F$19:$AC$19,AB39),NA()) -> #N/A | AI39: =IF(AB39>N_Hist,INDEX('Прогноз'!$D$19:$O$19,AB39-N_Hist),NA()) -> 1865.6246
AB40: 35 | AC40: =EDATE('Данные'!$F$6,AB40-1) -> 46600 | AD40: =IF(MOD(AB40-1,6)=0,INDEX({"янв","фев","мар","апр","май","июн","июл","авг","сен","окт","ноя","дек"},MONTH(AC40))&" "&RIGHT(YEAR(AC40),2),"") | AE40: =IF(AB40<=N_Hist,INDEX(Sales,Sel_Row,AB40),"") | AF40: =IF(AB40<=N_Hist,INDEX('Прогноз'!$D$25:$AA$36,Sel_Row,AB40),"") | AG40: =IF(AB40<N_Hist,"",IF(AB40=N_Hist,AE40,INDEX('Прогноз'!$D$7:$O$18,Sel_Row,AB40-N_Hist))) -> 21010.327 | AH40: =IF(AB40<=N_Hist,INDEX('Данные'!$F$19:$AC$19,AB40),NA()) -> #N/A | AI40: =IF(AB40>N_Hist,INDEX('Прогноз'!$D$19:$O$19,AB40-N_Hist),NA()) -> 1919.6251
AB41: 36 | AC41: =EDATE('Данные'!$F$6,AB41-1) -> 46631 | AD41: =IF(MOD(AB41-1,6)=0,INDEX({"янв","фев","мар","апр","май","июн","июл","авг","сен","окт","ноя","дек"},MONTH(AC41))&" "&RIGHT(YEAR(AC41),2),"") | AE41: =IF(AB41<=N_Hist,INDEX(Sales,Sel_Row,AB41),"") | AF41: =IF(AB41<=N_Hist,INDEX('Прогноз'!$D$25:$AA$36,Sel_Row,AB41),"") | AG41: =IF(AB41<N_Hist,"",IF(AB41=N_Hist,AE41,INDEX('Прогноз'!$D$7:$O$18,Sel_Row,AB41-N_Hist))) -> 17701.441 | AH41: =IF(AB41<=N_Hist,INDEX('Данные'!$F$19:$AC$19,AB41),NA()) -> #N/A | AI41: =IF(AB41>N_Hist,INDEX('Прогноз'!$D$19:$O$19,AB41-N_Hist),NA()) -> 2064.6275
AB42: Линия начала прогноза
AC43: =AC29 -> 46266 | AE43: 0
AC44: =AC29 -> 46266 | AE44: =MAX(AE6:AE41,AG6:AG41)*1.06 -> 22857.488
B47: ="Прогноз закупок на 12 мес.: "&FIXED('Прогноз'!S19/1000,1)&" млн ₽ · к заказу сейчас: "&'Закупки'!T19&" SKU на "&FIXED('Закупки'!V19/1000,0)&" тыс. ₽ · "&COUNTIF('ABC-XYZ'!G8:G19,"A")&" SKU класса A дают "&FIXED(SUMIF('ABC-XYZ'!G8:G19,"A",'ABC-XYZ'!E8:E19)*100,0)&" % стоимости закупок" -> Прогноз закупок на 12 мес.: 23,1 млн ₽ · к заказу сейчас: 6 SKU на 639 тыс. ₽ · 4 SKU класса A дают 78 % стоимости закупок
B48: Как пользоваться: выберите код SKU в жёлтой ячейке — карточки и графики пересчитаются. Данные — лист «Данные», параметры — жёлтые ячейки на листах.

Sheet Данные
A1: Исходные данные: расход по SKU, ед. в месяц
A2: Сеть кофеен «Зерно и пар» (4 точки) · факт за октябрь 2024 — сентябрь 2026 · данные синтетические, сгенерированы для демонстрации модели
A3: Обозначения: синий — исходные данные и параметры (ввод), чёрный — формулы, зелёный — ссылки на другие листы, жёлтая заливка — ячейки для ввода
E4: период t | F4: 1 | G4: =F4+1 -> 2 | H4: =G4+1 -> 3 | I4: =H4+1 -> 4 | J4: =I4+1 -> 5 | K4: =J4+1 -> 6 | L4: =K4+1 -> 7 | M4: =L4+1 -> 8 | N4: =M4+1 -> 9 | ... AC4: =AB4+1 -> 24
E5: месяц № | F5: =MONTH(F6) -> 10 | G5: =MONTH(G6) -> 11 | H5: =MONTH(H6) -> 12 | I5: =MONTH(I6) -> 1 | J5: =MONTH(J6) -> 2 | K5: =MONTH(K6) -> 3 | L5: =MONTH(L6) -> 4 | M5: =MONTH(M6) -> 5 | ... AC5: =MONTH(AC6) -> 9
A6: Код | B6: Наименование | C6: Категория | D6: Ед. | E6: Цена, ₽/ед. | F6: 45566 | G6: 45597 | H6: 45627 | I6: 45658 | J6: 45689 | K6: 45717 | L6: 45748 | M6: 45778 | N6: 45809 | O6: 45839 | P6: 45870 | Q6: 45901 | R6: 45931 | S6: 45962 | T6: 45992 | U6: 46023 | V6: 46054 | W6: 46082 | X6: 46113 | Y6: 46143 | Z6: 46174 | AA6: 46204 | AB6: 46235 | AC6: 46266 | AD6: Динамика 24 мес.
A7: ESP-01 | B7: Зерно «Эспрессо-бленд» | C7: Кофе | D7: кг | E7: 1680 | F7: 363 | G7: 382 | H7: 370 | I7: 350 | J7: 358 | K7: 366 | L7: 365 | M7: 367 | N7: 348 | O7: 339 | P7: 360 | Q7: 394 | R7: 400 | S7: 406 | T7: 427 | U7: 350 | V7: 370 | W7: 405 | X7: 394 | Y7: 372 | Z7: 371 | AA7: 376 | AB7: 374 | AC7: 414
A8: FLT-02 | B8: Зерно «Эфиопия Иргачеффе», фильтр | C8: Кофе | D8: кг | E8: 2450 | F8: 34 | G8: 36 | H8: 32 | I8: 37 | J8: 32 | K8: 36 | L8: 34 | M8: 43 | N8: 44 | O8: 46 | P8: 40 | Q8: 42 | R8: 38 | S8: 37 | T8: 41 | U8: 43 | V8: 42 | W8: 41 | X8: 42 | Y8: 52 | Z8: 51 | AA8: 54 | AB8: 59 | AC8: 45
A9: MLK-03 | B9: Молоко 3,2 % | C9: Молочное | D9: л | E9: 92 | F9: 3875 | G9: 4025 | H9: 3947 | I9: 3220 | J9: 3180 | K9: 3591 | L9: 3374 | M9: 3380 | N9: 3225 | O9: 3212 | P9: 3433 | Q9: 3512 | R9: 3570 | S9: 3619 | T9: 3779 | U9: 3123 | V9: 3343 | W9: 3858 | X9: 3561 | Y9: 3629 | Z9: 3299 | AA9: 3394 | AB9: 3229 | AC9: 3707
A10: OAT-04 | B10: Напиток овсяный «Бариста» | C10: Молочное | D10: л | E10: 245 | F10: 425 | G10: 371 | H10: 426 | I10: 384 | J10: 387 | K10: 398 | L10: 454 | M10: 426 | N10: 475 | O10: 417 | P10: 453 | Q10: 501 | R10: 516 | S10: 485 | T10: 520 | U10: 502 | V10: 505 | W10: 586 | X10: 592 | Y10: 521 | Z10: 529 | AA10: 549 | AB10: 619 | AC10: 749
A11: SYR-05 | B11: Сироп «Ваниль», 1 л | C11: Сиропы | D11: бут. | E11: 540 | F11: 36 | G11: 38 | H11: 35 | I11: 34 | J11: 32 | K11: 41 | L11: 46 | M11: 42 | N11: 52 | O11: 46 | P11: 43 | Q11: 43 | R11: 42 | S11: 44 | T11: 38 | U11: 31 | V11: 42 | W11: 40 | X11: 44 | Y11: 55 | Z11: 41 | AA11: 51 | AB11: 51 | AC11: 45
A12: SYR-06 | B12: Сироп «Тыквенный пряный», 1 л | C12: Сиропы | D12: бут. | E12: 610 | F12: 80 | G12: 64 | H12: 48 | I12: 10 | J12: 5 | K12: 4 | L12: 2 | M12: 3 | N12: 2 | O12: 3 | P12: 7 | Q12: 41 | R12: 86 | S12: 62 | T12: 56 | U12: 13 | V12: 5 | W12: 4 | X12: 2 | Y12: 2 | Z12: 3 | AA12: 3 | AB12: 11 | AC12: 56
A13: CUP-07 | B13: Стакан бумажный 300 мл | C13: Упаковка | D13: шт. | E13: 7.4 | F13: 11612 | G13: 11985 | H13: 12360 | I13: 11100 | J13: 11432 | K13: 12721 | L13: 13131 | M13: 15105 | N13: 16412 | O13: 16529 | P13: 17117 | Q13: 13727 | R13: 13066 | S13: 11112 | T13: 12971 | U13: 12319 | V13: 12952 | W13: 15824 | X13: 15834 | Y13: 16103 | Z13: 20454 | AA13: 18132 | AB13: 18783 | AC13: 16653
A14: LID-08 | B14: Крышка для стакана Ø 90 мм | C14: Упаковка | D14: шт. | E14: 3.1 | F14: 11241 | G14: 11615 | H14: 11373 | I14: 10798 | J14: 10726 | K14: 13046 | L14: 12807 | M14: 13539 | N14: 17162 | O14: 16295 | P14: 16003 | Q14: 15618 | R14: 13680 | S14: 12302 | T14: 12970 | U14: 11135 | V14: 12676 | W14: 14218 | X14: 15278 | Y14: 16118 | Z14: 14581 | AA14: 18835 | AB14: 17672 | AC14: 15324
A15: CRS-09 | B15: Круассан сливочный, заморозка | C15: Выпечка | D15: шт. | E15: 54 | F15: 5294 | G15: 5279 | H15: 5479 | I15: 4243 | J15: 4447 | K15: 5092 | L15: 4989 | M15: 4875 | N15: 4651 | O15: 4575 | P15: 4658 | Q15: 5262 | R15: 5411 | S15: 5725 | T15: 5545 | U15: 4987 | V15: 5181 | W15: 5272 | X15: 5091 | Y15: 5174 | Z15: 5053 | AA15: 4456 | AB15: 4893 | AC15: 5494
A16: TEA-10 | B16: Чай зелёный «Сенча», 500 г | C16: Чай и какао | D16: уп. | E16: 1450 | F16: 25 | G16: 29 | H16: 29 | I16: 29 | J16: 27 | K16: 25 | L16: 22 | M16: 18 | N16: 17 | O16: 15 | P16: 16 | Q16: 21 | R16: 25 | S16: 31 | T16: 33 | U16: 39 | V16: 37 | W16: 32 | X16: 29 | Y16: 18 | Z16: 18 | AA16: 17 | AB16: 18 | AC16: 28
A17: ICE-11 | B17: Лёд пищевой, кубики | C17: Прочее | D17: кг | E17: 34 | F17: 325 | G17: 196 | H17: 173 | I17: 135 | J17: 147 | K17: 244 | L17: 350 | M17: 525 | N17: 862 | O17: 1052 | P17: 974 | Q17: 476 | R17: 270 | S17: 196 | T17: 182 | U17: 147 | V17: 197 | W17: 311 | X17: 421 | Y17: 571 | Z17: 970 | AA17: 936 | AB17: 813 | AC17: 566
A18: CHO-12 | B18: Шоколад для горячего шоколада | C18: Чай и какао | D18: кг | E18: 1150 | F18: 29 | G18: 32 | H18: 33 | I18: 34 | J18: 35 | K18: 28 | L18: 22 | M18: 17 | N18: 11 | O18: 11 | P18: 12 | Q18: 20 | R18: 29 | S18: 37 | T18: 36 | U18: 42 | V18: 40 | W18: 29 | X18: 22 | Y18: 14 | Z18: 14 | AA18: 11 | AB18: 13 | AC18: 21
A19: Итого стоимость закупок, тыс. ₽ | F19: =SUMPRODUCT(F7:F18,Prices)/1000 -> 1709.3069 | G19: =SUMPRODUCT(G7:G18,Prices)/1000 -> 1745.9905 | H19: =SUMPRODUCT(H7:H18,Prices)/1000 -> 1724.1423 | I19: =SUMPRODUCT(I7:I18,Prices)/1000 -> 1523.9058 | J19: =SUMPRODUCT(J7:J18,Prices)/1000 -> 1529.9284 | K19: =SUMPRODUCT(K7:K18,Prices)/1000 -> 1641.834 | L19: =SUMPRODUCT(L7:L18,Prices)/1000 -> 1619.5751 | M19: =SUMPRODUCT(M7:M18,Prices)/1000 -> 1642.2479 | ... AC19: =SUMPRODUCT(AC7:AC18,Prices)/1000 -> 1940.1856
A21: Источник: выгрузка из учётной системы (здесь — синтетический ряд: тренд × сезонность × случайный шум, seed 2026). Чтобы обновить модель, замените значения в синих ячейках — все остальные листы пересчитаются.

Sheet Сезонность
A1: Сезонные индексы спроса
A2: Индекс месяца = СРЗНАЧЕСЛИМН(факт ÷ базовый тренд; месяц) ÷ среднее отношение за 24 мес. 1,20 — спрос на 20 % выше уровня тренда. Расчёт по шагам — ниже таблицы.
A3: Обозначения: синий — исходные данные и параметры (ввод), чёрный — формулы, зелёный — ссылки на другие листы, жёлтая заливка — ячейки для ввода
C5: месяц № | D5: 1 | E5: 2 | F5: 3 | G5: 4 | H5: 5 | I5: 6 | J5: 7 | K5: 8 | L5: 9 | M5: 10 | N5: 11 | O5: 12
A6: Код | B6: Наименование | C6: Ед. | D6: янв | E6: фев | F6: мар | G6: апр | H6: май | I6: июн | J6: июл | K6: авг | L6: сен | M6: окт | N6: ноя | O6: дек | P6: Пиковый месяц | Q6: Размах, max ÷ min | R6: Контроль: среднее
A7: ='Данные'!A7 -> ESP-01 | B7: ='Данные'!B7 -> Зерно «Эспрессо-бленд» | C7: ='Данные'!D7 -> кг | D7: =AVERAGEIFS($D23:$AA23,MonthNo,D$5)/AVERAGE($D23:$AA23) -> 0.94469575 | E7: =AVERAGEIFS($D23:$AA23,MonthNo,E$5)/AVERAGE($D23:$AA23) -> 0.9765011 | F7: =AVERAGEIFS($D23:$AA23,MonthNo,F$5)/AVERAGE($D23:$AA23) -> 1.0273209 | G7: =AVERAGEIFS($D23:$AA23,MonthNo,G$5)/AVERAGE($D23:$AA23) -> 1.0062038 | H7: =AVERAGEIFS($D23:$AA23,MonthNo,H$5)/AVERAGE($D23:$AA23) -> 0.97535494 | I7: =AVERAGEIFS($D23:$AA23,MonthNo,I$5)/AVERAGE($D23:$AA23) -> 0.94303859 | J7: =AVERAGEIFS($D23:$AA23,MonthNo,J$5)/AVERAGE($D23:$AA23) -> 0.932142 | K7: =AVERAGEIFS($D23:$AA23,MonthNo,K$5)/AVERAGE($D23:$AA23) -> 0.95278676 | ... O7: =AVERAGEIFS($D23:$AA23,MonthNo,O$5)/AVERAGE($D23:$AA23) -> 1.0790381 | P7: =INDEX($D$6:$O$6,MATCH(MAX(D7:O7),D7:O7,0)) -> дек | Q7: =MAX(D7:O7)/MIN(D7:O7) -> 1.1575898 | R7: =AVERAGE(D7:O7) -> 1
A8: ='Данные'!A8 -> FLT-02 | B8: ='Данные'!B8 -> Зерно «Эфиопия Иргачеффе», фильтр | C8: ='Данные'!D8 -> кг | D8: =AVERAGEIFS($D24:$AA24,MonthNo,D$5)/AVERAGE($D24:$AA24) -> 1.0001629 | E8: =AVERAGEIFS($D24:$AA24,MonthNo,E$5)/AVERAGE($D24:$AA24) -> 0.90597464 | F8: =AVERAGEIFS($D24:$AA24,MonthNo,F$5)/AVERAGE($D24:$AA24) -> 0.9344832 | G8: =AVERAGEIFS($D24:$AA24,MonthNo,G$5)/AVERAGE($D24:$AA24) -> 0.90539062 | H8: =AVERAGEIFS($D24:$AA24,MonthNo,H$5)/AVERAGE($D24:$AA24) -> 1.1162624 | I8: =AVERAGEIFS($D24:$AA24,MonthNo,I$5)/AVERAGE($D24:$AA24) -> 1.1022067 | J8: =AVERAGEIFS($D24:$AA24,MonthNo,J$5)/AVERAGE($D24:$AA24) -> 1.1431237 | K8: =AVERAGEIFS($D24:$AA24,MonthNo,K$5)/AVERAGE($D24:$AA24) -> 1.1053753 | ... O8: =AVERAGEIFS($D24:$AA24,MonthNo,O$5)/AVERAGE($D24:$AA24) -> 0.92283503 | P8: =INDEX($D$6:$O$6,MATCH(MAX(D8:O8),D8:O8,0)) -> июл | Q8: =MAX(D8:O8)/MIN(D8:O8) -> 1.2625751 | R8: =AVERAGE(D8:O8) -> 1
A9: ='Данные'!A9 -> MLK-03 | B9: ='Данные'!B9 -> Молоко 3,2 % | C9: ='Данные'!D9 -> л | D9: =AVERAGEIFS($D25:$AA25,MonthNo,D$5)/AVERAGE($D25:$AA25) -> 0.90584061 | E9: =AVERAGEIFS($D25:$AA25,MonthNo,E$5)/AVERAGE($D25:$AA25) -> 0.9312321 | F9: =AVERAGEIFS($D25:$AA25,MonthNo,F$5)/AVERAGE($D25:$AA25) -> 1.0631215 | G9: =AVERAGEIFS($D25:$AA25,MonthNo,G$5)/AVERAGE($D25:$AA25) -> 0.98950898 | H9: =AVERAGEIFS($D25:$AA25,MonthNo,H$5)/AVERAGE($D25:$AA25) -> 0.99978215 | I9: =AVERAGEIFS($D25:$AA25,MonthNo,I$5)/AVERAGE($D25:$AA25) -> 0.9303846 | J9: =AVERAGEIFS($D25:$AA25,MonthNo,J$5)/AVERAGE($D25:$AA25) -> 0.94179815 | K9: =AVERAGEIFS($D25:$AA25,MonthNo,K$5)/AVERAGE($D25:$AA25) -> 0.94961421 | ... O9: =AVERAGEIFS($D25:$AA25,MonthNo,O$5)/AVERAGE($D25:$AA25) -> 1.1036577 | P9: =INDEX($D$6:$O$6,MATCH(MAX(D9:O9),D9:O9,0)) -> дек | Q9: =MAX(D9:O9)/MIN(D9:O9) -> 1.2183795 | R9: =AVERAGE(D9:O9) -> 1
A10: ='Данные'!A10 -> OAT-04 | B10: ='Данные'!B10 -> Напиток овсяный «Бариста» | C10: ='Данные'!D10 -> л | D10: =AVERAGEIFS($D26:$AA26,MonthNo,D$5)/AVERAGE($D26:$AA26) -> 0.95456965 | E10: =AVERAGEIFS($D26:$AA26,MonthNo,E$5)/AVERAGE($D26:$AA26) -> 0.93885574 | F10: =AVERAGEIFS($D26:$AA26,MonthNo,F$5)/AVERAGE($D26:$AA26) -> 1.004142 | G10: =AVERAGEIFS($D26:$AA26,MonthNo,G$5)/AVERAGE($D26:$AA26) -> 1.0522312 | H10: =AVERAGEIFS($D26:$AA26,MonthNo,H$5)/AVERAGE($D26:$AA26) -> 0.9358526 | I10: =AVERAGEIFS($D26:$AA26,MonthNo,I$5)/AVERAGE($D26:$AA26) -> 0.97681775 | J10: =AVERAGEIFS($D26:$AA26,MonthNo,J$5)/AVERAGE($D26:$AA26) -> 0.91078177 | K10: =AVERAGEIFS($D26:$AA26,MonthNo,K$5)/AVERAGE($D26:$AA26) -> 0.98803147 | ... O10: =AVERAGEIFS($D26:$AA26,MonthNo,O$5)/AVERAGE($D26:$AA26) -> 1.0491783 | P10: =INDEX($D$6:$O$6,MATCH(MAX(D10:O10),D10:O10,0)) -> сен | Q10: =MAX(D10:O10)/MIN(D10:O10) -> 1.233405 | R10: =AVERAGE(D10:O10) -> 1
A11: ='Данные'!A11 -> SYR-05 | B11: ='Данные'!B11 -> Сироп «Ваниль», 1 л | C11: ='Данные'!D11 -> бут. | D11: =AVERAGEIFS($D27:$AA27,MonthNo,D$5)/AVERAGE($D27:$AA27) -> 0.78574654 | E11: =AVERAGEIFS($D27:$AA27,MonthNo,E$5)/AVERAGE($D27:$AA27) -> 0.88339217 | F11: =AVERAGEIFS($D27:$AA27,MonthNo,F$5)/AVERAGE($D27:$AA27) -> 0.96630186 | G11: =AVERAGEIFS($D27:$AA27,MonthNo,G$5)/AVERAGE($D27:$AA27) -> 1.0676768 | H11: =AVERAGEIFS($D27:$AA27,MonthNo,H$5)/AVERAGE($D27:$AA27) -> 1.1376368 | I11: =AVERAGEIFS($D27:$AA27,MonthNo,I$5)/AVERAGE($D27:$AA27) -> 1.0940014 | J11: =AVERAGEIFS($D27:$AA27,MonthNo,J$5)/AVERAGE($D27:$AA27) -> 1.1276981 | K11: =AVERAGEIFS($D27:$AA27,MonthNo,K$5)/AVERAGE($D27:$AA27) -> 1.0852404 | ... O11: =AVERAGEIFS($D27:$AA27,MonthNo,O$5)/AVERAGE($D27:$AA27) -> 0.88501038 | P11: =INDEX($D$6:$O$6,MATCH(MAX(D11:O11),D11:O11,0)) -> май | Q11: =MAX(D11:O11)/MIN(D11:O11) -> 1.447842 | R11: =AVERAGE(D11:O11) -> 1
A12: ='Данные'!A12 -> SYR-06 | B12: ='Данные'!B12 -> Сироп «Тыквенный пряный», 1 л | C12: ='Данные'!D12 -> бут. | D12: =AVERAGEIFS($D28:$AA28,MonthNo,D$5)/AVERAGE($D28:$AA28) -> 0.48093319 | E12: =AVERAGEIFS($D28:$AA28,MonthNo,E$5)/AVERAGE($D28:$AA28) -> 0.20864188 | F12: =AVERAGEIFS($D28:$AA28,MonthNo,F$5)/AVERAGE($D28:$AA28) -> 0.16523974 | G12: =AVERAGEIFS($D28:$AA28,MonthNo,G$5)/AVERAGE($D28:$AA28) -> 0.081799663 | H12: =AVERAGEIFS($D28:$AA28,MonthNo,H$5)/AVERAGE($D28:$AA28) -> 0.10243053 | I12: =AVERAGEIFS($D28:$AA28,MonthNo,I$5)/AVERAGE($D28:$AA28) -> 0.099096052 | J12: =AVERAGEIFS($D28:$AA28,MonthNo,J$5)/AVERAGE($D28:$AA28) -> 0.11915135 | K12: =AVERAGEIFS($D28:$AA28,MonthNo,K$5)/AVERAGE($D28:$AA28) -> 0.34956488 | ... O12: =AVERAGEIFS($D28:$AA28,MonthNo,O$5)/AVERAGE($D28:$AA28) -> 2.204258 | P12: =INDEX($D$6:$O$6,MATCH(MAX(D12:O12),D12:O12,0)) -> окт | Q12: =MAX(D12:O12)/MIN(D12:O12) -> 44.028755 | R12: =AVERAGE(D12:O12) -> 1
A13: ='Данные'!A13 -> CUP-07 | B13: ='Данные'!B13 -> Стакан бумажный 300 мл | C13: ='Данные'!D13 -> шт. | D13: =AVERAGEIFS($D29:$AA29,MonthNo,D$5)/AVERAGE($D29:$AA29) -> 0.83319533 | E13: =AVERAGEIFS($D29:$AA29,MonthNo,E$5)/AVERAGE($D29:$AA29) -> 0.85808471 | F13: =AVERAGEIFS($D29:$AA29,MonthNo,F$5)/AVERAGE($D29:$AA29) -> 0.99151075 | G13: =AVERAGEIFS($D29:$AA29,MonthNo,G$5)/AVERAGE($D29:$AA29) -> 0.99694768 | H13: =AVERAGEIFS($D29:$AA29,MonthNo,H$5)/AVERAGE($D29:$AA29) -> 1.0673882 | I13: =AVERAGEIFS($D29:$AA29,MonthNo,I$5)/AVERAGE($D29:$AA29) -> 1.2427483 | J13: =AVERAGEIFS($D29:$AA29,MonthNo,J$5)/AVERAGE($D29:$AA29) -> 1.1613627 | K13: =AVERAGEIFS($D29:$AA29,MonthNo,K$5)/AVERAGE($D29:$AA29) -> 1.1912419 | ... O13: =AVERAGEIFS($D29:$AA29,MonthNo,O$5)/AVERAGE($D29:$AA29) -> 0.91225692 | P13: =INDEX($D$6:$O$6,MATCH(MAX(D13:O13),D13:O13,0)) -> июн | Q13: =MAX(D13:O13)/MIN(D13:O13) -> 1.491545 | R13: =AVERAGE(D13:O13) -> 1
A14: ='Данные'!A14 -> LID-08 | B14: ='Данные'!B14 -> Крышка для стакана Ø 90 мм | C14: ='Данные'!D14 -> шт. | D14: =AVERAGEIFS($D30:$AA30,MonthNo,D$5)/AVERAGE($D30:$AA30) -> 0.80326681 | E14: =AVERAGEIFS($D30:$AA30,MonthNo,E$5)/AVERAGE($D30:$AA30) -> 0.84822455 | F14: =AVERAGEIFS($D30:$AA30,MonthNo,F$5)/AVERAGE($D30:$AA30) -> 0.98275068 | G14: =AVERAGEIFS($D30:$AA30,MonthNo,G$5)/AVERAGE($D30:$AA30) -> 1.003058 | H14: =AVERAGEIFS($D30:$AA30,MonthNo,H$5)/AVERAGE($D30:$AA30) -> 1.0516562 | I14: =AVERAGEIFS($D30:$AA30,MonthNo,I$5)/AVERAGE($D30:$AA30) -> 1.125677 | J14: =AVERAGEIFS($D30:$AA30,MonthNo,J$5)/AVERAGE($D30:$AA30) -> 1.2288919 | K14: =AVERAGEIFS($D30:$AA30,MonthNo,K$5)/AVERAGE($D30:$AA30) -> 1.1708466 | ... O14: =AVERAGEIFS($D30:$AA30,MonthNo,O$5)/AVERAGE($D30:$AA30) -> 0.89616585 | P14: =INDEX($D$6:$O$6,MATCH(MAX(D14:O14),D14:O14,0)) -> июл | Q14: =MAX(D14:O14)/MIN(D14:O14) -> 1.5298676 | R14: =AVERAGE(D14:O14) -> 1
A15: ='Данные'!A15 -> CRS-09 | B15: ='Данные'!B15 -> Круассан сливочный, заморозка | C15: ='Данные'!D15 -> шт. | D15: =AVERAGEIFS($D31:$AA31,MonthNo,D$5)/AVERAGE($D31:$AA31) -> 0.92331738 | E15: =AVERAGEIFS($D31:$AA31,MonthNo,E$5)/AVERAGE($D31:$AA31) -> 0.95866542 | F15: =AVERAGEIFS($D31:$AA31,MonthNo,F$5)/AVERAGE($D31:$AA31) -> 1.0287826 | G15: =AVERAGEIFS($D31:$AA31,MonthNo,G$5)/AVERAGE($D31:$AA31) -> 0.99606837 | H15: =AVERAGEIFS($D31:$AA31,MonthNo,H$5)/AVERAGE($D31:$AA31) -> 0.98778745 | I15: =AVERAGEIFS($D31:$AA31,MonthNo,I$5)/AVERAGE($D31:$AA31) -> 0.94910085 | J15: =AVERAGEIFS($D31:$AA31,MonthNo,J$5)/AVERAGE($D31:$AA31) -> 0.88050787 | K15: =AVERAGEIFS($D31:$AA31,MonthNo,K$5)/AVERAGE($D31:$AA31) -> 0.92591251 | ... O15: =AVERAGEIFS($D31:$AA31,MonthNo,O$5)/AVERAGE($D31:$AA31) -> 1.1104721 | P15: =INDEX($D$6:$O$6,MATCH(MAX(D15:O15),D15:O15,0)) -> ноя | Q15: =MAX(D15:O15)/MIN(D15:O15) -> 1.2637108 | R15: =AVERAGE(D15:O15) -> 1
A16: ='Данные'!A16 -> TEA-10 | B16: ='Данные'!B16 -> Чай зелёный «Сенча», 500 г | C16: ='Данные'!D16 -> уп. | D16: =AVERAGEIFS($D32:$AA32,MonthNo,D$5)/AVERAGE($D32:$AA32) -> 1.3927579 | E16: =AVERAGEIFS($D32:$AA32,MonthNo,E$5)/AVERAGE($D32:$AA32) -> 1.2902878 | F16: =AVERAGEIFS($D32:$AA32,MonthNo,F$5)/AVERAGE($D32:$AA32) -> 1.135721 | G16: =AVERAGEIFS($D32:$AA32,MonthNo,G$5)/AVERAGE($D32:$AA32) -> 1.0002232 | H16: =AVERAGEIFS($D32:$AA32,MonthNo,H$5)/AVERAGE($D32:$AA32) -> 0.70422255 | I16: =AVERAGEIFS($D32:$AA32,MonthNo,I$5)/AVERAGE($D32:$AA32) -> 0.6733301 | J16: =AVERAGEIFS($D32:$AA32,MonthNo,J$5)/AVERAGE($D32:$AA32) -> 0.60531852 | K16: =AVERAGEIFS($D32:$AA32,MonthNo,K$5)/AVERAGE($D32:$AA32) -> 0.63451858 | ... O16: =AVERAGEIFS($D32:$AA32,MonthNo,O$5)/AVERAGE($D32:$AA32) -> 1.2991976 | P16: =INDEX($D$6:$O$6,MATCH(MAX(D16:O16),D16:O16,0)) -> янв | Q16: =MAX(D16:O16)/MIN(D16:O16) -> 2.3008679 | R16: =AVERAGE(D16:O16) -> 1
A17: ='Данные'!A17 -> ICE-11 | B17: ='Данные'!B17 -> Лёд пищевой, кубики | C17: ='Данные'!D17 -> кг | D17: =AVERAGEIFS($D33:$AA33,MonthNo,D$5)/AVERAGE($D33:$AA33) -> 0.30883639 | E17: =AVERAGEIFS($D33:$AA33,MonthNo,E$5)/AVERAGE($D33:$AA33) -> 0.37562154 | F17: =AVERAGEIFS($D33:$AA33,MonthNo,F$5)/AVERAGE($D33:$AA33) -> 0.6050744 | G17: =AVERAGEIFS($D33:$AA33,MonthNo,G$5)/AVERAGE($D33:$AA33) -> 0.83929372 | H17: =AVERAGEIFS($D33:$AA33,MonthNo,H$5)/AVERAGE($D33:$AA33) -> 1.1915627 | I17: =AVERAGEIFS($D33:$AA33,MonthNo,I$5)/AVERAGE($D33:$AA33) -> 1.9877464 | J17: =AVERAGEIFS($D33:$AA33,MonthNo,J$5)/AVERAGE($D33:$AA33) -> 2.1558473 | K17: =AVERAGEIFS($D33:$AA33,MonthNo,K$5)/AVERAGE($D33:$AA33) -> 1.9350296 | ... O17: =AVERAGEIFS($D33:$AA33,MonthNo,O$5)/AVERAGE($D33:$AA33) -> 0.38957201 | P17: =INDEX($D$6:$O$6,MATCH(MAX(D17:O17),D17:O17,0)) -> июл | Q17: =MAX(D17:O17)/MIN(D17:O17) -> 6.9805481 | R17: =AVERAGE(D17:O17) -> 1
A18: ='Данные'!A18 -> CHO-12 | B18: ='Данные'!B18 -> Шоколад для горячего шоколада | C18: ='Данные'!D18 -> кг | D18: =AVERAGEIFS($D34:$AA34,MonthNo,D$5)/AVERAGE($D34:$AA34) -> 1.5504301 | E18: =AVERAGEIFS($D34:$AA34,MonthNo,E$5)/AVERAGE($D34:$AA34) -> 1.5220083 | F18: =AVERAGEIFS($D34:$AA34,MonthNo,F$5)/AVERAGE($D34:$AA34) -> 1.1511813 | G18: =AVERAGEIFS($D34:$AA34,MonthNo,G$5)/AVERAGE($D34:$AA34) -> 0.88325785 | H18: =AVERAGEIFS($D34:$AA34,MonthNo,H$5)/AVERAGE($D34:$AA34) -> 0.62052004 | I18: =AVERAGEIFS($D34:$AA34,MonthNo,I$5)/AVERAGE($D34:$AA34) -> 0.49279168 | J18: =AVERAGEIFS($D34:$AA34,MonthNo,J$5)/AVERAGE($D34:$AA34) -> 0.43285604 | K18: =AVERAGEIFS($D34:$AA34,MonthNo,K$5)/AVERAGE($D34:$AA34) -> 0.48787736 | ... O18: =AVERAGEIFS($D34:$AA34,MonthNo,O$5)/AVERAGE($D34:$AA34) -> 1.4210116 | P18: =INDEX($D$6:$O$6,MATCH(MAX(D18:O18),D18:O18,0)) -> янв | Q18: =MAX(D18:O18)/MIN(D18:O18) -> 3.5818609 | R18: =AVERAGE(D18:O18) -> 1
A20: Цветовая шкала: синий — месяц ниже тренда, красный — выше; серый — около среднего уровня (индекс ≈ 1,00).
A21: Шаг 1. Отношение факта к базовому тренду. Базовый тренд: уровень = среднее за 24 мес., наклон = (Σ 2-го года − Σ 1-го года) ÷ 144 — годовые суммы не зависят от сезонности
A22: Код | B22: Наименование | C22: Ед. | D22: ='Данные'!F6 -> 45566 | E22: ='Данные'!G6 -> 45597 | F22: ='Данные'!H6 -> 45627 | G22: ='Данные'!I6 -> 45658 | H22: ='Данные'!J6 -> 45689 | I22: ='Данные'!K6 -> 45717 | J22: ='Данные'!L6 -> 45748 | K22: ='Данные'!M6 -> 45778 | ... AA22: ='Данные'!AC6 -> 46266 | AB22: Уровень, ед./мес. | AC22: Наклон, ед./мес.
A23: ='Данные'!A7 -> ESP-01 | B23: ='Данные'!B7 -> Зерно «Эспрессо-бленд» | C23: ='Данные'!D7 -> кг | D23: ='Данные'!F7/($AB23+$AC23*('Данные'!F$4-AVERAGE(Periods))) -> 1.0307924 | E23: ='Данные'!G7/($AB23+$AC23*('Данные'!G$4-AVERAGE(Periods))) -> 1.0784296 | F23: ='Данные'!H7/($AB23+$AC23*('Данные'!H$4-AVERAGE(Periods))) -> 1.0385054 | G23: ='Данные'!I7/($AB23+$AC23*('Данные'!I$4-AVERAGE(Periods))) -> 0.97671579 | H23: ='Данные'!J7/($AB23+$AC23*('Данные'!J$4-AVERAGE(Periods))) -> 0.99332351 | I23: ='Данные'!K7/($AB23+$AC23*('Данные'!K$4-AVERAGE(Periods))) -> 1.0097422 | J23: ='Данные'!L7/($AB23+$AC23*('Данные'!L$4-AVERAGE(Periods))) -> 1.0012859 | K23: ='Данные'!M7/($AB23+$AC23*('Данные'!M$4-AVERAGE(Periods))) -> 1.0011082 | ... AA23: ='Данные'!AC7/($AB23+$AC23*('Данные'!AC$4-AVERAGE(Periods))) -> 1.0360522 | AB23: =AVERAGE('Данные'!$F7:$AC7) -> 375.875 | AC23: =(SUM('Данные'!$R7:$AC7)-SUM('Данные'!$F7:$Q7))/144 -> 2.0625
A24: ='Данные'!A8 -> FLT-02 | B24: ='Данные'!B8 -> Зерно «Эфиопия Иргачеффе», фильтр | C24: ='Данные'!D8 -> кг | D24: ='Данные'!F8/($AB24+$AC24*('Данные'!F$4-AVERAGE(Periods))) -> 0.98263924 | E24: ='Данные'!G8/($AB24+$AC24*('Данные'!G$4-AVERAGE(Periods))) -> 1.0221828 | F24: ='Данные'!H8/($AB24+$AC24*('Данные'!H$4-AVERAGE(Periods))) -> 0.89293673 | G24: ='Данные'!I8/($AB24+$AC24*('Данные'!I$4-AVERAGE(Periods))) -> 1.0149538 | H24: ='Данные'!J8/($AB24+$AC24*('Данные'!J$4-AVERAGE(Periods))) -> 0.86316381 | I24: ='Данные'!K8/($AB24+$AC24*('Данные'!K$4-AVERAGE(Periods))) -> 0.95513588 | J24: ='Данные'!L8/($AB24+$AC24*('Данные'!L$4-AVERAGE(Periods))) -> 0.88751926 | K24: ='Данные'!M8/($AB24+$AC24*('Данные'!M$4-AVERAGE(Periods))) -> 1.1046294 | ... AA24: ='Данные'!AC8/($AB24+$AC24*('Данные'!AC$4-AVERAGE(Periods))) -> 0.92182943 | AB24: =AVERAGE('Данные'!$F8:$AC8) -> 41.708333 | AC24: =(SUM('Данные'!$R8:$AC8)-SUM('Данные'!$F8:$Q8))/144 -> 0.61805556
A25: ='Данные'!A9 -> MLK-03 | B25: ='Данные'!B9 -> Молоко 3,2 % | C25: ='Данные'!D9 -> л | D25: ='Данные'!F9/($AB25+$AC25*('Данные'!F$4-AVERAGE(Periods))) -> 1.1094884 | E25: ='Данные'!G9/($AB25+$AC25*('Данные'!G$4-AVERAGE(Periods))) -> 1.1521225 | F25: ='Данные'!H9/($AB25+$AC25*('Данные'!H$4-AVERAGE(Periods))) -> 1.1294881 | G25: ='Данные'!I9/($AB25+$AC25*('Данные'!I$4-AVERAGE(Periods))) -> 0.92119628 | H25: ='Данные'!J9/($AB25+$AC25*('Данные'!J$4-AVERAGE(Periods))) -> 0.9095053 | I25: ='Данные'!K9/($AB25+$AC25*('Данные'!K$4-AVERAGE(Periods))) -> 1.0267752 | J25: ='Данные'!L9/($AB25+$AC25*('Данные'!L$4-AVERAGE(Periods))) -> 0.96446597 | K25: ='Данные'!M9/($AB25+$AC25*('Данные'!M$4-AVERAGE(Periods))) -> 0.96591839 | ... AA25: ='Данные'!AC9/($AB25+$AC25*('Данные'!AC$4-AVERAGE(Periods))) -> 1.0547783 | AB25: =AVERAGE('Данные'!$F9:$AC9) -> 3503.5417 | AC25: =(SUM('Данные'!$R9:$AC9)-SUM('Данные'!$F9:$Q9))/144 -> 0.95138889
A26: ='Данные'!A10 -> OAT-04 | B26: ='Данные'!B10 -> Напиток овсяный «Бариста» | C26: ='Данные'!D10 -> л | D26: ='Данные'!F10/($AB26+$AC26*('Данные'!F$4-AVERAGE(Periods))) -> 1.158082 | E26: ='Данные'!G10/($AB26+$AC26*('Данные'!G$4-AVERAGE(Periods))) -> 0.98202272 | F26: ='Данные'!H10/($AB26+$AC26*('Данные'!H$4-AVERAGE(Periods))) -> 1.0962508 | G26: ='Данные'!I10/($AB26+$AC26*('Данные'!I$4-AVERAGE(Periods))) -> 0.96143548 | H26: ='Данные'!J10/($AB26+$AC26*('Данные'!J$4-AVERAGE(Periods))) -> 0.94342306 | I26: ='Данные'!K10/($AB26+$AC26*('Данные'!K$4-AVERAGE(Periods))) -> 0.94533698 | J26: ='Данные'!L10/($AB26+$AC26*('Данные'!L$4-AVERAGE(Periods))) -> 1.0513653 | K26: ='Данные'!M10/($AB26+$AC26*('Данные'!M$4-AVERAGE(Periods))) -> 0.96243999 | ... AA26: ='Данные'!AC10/($AB26+$AC26*('Данные'!AC$4-AVERAGE(Periods))) -> 1.2168694 | AB26: =AVERAGE('Данные'!$F10:$AC10) -> 491.25 | AC26: =(SUM('Данные'!$R10:$AC10)-SUM('Данные'!$F10:$Q10))/144 -> 10.805556
A27: ='Данные'!A11 -> SYR-05 | B27: ='Данные'!B11 -> Сироп «Ваниль», 1 л | C27: ='Данные'!D11 -> бут. | D27: ='Данные'!F11/($AB27+$AC27*('Данные'!F$4-AVERAGE(Periods))) -> 0.91622481 | E27: ='Данные'!G11/($AB27+$AC27*('Данные'!G$4-AVERAGE(Periods))) -> 0.96101159 | F27: ='Данные'!H11/($AB27+$AC27*('Данные'!H$4-AVERAGE(Periods))) -> 0.87958115 | G27: ='Данные'!I11/($AB27+$AC27*('Данные'!I$4-AVERAGE(Periods))) -> 0.8491155 | H27: ='Данные'!J11/($AB27+$AC27*('Данные'!J$4-AVERAGE(Periods))) -> 0.79420889 | I27: ='Данные'!K11/($AB27+$AC27*('Данные'!K$4-AVERAGE(Periods))) -> 1.0113052 | J27: ='Данные'!L11/($AB27+$AC27*('Данные'!L$4-AVERAGE(Periods))) -> 1.1276813 | K27: ='Данные'!M11/($AB27+$AC27*('Данные'!M$4-AVERAGE(Periods))) -> 1.0233503 | ... AA27: ='Данные'!AC11/($AB27+$AC27*('Данные'!AC$4-AVERAGE(Periods))) -> 0.99907493 | AB27: =AVERAGE('Данные'!$F11:$AC11) -> 42.166667 | AC27: =(SUM('Данные'!$R11:$AC11)-SUM('Данные'!$F11:$Q11))/144 -> 0.25
A28: ='Данные'!A12 -> SYR-06 | B28: ='Данные'!B12 -> Сироп «Тыквенный пряный», 1 л | C28: ='Данные'!D12 -> бут. | D28: ='Данные'!F12/($AB28+$AC28*('Данные'!F$4-AVERAGE(Periods))) -> 3.7882276 | E28: ='Данные'!G12/($AB28+$AC28*('Данные'!G$4-AVERAGE(Periods))) -> 2.9970732 | F28: ='Данные'!H12/($AB28+$AC28*('Данные'!H$4-AVERAGE(Periods))) -> 2.2232229 | G28: ='Данные'!I12/($AB28+$AC28*('Данные'!I$4-AVERAGE(Periods))) -> 0.45816099 | H28: ='Данные'!J12/($AB28+$AC28*('Данные'!J$4-AVERAGE(Periods))) -> 0.2266289 | I28: ='Данные'!K12/($AB28+$AC28*('Данные'!K$4-AVERAGE(Periods))) -> 0.17938337 | J28: ='Данные'!L12/($AB28+$AC28*('Данные'!L$4-AVERAGE(Periods))) -> 0.088751926 | K28: ='Данные'!M12/($AB28+$AC28*('Данные'!M$4-AVERAGE(Periods))) -> 0.13174748 | ... AA28: ='Данные'!AC12/($AB28+$AC28*('Данные'!AC$4-AVERAGE(Periods))) -> 2.1093382 | AB28: =AVERAGE('Данные'!$F12:$AC12) -> 23.833333 | AC28: =(SUM('Данные'!$R12:$AC12)-SUM('Данные'!$F12:$Q12))/144 -> 0.23611111
A29: ='Данные'!A13 -> CUP-07 | B29: ='Данные'!B13 -> Стакан бумажный 300 мл | C29: ='Данные'!D13 -> шт. | D29: ='Данные'!F13/($AB29+$AC29*('Данные'!F$4-AVERAGE(Periods))) -> 0.90707628 | E29: ='Данные'!G13/($AB29+$AC29*('Данные'!G$4-AVERAGE(Periods))) -> 0.92568218 | F29: ='Данные'!H13/($AB29+$AC29*('Данные'!H$4-AVERAGE(Periods))) -> 0.9440269 | G29: ='Данные'!I13/($AB29+$AC29*('Данные'!I$4-AVERAGE(Periods))) -> 0.83846445 | H29: ='Данные'!J13/($AB29+$AC29*('Данные'!J$4-AVERAGE(Periods))) -> 0.85414624 | I29: ='Данные'!K13/($AB29+$AC29*('Данные'!K$4-AVERAGE(Periods))) -> 0.94022336 | J29: ='Данные'!L13/($AB29+$AC29*('Данные'!L$4-AVERAGE(Periods))) -> 0.9601911 | K29: ='Данные'!M13/($AB29+$AC29*('Данные'!M$4-AVERAGE(Periods))) -> 1.0928988 | ... AA29: ='Данные'!AC13/($AB29+$AC29*('Данные'!AC$4-AVERAGE(Periods))) -> 1.0310648 | AB29: =AVERAGE('Данные'!$F13:$AC13) -> 14476.417 | AC29: =(SUM('Данные'!$R13:$AC13)-SUM('Данные'!$F13:$Q13))/144 -> 145.63889
A30: ='Данные'!A14 -> LID-08 | B30: ='Данные'!B14 -> Крышка для стакана Ø 90 мм | C30: ='Данные'!D14 -> шт. | D30: ='Данные'!F14/($AB30+$AC30*('Данные'!F$4-AVERAGE(Periods))) -> 0.87850673 | E30: ='Данные'!G14/($AB30+$AC30*('Данные'!G$4-AVERAGE(Periods))) -> 0.90061595 | F30: ='Данные'!H14/($AB30+$AC30*('Данные'!H$4-AVERAGE(Periods))) -> 0.87498871 | G30: ='Данные'!I14/($AB30+$AC30*('Данные'!I$4-AVERAGE(Periods))) -> 0.82433555 | H30: ='Данные'!J14/($AB30+$AC30*('Данные'!J$4-AVERAGE(Periods))) -> 0.81256422 | I30: ='Данные'!K14/($AB30+$AC30*('Данные'!K$4-AVERAGE(Periods))) -> 0.98080342 | J30: ='Данные'!L14/($AB30+$AC30*('Данные'!L$4-AVERAGE(Periods))) -> 0.95556849 | K30: ='Данные'!M14/($AB30+$AC30*('Данные'!M$4-AVERAGE(Periods))) -> 1.0026181 | ... AA30: ='Данные'!AC14/($AB30+$AC30*('Данные'!AC$4-AVERAGE(Periods))) -> 1.013352 | AB30: =AVERAGE('Данные'!$F14:$AC14) -> 13958.833 | AC30: =(SUM('Данные'!$R14:$AC14)-SUM('Данные'!$F14:$Q14))/144 -> 101.15278
A31: ='Данные'!A15 -> CRS-09 | B31: ='Данные'!B15 -> Круассан сливочный, заморозка | C31: ='Данные'!D15 -> шт. | D31: ='Данные'!F15/($AB31+$AC31*('Данные'!F$4-AVERAGE(Periods))) -> 1.1093058 | E31: ='Данные'!G15/($AB31+$AC31*('Данные'!G$4-AVERAGE(Periods))) -> 1.1006563 | F31: ='Данные'!H15/($AB31+$AC31*('Данные'!H$4-AVERAGE(Periods))) -> 1.1366974 | G31: ='Данные'!I15/($AB31+$AC31*('Данные'!I$4-AVERAGE(Periods))) -> 0.87593275 | H31: ='Данные'!J15/($AB31+$AC31*('Данные'!J$4-AVERAGE(Periods))) -> 0.91354421 | I31: ='Данные'!K15/($AB31+$AC31*('Данные'!K$4-AVERAGE(Periods))) -> 1.0409407 | J31: ='Данные'!L15/($AB31+$AC31*('Данные'!L$4-AVERAGE(Periods))) -> 1.0149312 | K31: ='Данные'!M15/($AB31+$AC31*('Данные'!M$4-AVERAGE(Periods))) -> 0.98694616 | ... AA31: ='Данные'!AC15/($AB31+$AC31*('Данные'!AC$4-AVERAGE(Periods))) -> 1.0324197 | AB31: =AVERAGE('Данные'!$F15:$AC15) -> 5046.9167 | AC31: =(SUM('Данные'!$R15:$AC15)-SUM('Данные'!$F15:$Q15))/144 -> 23.875
A32: ='Данные'!A16 -> TEA-10 | B32: ='Данные'!B16 -> Чай зелёный «Сенча», 500 г | C32: ='Данные'!D16 -> уп. | D32: ='Данные'!F16/($AB32+$AC32*('Данные'!F$4-AVERAGE(Periods))) -> 1.2040134 | E32: ='Данные'!G16/($AB32+$AC32*('Данные'!G$4-AVERAGE(Periods))) -> 1.3727811 | F32: ='Данные'!H16/($AB32+$AC32*('Данные'!H$4-AVERAGE(Periods))) -> 1.3497091 | G32: ='Данные'!I16/($AB32+$AC32*('Данные'!I$4-AVERAGE(Periods))) -> 1.3273999 | H32: ='Данные'!J16/($AB32+$AC32*('Данные'!J$4-AVERAGE(Periods))) -> 1.2157598 | I32: ='Данные'!K16/($AB32+$AC32*('Данные'!K$4-AVERAGE(Periods))) -> 1.1076923 | J32: ='Данные'!L16/($AB32+$AC32*('Данные'!L$4-AVERAGE(Periods))) -> 0.95941853 | K32: ='Данные'!M16/($AB32+$AC32*('Данные'!M$4-AVERAGE(Periods))) -> 0.77280859 | ... AA32: ='Данные'!AC16/($AB32+$AC32*('Данные'!AC$4-AVERAGE(Periods))) -> 0.9632107 | AB32: =AVERAGE('Данные'!$F16:$AC16) -> 24.916667 | AC32: =(SUM('Данные'!$R16:$AC16)-SUM('Данные'!$F16:$Q16))/144 -> 0.36111111
A33: ='Данные'!A17 -> ICE-11 | B33: ='Данные'!B17 -> Лёд пищевой, кубики | C33: ='Данные'!D17 -> кг | D33: ='Данные'!F17/($AB33+$AC33*('Данные'!F$4-AVERAGE(Periods))) -> 0.72174885 | E33: ='Данные'!G17/($AB33+$AC33*('Данные'!G$4-AVERAGE(Periods))) -> 0.43445935 | F33: ='Данные'!H17/($AB33+$AC33*('Данные'!H$4-AVERAGE(Periods))) -> 0.38276395 | G33: ='Данные'!I17/($AB33+$AC33*('Данные'!I$4-AVERAGE(Periods))) -> 0.29813436 | H33: ='Данные'!J17/($AB33+$AC33*('Данные'!J$4-AVERAGE(Periods))) -> 0.32403389 | I33: ='Данные'!K17/($AB33+$AC33*('Данные'!K$4-AVERAGE(Periods))) -> 0.53685779 | J33: ='Данные'!L17/($AB33+$AC33*('Данные'!L$4-AVERAGE(Periods))) -> 0.76866178 | K33: ='Данные'!M17/($AB33+$AC33*('Данные'!M$4-AVERAGE(Periods))) -> 1.1508689 | ... AA33: ='Данные'!AC17/($AB33+$AC33*('Данные'!AC$4-AVERAGE(Periods))) -> 1.2052258 | AB33: =AVERAGE('Данные'!$F17:$AC17) -> 459.95833 | AC33: =(SUM('Данные'!$R17:$AC17)-SUM('Данные'!$F17:$Q17))/144 -> 0.84027778
A34: ='Данные'!A18 -> CHO-12 | B34: ='Данные'!B18 -> Шоколад для горячего шоколада | C34: ='Данные'!D18 -> кг | D34: ='Данные'!F18/($AB34+$AC34*('Данные'!F$4-AVERAGE(Periods))) -> 1.2747253 | E34: ='Данные'!G18/($AB34+$AC34*('Данные'!G$4-AVERAGE(Periods))) -> 1.3963636 | F34: ='Данные'!H18/($AB34+$AC34*('Данные'!H$4-AVERAGE(Periods))) -> 1.4296029 | G34: ='Данные'!I18/($AB34+$AC34*('Данные'!I$4-AVERAGE(Periods))) -> 1.4623656 | H34: ='Данные'!J18/($AB34+$AC34*('Данные'!J$4-AVERAGE(Periods))) -> 1.4946619 | I34: ='Данные'!K18/($AB34+$AC34*('Данные'!K$4-AVERAGE(Periods))) -> 1.1872792 | J34: ='Данные'!L18/($AB34+$AC34*('Данные'!L$4-AVERAGE(Periods))) -> 0.92631579 | K34: ='Данные'!M18/($AB34+$AC34*('Данные'!M$4-AVERAGE(Periods))) -> 0.71080139 | ... AA34: ='Данные'!AC18/($AB34+$AC34*('Данные'!AC$4-AVERAGE(Periods))) -> 0.78996865 | AB34: =AVERAGE('Данные'!$F18:$AC18) -> 24.666667 | AC34: =(SUM('Данные'!$R18:$AC18)-SUM('Данные'!$F18:$Q18))/144 -> 0.16666667
A36: Шаг 3. Ряд, очищенный от сезонности (факт ÷ индекс месяца) — по нему ПРЕДСКАЗ.ЛИНЕЙН строит тренд на листе «Прогноз»
A37: Код | B37: Наименование | C37: Ед. | D37: ='Данные'!F6 -> 45566 | E37: ='Данные'!G6 -> 45597 | F37: ='Данные'!H6 -> 45627 | G37: ='Данные'!I6 -> 45658 | H37: ='Данные'!J6 -> 45689 | I37: ='Данные'!K6 -> 45717 | J37: ='Данные'!L6 -> 45748 | K37: ='Данные'!M6 -> 45778 | ... AA37: ='Данные'!AC6 -> 46266
A38: ='Данные'!A7 -> ESP-01 | B38: ='Данные'!B7 -> Зерно «Эспрессо-бленд» | C38: ='Данные'!D7 -> кг | D38: ='Данные'!F7/INDEX($D7:$O7,'Данные'!F$5) -> 347.19809 | E38: ='Данные'!G7/INDEX($D7:$O7,'Данные'!G$5) -> 355.56541 | F38: ='Данные'!H7/INDEX($D7:$O7,'Данные'!H$5) -> 342.89801 | G38: ='Данные'!I7/INDEX($D7:$O7,'Данные'!I$5) -> 370.48965 | H38: ='Данные'!J7/INDEX($D7:$O7,'Данные'!J$5) -> 366.61505 | I38: ='Данные'!K7/INDEX($D7:$O7,'Данные'!K$5) -> 356.26649 | J38: ='Данные'!L7/INDEX($D7:$O7,'Данные'!L$5) -> 362.74956 | K38: ='Данные'!M7/INDEX($D7:$O7,'Данные'!M$5) -> 376.27328 | ... AA38: ='Данные'!AC7/INDEX($D7:$O7,'Данные'!AC$5) -> 396.90903
A39: ='Данные'!A8 -> FLT-02 | B39: ='Данные'!B8 -> Зерно «Эфиопия Иргачеффе», фильтр | C39: ='Данные'!D8 -> кг | D39: ='Данные'!F8/INDEX($D8:$O8,'Данные'!F$5) -> 35.941162 | E39: ='Данные'!G8/INDEX($D8:$O8,'Данные'!G$5) -> 37.995374 | F39: ='Данные'!H8/INDEX($D8:$O8,'Данные'!H$5) -> 34.675753 | G39: ='Данные'!I8/INDEX($D8:$O8,'Данные'!I$5) -> 36.993973 | H39: ='Данные'!J8/INDEX($D8:$O8,'Данные'!J$5) -> 35.321077 | I39: ='Данные'!K8/INDEX($D8:$O8,'Данные'!K$5) -> 38.523967 | J39: ='Данные'!L8/INDEX($D8:$O8,'Данные'!L$5) -> 37.552852 | K39: ='Данные'!M8/INDEX($D8:$O8,'Данные'!M$5) -> 38.521409 | ... AA39: ='Данные'!AC8/INDEX($D8:$O8,'Данные'!AC$5) -> 46.357762
A40: ='Данные'!A9 -> MLK-03 | B40: ='Данные'!B9 -> Молоко 3,2 % | C40: ='Данные'!D9 -> л | D40: ='Данные'!F9/INDEX($D9:$O9,'Данные'!F$5) -> 3641.4767 | E40: ='Данные'!G9/INDEX($D9:$O9,'Данные'!G$5) -> 3684.896 | F40: ='Данные'!H9/INDEX($D9:$O9,'Данные'!H$5) -> 3576.2901 | G40: ='Данные'!I9/INDEX($D9:$O9,'Данные'!I$5) -> 3554.7093 | H40: ='Данные'!J9/INDEX($D9:$O9,'Данные'!J$5) -> 3414.8307 | I40: ='Данные'!K9/INDEX($D9:$O9,'Данные'!K$5) -> 3377.789 | J40: ='Данные'!L9/INDEX($D9:$O9,'Данные'!L$5) -> 3409.772 | K40: ='Данные'!M9/INDEX($D9:$O9,'Данные'!M$5) -> 3380.7365 | ... AA40: ='Данные'!AC9/INDEX($D9:$O9,'Данные'!AC$5) -> 3603.8065
A41: ='Данные'!A10 -> OAT-04 | B41: ='Данные'!B10 -> Напиток овсяный «Бариста» | C41: ='Данные'!D10 -> л | D41: ='Данные'!F10/INDEX($D10:$O10,'Данные'!F$5) -> 387.11405 | E41: ='Данные'!G10/INDEX($D10:$O10,'Данные'!G$5) -> 383.14216 | F41: ='Данные'!H10/INDEX($D10:$O10,'Данные'!H$5) -> 406.03205 | G41: ='Данные'!I10/INDEX($D10:$O10,'Данные'!I$5) -> 402.27552 | H41: ='Данные'!J10/INDEX($D10:$O10,'Данные'!J$5) -> 412.2039 | I41: ='Данные'!K10/INDEX($D10:$O10,'Данные'!K$5) -> 396.35827 | J41: ='Данные'!L10/INDEX($D10:$O10,'Данные'!L$5) -> 431.4641 | K41: ='Данные'!M10/INDEX($D10:$O10,'Данные'!M$5) -> 455.19989 | ... AA41: ='Данные'!AC10/INDEX($D10:$O10,'Данные'!AC$5) -> 666.74807
A42: ='Данные'!A11 -> SYR-05 | B42: ='Данные'!B11 -> Сироп «Ваниль», 1 л | C42: ='Данные'!D11 -> бут. | D42: ='Данные'!F11/INDEX($D11:$O11,'Данные'!F$5) -> 37.65812 | E42: ='Данные'!G11/INDEX($D11:$O11,'Данные'!G$5) -> 38.037673 | F42: ='Данные'!H11/INDEX($D11:$O11,'Данные'!H$5) -> 39.547559 | G42: ='Данные'!I11/INDEX($D11:$O11,'Данные'!I$5) -> 43.270951 | H42: ='Данные'!J11/INDEX($D11:$O11,'Данные'!J$5) -> 36.224002 | I42: ='Данные'!K11/INDEX($D11:$O11,'Данные'!K$5) -> 42.429806 | J42: ='Данные'!L11/INDEX($D11:$O11,'Данные'!L$5) -> 43.084198 | K42: ='Данные'!M11/INDEX($D11:$O11,'Данные'!M$5) -> 36.918637 | ... AA42: ='Данные'!AC11/INDEX($D11:$O11,'Данные'!AC$5) -> 44.452488
A43: ='Данные'!A12 -> SYR-06 | B43: ='Данные'!B12 -> Сироп «Тыквенный пряный», 1 л | C43: ='Данные'!D12 -> бут. | D43: ='Данные'!F12/INDEX($D12:$O12,'Данные'!F$5) -> 22.212737 | E43: ='Данные'!G12/INDEX($D12:$O12,'Данные'!G$5) -> 23.581707 | F43: ='Данные'!H12/INDEX($D12:$O12,'Данные'!H$5) -> 21.776035 | G43: ='Данные'!I12/INDEX($D12:$O12,'Данные'!I$5) -> 20.792909 | H43: ='Данные'!J12/INDEX($D12:$O12,'Данные'!J$5) -> 23.964508 | I43: ='Данные'!K12/INDEX($D12:$O12,'Данные'!K$5) -> 24.207252 | J43: ='Данные'!L12/INDEX($D12:$O12,'Данные'!L$5) -> 24.449979 | K43: ='Данные'!M12/INDEX($D12:$O12,'Данные'!M$5) -> 29.288144 | ... AA43: ='Данные'!AC12/INDEX($D12:$O12,'Данные'!AC$5) -> 29.892505
A44: ='Данные'!A13 -> CUP-07 | B44: ='Данные'!B13 -> Стакан бумажный 300 мл | C44: ='Данные'!D13 -> шт. | D44: ='Данные'!F13/INDEX($D13:$O13,'Данные'!F$5) -> 12819.996 | E44: ='Данные'!G13/INDEX($D13:$O13,'Данные'!G$5) -> 14201.576 | F44: ='Данные'!H13/INDEX($D13:$O13,'Данные'!H$5) -> 13548.815 | G44: ='Данные'!I13/INDEX($D13:$O13,'Данные'!I$5) -> 13322.206 | H44: ='Данные'!J13/INDEX($D13:$O13,'Данные'!J$5) -> 13322.694 | I44: ='Данные'!K13/INDEX($D13:$O13,'Данные'!K$5) -> 12829.916 | J44: ='Данные'!L13/INDEX($D13:$O13,'Данные'!L$5) -> 13171.203 | K44: ='Данные'!M13/INDEX($D13:$O13,'Данные'!M$5) -> 14151.365 | ... AA44: ='Данные'!AC13/INDEX($D13:$O13,'Данные'!AC$5) -> 16727.09
A45: ='Данные'!A14 -> LID-08 | B45: ='Данные'!B14 -> Крышка для стакана Ø 90 мм | C45: ='Данные'!D14 -> шт. | D45: ='Данные'!F14/INDEX($D14:$O14,'Данные'!F$5) -> 12087.833 | E45: ='Данные'!G14/INDEX($D14:$O14,'Данные'!G$5) -> 13071.706 | F45: ='Данные'!H14/INDEX($D14:$O14,'Данные'!H$5) -> 12690.731 | G45: ='Данные'!I14/INDEX($D14:$O14,'Данные'!I$5) -> 13442.607 | H45: ='Данные'!J14/INDEX($D14:$O14,'Данные'!J$5) -> 12645.236 | I45: ='Данные'!K14/INDEX($D14:$O14,'Данные'!K$5) -> 13274.984 | J45: ='Данные'!L14/INDEX($D14:$O14,'Данные'!L$5) -> 12767.955 | K45: ='Данные'!M14/INDEX($D14:$O14,'Данные'!M$5) -> 12873.98 | ... AA45: ='Данные'!AC14/INDEX($D14:$O14,'Данные'!AC$5) -> 14308.675
A46: ='Данные'!A15 -> CRS-09 | B46: ='Данные'!B15 -> Круассан сливочный, заморозка | C46: ='Данные'!D15 -> шт. | D46: ='Данные'!F15/INDEX($D15:$O15,'Данные'!F$5) -> 4862.8029 | E46: ='Данные'!G15/INDEX($D15:$O15,'Данные'!G$5) -> 4744.2846 | F46: ='Данные'!H15/INDEX($D15:$O15,'Данные'!H$5) -> 4933.9374 | G46: ='Данные'!I15/INDEX($D15:$O15,'Данные'!I$5) -> 4595.3862 | H46: ='Данные'!J15/INDEX($D15:$O15,'Данные'!J$5) -> 4638.7404 | I46: ='Данные'!K15/INDEX($D15:$O15,'Данные'!K$5) -> 4949.5392 | J46: ='Данные'!L15/INDEX($D15:$O15,'Данные'!L$5) -> 5008.6923 | K46: ='Данные'!M15/INDEX($D15:$O15,'Данные'!M$5) -> 4935.2722 | ... AA46: ='Данные'!AC15/INDEX($D15:$O15,'Данные'!AC$5) -> 5292.8427
A47: ='Данные'!A16 -> TEA-10 | B47: ='Данные'!B16 -> Чай зелёный «Сенча», 500 г | C47: ='Данные'!D16 -> уп. | D47: ='Данные'!F16/INDEX($D16:$O16,'Данные'!F$5) -> 22.983146 | E47: ='Данные'!G16/INDEX($D16:$O16,'Данные'!G$5) -> 22.643382 | F47: ='Данные'!H16/INDEX($D16:$O16,'Данные'!H$5) -> 22.32147 | G47: ='Данные'!I16/INDEX($D16:$O16,'Данные'!I$5) -> 20.821996 | H47: ='Данные'!J16/INDEX($D16:$O16,'Данные'!J$5) -> 20.925563 | I47: ='Данные'!K16/INDEX($D16:$O16,'Данные'!K$5) -> 22.012448 | J47: ='Данные'!L16/INDEX($D16:$O16,'Данные'!L$5) -> 21.995091 | K47: ='Данные'!M16/INDEX($D16:$O16,'Данные'!M$5) -> 25.560102 | ... AA47: ='Данные'!AC16/INDEX($D16:$O16,'Данные'!AC$5) -> 31.252036
A48: ='Данные'!A17 -> ICE-11 | B48: ='Данные'!B17 -> Лёд пищевой, кубики | C48: ='Данные'!D17 -> кг | D48: ='Данные'!F17/INDEX($D17:$O17,'Данные'!F$5) -> 495.26875 | E48: ='Данные'!G17/INDEX($D17:$O17,'Данные'!G$5) -> 454.6631 | F48: ='Данные'!H17/INDEX($D17:$O17,'Данные'!H$5) -> 444.07708 | G48: ='Данные'!I17/INDEX($D17:$O17,'Данные'!I$5) -> 437.12465 | H48: ='Данные'!J17/INDEX($D17:$O17,'Данные'!J$5) -> 391.35136 | I48: ='Данные'!K17/INDEX($D17:$O17,'Данные'!K$5) -> 403.2562 | J48: ='Данные'!L17/INDEX($D17:$O17,'Данные'!L$5) -> 417.0173 | K48: ='Данные'!M17/INDEX($D17:$O17,'Данные'!M$5) -> 440.59787 | ... AA48: ='Данные'!AC17/INDEX($D17:$O17,'Данные'!AC$5) -> 503.50582
A49: ='Данные'!A18 -> CHO-12 | B49: ='Данные'!B18 -> Шоколад для горячего шоколада | C49: ='Данные'!D18 -> кг | D49: ='Данные'!F18/INDEX($D18:$O18,'Данные'!F$5) -> 23.898053 | E49: ='Данные'!G18/INDEX($D18:$O18,'Данные'!G$5) -> 22.390253 | F49: ='Данные'!H18/INDEX($D18:$O18,'Данные'!H$5) -> 23.222892 | G49: ='Данные'!I18/INDEX($D18:$O18,'Данные'!I$5) -> 21.929398 | H49: ='Данные'!J18/INDEX($D18:$O18,'Данные'!J$5) -> 22.995932 | I49: ='Данные'!K18/INDEX($D18:$O18,'Данные'!K$5) -> 24.322841 | J49: ='Данные'!L18/INDEX($D18:$O18,'Данные'!L$5) -> 24.907789 | K49: ='Данные'!M18/INDEX($D18:$O18,'Данные'!M$5) -> 27.396376 | ... AA49: ='Данные'!AC18/INDEX($D18:$O18,'Данные'!AC$5) -> 26.402332

Sheet Прогноз
A1: Прогноз спроса на 12 месяцев, ед.
A2: Модель: линейный тренд ПРЕДСКАЗ.ЛИНЕЙН по ряду без сезонности × сезонный индекс месяца · горизонт: октябрь 2026 — сентябрь 2027
A3: Обозначения: синий — исходные данные и параметры (ввод), чёрный — формулы, зелёный — ссылки на другие листы, жёлтая заливка — ячейки для ввода
C4: период t | D4: =MAX(Periods)+1 -> 25 | E4: =D4+1 -> 26 | F4: =E4+1 -> 27 | G4: =F4+1 -> 28 | H4: =G4+1 -> 29 | I4: =H4+1 -> 30 | J4: =I4+1 -> 31 | K4: =J4+1 -> 32 | L4: =K4+1 -> 33 | ... O4: =N4+1 -> 36
C5: месяц № | D5: =MONTH(D6) -> 10 | E5: =MONTH(E6) -> 11 | F5: =MONTH(F6) -> 12 | G5: =MONTH(G6) -> 1 | H5: =MONTH(H6) -> 2 | I5: =MONTH(I6) -> 3 | J5: =MONTH(J6) -> 4 | K5: =MONTH(K6) -> 5 | ... O5: =MONTH(O6) -> 9
A6: Код | B6: Наименование | C6: Ед. | D6: =EDATE('Данные'!$AC$6,1) -> 46296 | E6: =EDATE(D6,1) -> 46327 | F6: =EDATE(E6,1) -> 46357 | G6: =EDATE(F6,1) -> 46388 | H6: =EDATE(G6,1) -> 46419 | I6: =EDATE(H6,1) -> 46447 | J6: =EDATE(I6,1) -> 46478 | K6: =EDATE(J6,1) -> 46508 | L6: =EDATE(K6,1) -> 46539 | ... O6: =EDATE(N6,1) -> 46631 | P6: Прогноз 12 мес., ед. | Q6: Факт пред. 12 мес., ед. | R6: Δ к факту | S6: Закупки 12 мес., тыс. ₽ | T6: Ошибка модели, WAPE | U6: σ ошибки, ед./мес. | V6: Профиль прогноза по месяцам
A7: ='Данные'!A7 -> ESP-01 | B7: ='Данные'!B7 -> Зерно «Эспрессо-бленд» | C7: ='Данные'!D7 -> кг | D7: =MAX(0,_xlfn.FORECAST.LINEAR(D$4,'Сезонность'!$D38:$AA38,Periods))*INDEX('Сезонность'!$D7:$O7,D$5) -> 419.79012 | E7: =MAX(0,_xlfn.FORECAST.LINEAR(E$4,'Сезонность'!$D38:$AA38,Periods))*INDEX('Сезонность'!$D7:$O7,E$5) -> 433.55504 | F7: =MAX(0,_xlfn.FORECAST.LINEAR(F$4,'Сезонность'!$D38:$AA38,Periods))*INDEX('Сезонность'!$D7:$O7,F$5) -> 437.64658 | G7: =MAX(0,_xlfn.FORECAST.LINEAR(G$4,'Сезонность'!$D38:$AA38,Periods))*INDEX('Сезонность'!$D7:$O7,G$5) -> 385.08286 | H7: =MAX(0,_xlfn.FORECAST.LINEAR(H$4,'Сезонность'!$D38:$AA38,Periods))*INDEX('Сезонность'!$D7:$O7,H$5) -> 400.03645 | I7: =MAX(0,_xlfn.FORECAST.LINEAR(I$4,'Сезонность'!$D38:$AA38,Periods))*INDEX('Сезонность'!$D7:$O7,I$5) -> 422.94784 | J7: =MAX(0,_xlfn.FORECAST.LINEAR(J$4,'Сезонность'!$D38:$AA38,Periods))*INDEX('Сезонность'!$D7:$O7,J$5) -> 416.30335 | K7: =MAX(0,_xlfn.FORECAST.LINEAR(K$4,'Сезонность'!$D38:$AA38,Periods))*INDEX('Сезонность'!$D7:$O7,K$5) -> 405.52659 | ... O7: =MAX(0,_xlfn.FORECAST.LINEAR(O$4,'Сезонность'!$D38:$AA38,Periods))*INDEX('Сезонность'!$D7:$O7,O$5) -> 442.17446 | P7: =SUM(D7:O7) -> 4950.3963 | Q7: =SUM('Данные'!R7:AC7) -> 4659 | R7: =P7/Q7-1 -> 0.062544827 | S7: =P7*'Данные'!E7/1000 -> 8316.6659 | T7: =SUMPRODUCT(ABS('Данные'!$F7:$AC7-$D25:$AA25))/SUM('Данные'!$F7:$AC7) -> 0.016134327 | U7: =SQRT(SUMXMY2('Данные'!$F7:$AC7,$D25:$AA25)/COUNT('Данные'!$F7:$AC7)) -> 7.4115763
A8: ='Данные'!A8 -> FLT-02 | B8: ='Данные'!B8 -> Зерно «Эфиопия Иргачеффе», фильтр | C8: ='Данные'!D8 -> кг | D8: =MAX(0,_xlfn.FORECAST.LINEAR(D$4,'Сезонность'!$D39:$AA39,Periods))*INDEX('Сезонность'!$D8:$O8,D$5) -> 46.637776 | E8: =MAX(0,_xlfn.FORECAST.LINEAR(E$4,'Сезонность'!$D39:$AA39,Periods))*INDEX('Сезонность'!$D8:$O8,E$5) -> 47.295611 | F8: =MAX(0,_xlfn.FORECAST.LINEAR(F$4,'Сезонность'!$D39:$AA39,Periods))*INDEX('Сезонность'!$D8:$O8,F$5) -> 46.634239 | G8: =MAX(0,_xlfn.FORECAST.LINEAR(G$4,'Сезонность'!$D39:$AA39,Periods))*INDEX('Сезонность'!$D8:$O8,G$5) -> 51.158601 | H8: =MAX(0,_xlfn.FORECAST.LINEAR(H$4,'Сезонность'!$D39:$AA39,Periods))*INDEX('Сезонность'!$D8:$O8,H$5) -> 46.899469 | I8: =MAX(0,_xlfn.FORECAST.LINEAR(I$4,'Сезонность'!$D39:$AA39,Periods))*INDEX('Сезонность'!$D8:$O8,I$5) -> 48.951471 | J8: =MAX(0,_xlfn.FORECAST.LINEAR(J$4,'Сезонность'!$D39:$AA39,Periods))*INDEX('Сезонность'!$D8:$O8,J$5) -> 47.985764 | K8: =MAX(0,_xlfn.FORECAST.LINEAR(K$4,'Сезонность'!$D39:$AA39,Periods))*INDEX('Сезонность'!$D8:$O8,K$5) -> 59.850269 | ... O8: =MAX(0,_xlfn.FORECAST.LINEAR(O$4,'Сезонность'!$D39:$AA39,Periods))*INDEX('Сезонность'!$D8:$O8,O$5) -> 54.440465 | P8: =SUM(D8:O8) -> 633.64138 | Q8: =SUM('Данные'!R8:AC8) -> 545 | R8: =P8/Q8-1 -> 0.16264474 | S8: =P8*'Данные'!E8/1000 -> 1552.4214 | T8: =SUMPRODUCT(ABS('Данные'!$F8:$AC8-$D26:$AA26))/SUM('Данные'!$F8:$AC8) -> 0.036415515 | U8: =SQRT(SUMXMY2('Данные'!$F8:$AC8,$D26:$AA26)/COUNT('Данные'!$F8:$AC8)) -> 2.0729357
A9: ='Данные'!A9 -> MLK-03 | B9: ='Данные'!B9 -> Молоко 3,2 % | C9: ='Данные'!D9 -> л | D9: =MAX(0,_xlfn.FORECAST.LINEAR(D$4,'Сезонность'!$D40:$AA40,Periods))*INDEX('Сезонность'!$D9:$O9,D$5) -> 3745.0473 | E9: =MAX(0,_xlfn.FORECAST.LINEAR(E$4,'Сезонность'!$D40:$AA40,Periods))*INDEX('Сезонность'!$D9:$O9,E$5) -> 3845.5533 | F9: =MAX(0,_xlfn.FORECAST.LINEAR(F$4,'Сезонность'!$D40:$AA40,Periods))*INDEX('Сезонность'!$D9:$O9,F$5) -> 3886.9376 | G9: =MAX(0,_xlfn.FORECAST.LINEAR(G$4,'Сезонность'!$D40:$AA40,Periods))*INDEX('Сезонность'!$D9:$O9,G$5) -> 3191.3902 | H9: =MAX(0,_xlfn.FORECAST.LINEAR(H$4,'Сезонность'!$D40:$AA40,Periods))*INDEX('Сезонность'!$D9:$O9,H$5) -> 3282.0179 | I9: =MAX(0,_xlfn.FORECAST.LINEAR(I$4,'Сезонность'!$D40:$AA40,Periods))*INDEX('Сезонность'!$D9:$O9,I$5) -> 3748.1825 | J9: =MAX(0,_xlfn.FORECAST.LINEAR(J$4,'Сезонность'!$D40:$AA40,Periods))*INDEX('Сезонность'!$D9:$O9,J$5) -> 3489.8949 | K9: =MAX(0,_xlfn.FORECAST.LINEAR(K$4,'Сезонность'!$D40:$AA40,Periods))*INDEX('Сезонность'!$D9:$O9,K$5) -> 3527.3838 | ... O9: =MAX(0,_xlfn.FORECAST.LINEAR(O$4,'Сезонность'!$D40:$AA40,Periods))*INDEX('Сезонность'!$D9:$O9,O$5) -> 3634.3503 | P9: =SUM(D9:O9) -> 42313.604 | Q9: =SUM('Данные'!R9:AC9) -> 42111 | R9: =P9/Q9-1 -> 0.0048111874 | S9: =P9*'Данные'!E9/1000 -> 3892.8516 | T9: =SUMPRODUCT(ABS('Данные'!$F9:$AC9-$D27:$AA27))/SUM('Данные'!$F9:$AC9) -> 0.02937889 | U9: =SQRT(SUMXMY2('Данные'!$F9:$AC9,$D27:$AA27)/COUNT('Данные'!$F9:$AC9)) -> 112.64572
A10: ='Данные'!A10 -> OAT-04 | B10: ='Данные'!B10 -> Напиток овсяный «Бариста» | C10: ='Данные'!D10 -> л | D10: =MAX(0,_xlfn.FORECAST.LINEAR(D$4,'Сезонность'!$D41:$AA41,Periods))*INDEX('Сезонность'!$D10:$O10,D$5) -> 688.70901 | E10: =MAX(0,_xlfn.FORECAST.LINEAR(E$4,'Сезонность'!$D41:$AA41,Periods))*INDEX('Сезонность'!$D10:$O10,E$5) -> 617.96497 | F10: =MAX(0,_xlfn.FORECAST.LINEAR(F$4,'Сезонность'!$D41:$AA41,Periods))*INDEX('Сезонность'!$D10:$O10,F$5) -> 680.98442 | G10: =MAX(0,_xlfn.FORECAST.LINEAR(G$4,'Сезонность'!$D41:$AA41,Periods))*INDEX('Сезонность'!$D10:$O10,G$5) -> 629.95799 | H10: =MAX(0,_xlfn.FORECAST.LINEAR(H$4,'Сезонность'!$D41:$AA41,Periods))*INDEX('Сезонность'!$D10:$O10,H$5) -> 629.79755 | I10: =MAX(0,_xlfn.FORECAST.LINEAR(I$4,'Сезонность'!$D41:$AA41,Periods))*INDEX('Сезонность'!$D10:$O10,I$5) -> 684.51227 | J10: =MAX(0,_xlfn.FORECAST.LINEAR(J$4,'Сезонность'!$D41:$AA41,Periods))*INDEX('Сезонность'!$D10:$O10,J$5) -> 728.73684 | K10: =MAX(0,_xlfn.FORECAST.LINEAR(K$4,'Сезонность'!$D41:$AA41,Periods))*INDEX('Сезонность'!$D10:$O10,K$5) -> 658.31438 | ... O10: =MAX(0,_xlfn.FORECAST.LINEAR(O$4,'Сезонность'!$D41:$AA41,Periods))*INDEX('Сезонность'!$D10:$O10,O$5) -> 839.08119 | P10: =SUM(D10:O10) -> 8243.5523 | Q10: =SUM('Данные'!R10:AC10) -> 6673 | R10: =P10/Q10-1 -> 0.23535925 | S10: =P10*'Данные'!E10/1000 -> 2019.6703 | T10: =SUMPRODUCT(ABS('Данные'!$F10:$AC10-$D28:$AA28))/SUM('Данные'!$F10:$AC10) -> 0.036343698 | U10: =SQRT(SUMXMY2('Данные'!$F10:$AC10,$D28:$AA28)/COUNT('Данные'!$F10:$AC10)) -> 23.445589
A11: ='Данные'!A11 -> SYR-05 | B11: ='Данные'!B11 -> Сироп «Ваниль», 1 л | C11: ='Данные'!D11 -> бут. | D11: =MAX(0,_xlfn.FORECAST.LINEAR(D$4,'Сезонность'!$D42:$AA42,Periods))*INDEX('Сезонность'!$D11:$O11,D$5) -> 43.193382 | E11: =MAX(0,_xlfn.FORECAST.LINEAR(E$4,'Сезонность'!$D42:$AA42,Periods))*INDEX('Сезонность'!$D11:$O11,E$5) -> 45.383767 | F11: =MAX(0,_xlfn.FORECAST.LINEAR(F$4,'Сезонность'!$D42:$AA42,Periods))*INDEX('Сезонность'!$D11:$O11,F$5) -> 40.422583 | G11: =MAX(0,_xlfn.FORECAST.LINEAR(G$4,'Сезонность'!$D42:$AA42,Periods))*INDEX('Сезонность'!$D11:$O11,G$5) -> 36.081982 | H11: =MAX(0,_xlfn.FORECAST.LINEAR(H$4,'Сезонность'!$D42:$AA42,Periods))*INDEX('Сезонность'!$D11:$O11,H$5) -> 40.783192 | I11: =MAX(0,_xlfn.FORECAST.LINEAR(I$4,'Сезонность'!$D42:$AA42,Periods))*INDEX('Сезонность'!$D11:$O11,I$5) -> 44.8485 | J11: =MAX(0,_xlfn.FORECAST.LINEAR(J$4,'Сезонность'!$D42:$AA42,Periods))*INDEX('Сезонность'!$D11:$O11,J$5) -> 49.81615 | K11: =MAX(0,_xlfn.FORECAST.LINEAR(K$4,'Сезонность'!$D42:$AA42,Periods))*INDEX('Сезонность'!$D11:$O11,K$5) -> 53.360164 | ... O11: =MAX(0,_xlfn.FORECAST.LINEAR(O$4,'Сезонность'!$D42:$AA42,Periods))*INDEX('Сезонность'!$D11:$O11,O$5) -> 48.477976 | P11: =SUM(D11:O11) -> 559.10216 | Q11: =SUM('Данные'!R11:AC11) -> 524 | R11: =P11/Q11-1 -> 0.066988849 | S11: =P11*'Данные'!E11/1000 -> 301.91516 | T11: =SUMPRODUCT(ABS('Данные'!$F11:$AC11-$D29:$AA29))/SUM('Данные'!$F11:$AC11) -> 0.058953497 | U11: =SQRT(SUMXMY2('Данные'!$F11:$AC11,$D29:$AA29)/COUNT('Данные'!$F11:$AC11)) -> 3.118071
A12: ='Данные'!A12 -> SYR-06 | B12: ='Данные'!B12 -> Сироп «Тыквенный пряный», 1 л | C12: ='Данные'!D12 -> бут. | D12: =MAX(0,_xlfn.FORECAST.LINEAR(D$4,'Сезонность'!$D43:$AA43,Periods))*INDEX('Сезонность'!$D12:$O12,D$5) -> 97.939277 | E12: =MAX(0,_xlfn.FORECAST.LINEAR(E$4,'Сезонность'!$D43:$AA43,Periods))*INDEX('Сезонность'!$D12:$O12,E$5) -> 74.408948 | F12: =MAX(0,_xlfn.FORECAST.LINEAR(F$4,'Сезонность'!$D43:$AA43,Periods))*INDEX('Сезонность'!$D12:$O12,F$5) -> 60.926399 | G12: =MAX(0,_xlfn.FORECAST.LINEAR(G$4,'Сезонность'!$D43:$AA43,Periods))*INDEX('Сезонность'!$D12:$O12,G$5) -> 13.400535 | H12: =MAX(0,_xlfn.FORECAST.LINEAR(H$4,'Сезонность'!$D43:$AA43,Periods))*INDEX('Сезонность'!$D12:$O12,H$5) -> 5.8601037 | I12: =MAX(0,_xlfn.FORECAST.LINEAR(I$4,'Сезонность'!$D43:$AA43,Periods))*INDEX('Сезонность'!$D12:$O12,I$5) -> 4.6779684 | J12: =MAX(0,_xlfn.FORECAST.LINEAR(J$4,'Сезонность'!$D43:$AA43,Periods))*INDEX('Сезонность'!$D12:$O12,J$5) -> 2.334029 | K12: =MAX(0,_xlfn.FORECAST.LINEAR(K$4,'Сезонность'!$D43:$AA43,Periods))*INDEX('Сезонность'!$D12:$O12,K$5) -> 2.9455709 | ... O12: =MAX(0,_xlfn.FORECAST.LINEAR(O$4,'Сезонность'!$D43:$AA43,Periods))*INDEX('Сезонность'!$D12:$O12,O$5) -> 55.545559 | P12: =SUM(D12:O12) -> 334.67634 | Q12: =SUM('Данные'!R12:AC12) -> 303 | R12: =P12/Q12-1 -> 0.10454236 | S12: =P12*'Данные'!E12/1000 -> 204.15257 | T12: =SUMPRODUCT(ABS('Данные'!$F12:$AC12-$D30:$AA30))/SUM('Данные'!$F12:$AC12) -> 0.058252089 | U12: =SQRT(SUMXMY2('Данные'!$F12:$AC12,$D30:$AA30)/COUNT('Данные'!$F12:$AC12)) -> 2.1472368
A13: ='Данные'!A13 -> CUP-07 | B13: ='Данные'!B13 -> Стакан бумажный 300 мл | C13: ='Данные'!D13 -> шт. | D13: =MAX(0,_xlfn.FORECAST.LINEAR(D$4,'Сезонность'!$D44:$AA44,Periods))*INDEX('Сезонность'!$D13:$O13,D$5) -> 14681.366 | E13: =MAX(0,_xlfn.FORECAST.LINEAR(E$4,'Сезонность'!$D44:$AA44,Periods))*INDEX('Сезонность'!$D13:$O13,E$5) -> 13799.393 | F13: =MAX(0,_xlfn.FORECAST.LINEAR(F$4,'Сезонность'!$D44:$AA44,Periods))*INDEX('Сезонность'!$D13:$O13,F$5) -> 15047.131 | G13: =MAX(0,_xlfn.FORECAST.LINEAR(G$4,'Сезонность'!$D44:$AA44,Periods))*INDEX('Сезонность'!$D13:$O13,G$5) -> 13862.093 | H13: =MAX(0,_xlfn.FORECAST.LINEAR(H$4,'Сезонность'!$D44:$AA44,Periods))*INDEX('Сезонность'!$D13:$O13,H$5) -> 14398.775 | I13: =MAX(0,_xlfn.FORECAST.LINEAR(I$4,'Сезонность'!$D44:$AA44,Periods))*INDEX('Сезонность'!$D13:$O13,I$5) -> 16779.335 | J13: =MAX(0,_xlfn.FORECAST.LINEAR(J$4,'Сезонность'!$D44:$AA44,Periods))*INDEX('Сезонность'!$D13:$O13,J$5) -> 17013.775 | K13: =MAX(0,_xlfn.FORECAST.LINEAR(K$4,'Сезонность'!$D44:$AA44,Periods))*INDEX('Сезонность'!$D13:$O13,K$5) -> 18368.396 | ... O13: =MAX(0,_xlfn.FORECAST.LINEAR(O$4,'Сезонность'!$D44:$AA44,Periods))*INDEX('Сезонность'!$D13:$O13,O$5) -> 17701.441 | P13: =SUM(D13:O13) -> 204543.12 | Q13: =SUM('Данные'!R13:AC13) -> 184203 | R13: =P13/Q13-1 -> 0.1104223 | S13: =P13*'Данные'!E13/1000 -> 1513.6191 | T13: =SUMPRODUCT(ABS('Данные'!$F13:$AC13-$D31:$AA31))/SUM('Данные'!$F13:$AC13) -> 0.030952109 | U13: =SQRT(SUMXMY2('Данные'!$F13:$AC13,$D31:$AA31)/COUNT('Данные'!$F13:$AC13)) -> 568.22846
A14: ='Данные'!A14 -> LID-08 | B14: ='Данные'!B14 -> Крышка для стакана Ø 90 мм | C14: ='Данные'!D14 -> шт. | D14: =MAX(0,_xlfn.FORECAST.LINEAR(D$4,'Сезонность'!$D45:$AA45,Periods))*INDEX('Сезонность'!$D14:$O14,D$5) -> 14136.936 | E14: =MAX(0,_xlfn.FORECAST.LINEAR(E$4,'Сезонность'!$D45:$AA45,Periods))*INDEX('Сезонность'!$D14:$O14,E$5) -> 13598.743 | F14: =MAX(0,_xlfn.FORECAST.LINEAR(F$4,'Сезонность'!$D45:$AA45,Periods))*INDEX('Сезонность'!$D14:$O14,F$5) -> 13806.825 | G14: =MAX(0,_xlfn.FORECAST.LINEAR(G$4,'Сезонность'!$D45:$AA45,Periods))*INDEX('Сезонность'!$D14:$O14,G$5) -> 12457.753 | H14: =MAX(0,_xlfn.FORECAST.LINEAR(H$4,'Сезонность'!$D45:$AA45,Periods))*INDEX('Сезонность'!$D14:$O14,H$5) -> 13241.777 | I14: =MAX(0,_xlfn.FORECAST.LINEAR(I$4,'Сезонность'!$D45:$AA45,Periods))*INDEX('Сезонность'!$D14:$O14,I$5) -> 15442.431 | J14: =MAX(0,_xlfn.FORECAST.LINEAR(J$4,'Сезонность'!$D45:$AA45,Periods))*INDEX('Сезонность'!$D14:$O14,J$5) -> 15864.152 | K14: =MAX(0,_xlfn.FORECAST.LINEAR(K$4,'Сезонность'!$D45:$AA45,Periods))*INDEX('Сезонность'!$D14:$O14,K$5) -> 16740.364 | ... O14: =MAX(0,_xlfn.FORECAST.LINEAR(O$4,'Сезонность'!$D45:$AA45,Periods))*INDEX('Сезонность'!$D14:$O14,O$5) -> 17485.899 | P14: =SUM(D14:O14) -> 189618.77 | Q14: =SUM('Данные'!R14:AC14) -> 174789 | R14: =P14/Q14-1 -> 0.084843819 | S14: =P14*'Данные'!E14/1000 -> 587.81818 | T14: =SUMPRODUCT(ABS('Данные'!$F14:$AC14-$D32:$AA32))/SUM('Данные'!$F14:$AC14) -> 0.039259369 | U14: =SQRT(SUMXMY2('Данные'!$F14:$AC14,$D32:$AA32)/COUNT('Данные'!$F14:$AC14)) -> 735.99167
A15: ='Данные'!A15 -> CRS-09 | B15: ='Данные'!B15 -> Круассан сливочный, заморозка | C15: ='Данные'!D15 -> шт. | D15: =MAX(0,_xlfn.FORECAST.LINEAR(D$4,'Сезонность'!$D46:$AA46,Periods))*INDEX('Сезонность'!$D15:$O15,D$5) -> 5825.977 | E15: =MAX(0,_xlfn.FORECAST.LINEAR(E$4,'Сезонность'!$D46:$AA46,Periods))*INDEX('Сезонность'!$D15:$O15,E$5) -> 5981.3764 | F15: =MAX(0,_xlfn.FORECAST.LINEAR(F$4,'Сезонность'!$D46:$AA46,Periods))*INDEX('Сезонность'!$D15:$O15,F$5) -> 5996.0863 | G15: =MAX(0,_xlfn.FORECAST.LINEAR(G$4,'Сезонность'!$D46:$AA46,Periods))*INDEX('Сезонность'!$D15:$O15,G$5) -> 5007.7494 | H15: =MAX(0,_xlfn.FORECAST.LINEAR(H$4,'Сезонность'!$D46:$AA46,Periods))*INDEX('Сезонность'!$D15:$O15,H$5) -> 5222.5362 | I15: =MAX(0,_xlfn.FORECAST.LINEAR(I$4,'Сезонность'!$D46:$AA46,Periods))*INDEX('Сезонность'!$D15:$O15,I$5) -> 5629.2737 | J15: =MAX(0,_xlfn.FORECAST.LINEAR(J$4,'Сезонность'!$D46:$AA46,Periods))*INDEX('Сезонность'!$D15:$O15,J$5) -> 5474.24 | K15: =MAX(0,_xlfn.FORECAST.LINEAR(K$4,'Сезонность'!$D46:$AA46,Periods))*INDEX('Сезонность'!$D15:$O15,K$5) -> 5452.5016 | ... O15: =MAX(0,_xlfn.FORECAST.LINEAR(O$4,'Сезонность'!$D46:$AA46,Periods))*INDEX('Сезонность'!$D15:$O15,O$5) -> 5829.6245 | P15: =SUM(D15:O15) -> 65761.677 | Q15: =SUM('Данные'!R15:AC15) -> 62282 | R15: =P15/Q15-1 -> 0.055869703 | S15: =P15*'Данные'!E15/1000 -> 3551.1306 | T15: =SUMPRODUCT(ABS('Данные'!$F15:$AC15-$D33:$AA33))/SUM('Данные'!$F15:$AC15) -> 0.020054395 | U15: =SQRT(SUMXMY2('Данные'!$F15:$AC15,$D33:$AA33)/COUNT('Данные'!$F15:$AC15)) -> 126.37665
A16: ='Данные'!A16 -> TEA-10 | B16: ='Данные'!B16 -> Чай зелёный «Сенча», 500 г | C16: ='Данные'!D16 -> уп. | D16: =MAX(0,_xlfn.FORECAST.LINEAR(D$4,'Сезонность'!$D47:$AA47,Periods))*INDEX('Сезонность'!$D16:$O16,D$5) -> 32.095513 | E16: =MAX(0,_xlfn.FORECAST.LINEAR(E$4,'Сезонность'!$D47:$AA47,Periods))*INDEX('Сезонность'!$D16:$O16,E$5) -> 38.232447 | F16: =MAX(0,_xlfn.FORECAST.LINEAR(F$4,'Сезонность'!$D47:$AA47,Periods))*INDEX('Сезонность'!$D16:$O16,F$5) -> 39.233216 | G16: =MAX(0,_xlfn.FORECAST.LINEAR(G$4,'Сезонность'!$D47:$AA47,Periods))*INDEX('Сезонность'!$D16:$O16,G$5) -> 42.540313 | H16: =MAX(0,_xlfn.FORECAST.LINEAR(H$4,'Сезонность'!$D47:$AA47,Periods))*INDEX('Сезонность'!$D16:$O16,H$5) -> 39.856785 | I16: =MAX(0,_xlfn.FORECAST.LINEAR(I$4,'Сезонность'!$D47:$AA47,Periods))*INDEX('Сезонность'!$D16:$O16,I$5) -> 35.475088 | J16: =MAX(0,_xlfn.FORECAST.LINEAR(J$4,'Сезонность'!$D47:$AA47,Periods))*INDEX('Сезонность'!$D16:$O16,J$5) -> 31.588692 | K16: =MAX(0,_xlfn.FORECAST.LINEAR(K$4,'Сезонность'!$D47:$AA47,Periods))*INDEX('Сезонность'!$D16:$O16,K$5) -> 22.484097 | ... O16: =MAX(0,_xlfn.FORECAST.LINEAR(O$4,'Сезонность'!$D47:$AA47,Periods))*INDEX('Сезонность'!$D16:$O16,O$5) -> 29.844847 | P16: =SUM(D16:O16) -> 373.74384 | Q16: =SUM('Данные'!R16:AC16) -> 325 | R16: =P16/Q16-1 -> 0.14998105 | S16: =P16*'Данные'!E16/1000 -> 541.92857 | T16: =SUMPRODUCT(ABS('Данные'!$F16:$AC16-$D34:$AA34))/SUM('Данные'!$F16:$AC16) -> 0.054124639 | U16: =SQRT(SUMXMY2('Данные'!$F16:$AC16,$D34:$AA34)/COUNT('Данные'!$F16:$AC16)) -> 1.5177391
A17: ='Данные'!A17 -> ICE-11 | B17: ='Данные'!B17 -> Лёд пищевой, кубики | C17: ='Данные'!D17 -> кг | D17: =MAX(0,_xlfn.FORECAST.LINEAR(D$4,'Сезонность'!$D48:$AA48,Periods))*INDEX('Сезонность'!$D17:$O17,D$5) -> 317.31131 | E17: =MAX(0,_xlfn.FORECAST.LINEAR(E$4,'Сезонность'!$D48:$AA48,Periods))*INDEX('Сезонность'!$D17:$O17,E$5) -> 209.31453 | F17: =MAX(0,_xlfn.FORECAST.LINEAR(F$4,'Сезонность'!$D48:$AA48,Periods))*INDEX('Сезонность'!$D17:$O17,F$5) -> 189.93426 | G17: =MAX(0,_xlfn.FORECAST.LINEAR(G$4,'Сезонность'!$D48:$AA48,Periods))*INDEX('Сезонность'!$D17:$O17,G$5) -> 151.1887 | H17: =MAX(0,_xlfn.FORECAST.LINEAR(H$4,'Сезонность'!$D48:$AA48,Periods))*INDEX('Сезонность'!$D17:$O17,H$5) -> 184.63302 | I17: =MAX(0,_xlfn.FORECAST.LINEAR(I$4,'Сезонность'!$D48:$AA48,Periods))*INDEX('Сезонность'!$D17:$O17,I$5) -> 298.62664 | J17: =MAX(0,_xlfn.FORECAST.LINEAR(J$4,'Сезонность'!$D48:$AA48,Periods))*INDEX('Сезонность'!$D17:$O17,J$5) -> 415.89865 | K17: =MAX(0,_xlfn.FORECAST.LINEAR(K$4,'Сезонность'!$D48:$AA48,Periods))*INDEX('Сезонность'!$D17:$O17,K$5) -> 592.83954 | ... O17: =MAX(0,_xlfn.FORECAST.LINEAR(O$4,'Сезонность'!$D48:$AA48,Periods))*INDEX('Сезонность'!$D17:$O17,O$5) -> 568.26332 | P17: =SUM(D17:O17) -> 5976.4874 | Q17: =SUM('Данные'!R17:AC17) -> 5580 | R17: =P17/Q17-1 -> 0.071055081 | S17: =P17*'Данные'!E17/1000 -> 203.20057 | T17: =SUMPRODUCT(ABS('Данные'!$F17:$AC17-$D35:$AA35))/SUM('Данные'!$F17:$AC17) -> 0.067858122 | U17: =SQRT(SUMXMY2('Данные'!$F17:$AC17,$D35:$AA35)/COUNT('Данные'!$F17:$AC17)) -> 43.898576
A18: ='Данные'!A18 -> CHO-12 | B18: ='Данные'!B18 -> Шоколад для горячего шоколада | C18: ='Данные'!D18 -> кг | D18: =MAX(0,_xlfn.FORECAST.LINEAR(D$4,'Сезонность'!$D49:$AA49,Periods))*INDEX('Сезонность'!$D18:$O18,D$5) -> 32.329985 | E18: =MAX(0,_xlfn.FORECAST.LINEAR(E$4,'Сезонность'!$D49:$AA49,Periods))*INDEX('Сезонность'!$D18:$O18,E$5) -> 38.280989 | F18: =MAX(0,_xlfn.FORECAST.LINEAR(F$4,'Сезонность'!$D49:$AA49,Periods))*INDEX('Сезонность'!$D18:$O18,F$5) -> 38.264813 | G18: =MAX(0,_xlfn.FORECAST.LINEAR(G$4,'Сезонность'!$D49:$AA49,Periods))*INDEX('Сезонность'!$D18:$O18,G$5) -> 41.971233 | H18: =MAX(0,_xlfn.FORECAST.LINEAR(H$4,'Сезонность'!$D49:$AA49,Periods))*INDEX('Сезонность'!$D18:$O18,H$5) -> 41.419232 | I18: =MAX(0,_xlfn.FORECAST.LINEAR(I$4,'Сезонность'!$D49:$AA49,Periods))*INDEX('Сезонность'!$D18:$O18,I$5) -> 31.492146 | J18: =MAX(0,_xlfn.FORECAST.LINEAR(J$4,'Сезонность'!$D49:$AA49,Periods))*INDEX('Сезонность'!$D18:$O18,J$5) -> 24.288892 | K18: =MAX(0,_xlfn.FORECAST.LINEAR(K$4,'Сезонность'!$D49:$AA49,Periods))*INDEX('Сезонность'!$D18:$O18,K$5) -> 17.152442 | ... O18: =MAX(0,_xlfn.FORECAST.LINEAR(O$4,'Сезонность'!$D49:$AA49,Periods))*INDEX('Сезонность'!$D18:$O18,O$5) -> 22.440484 | P18: =SUM(D18:O18) -> 327.11604 | Q18: =SUM('Данные'!R18:AC18) -> 308 | R18: =P18/Q18-1 -> 0.062065071 | S18: =P18*'Данные'!E18/1000 -> 376.18345 | T18: =SUMPRODUCT(ABS('Данные'!$F18:$AC18-$D36:$AA36))/SUM('Данные'!$F18:$AC18) -> 0.038688177 | U18: =SQRT(SUMXMY2('Данные'!$F18:$AC18,$D36:$AA36)/COUNT('Данные'!$F18:$AC18)) -> 1.2152629
A19: Итого стоимость закупок, тыс. ₽ | D19: =SUMPRODUCT(D7:D18,Prices)/1000 -> 1977.4313 | E19: =SUMPRODUCT(E7:E18,Prices)/1000 -> 1993.1785 | F19: =SUMPRODUCT(F7:F18,Prices)/1000 -> 2018.2219 | G19: =SUMPRODUCT(G7:G18,Prices)/1000 -> 1774.5918 | H19: =SUMPRODUCT(H7:H18,Prices)/1000 -> 1810.128 | I19: =SUMPRODUCT(I7:I18,Prices)/1000 -> 1943.9211 | J19: =SUMPRODUCT(J7:J18,Prices)/1000 -> 1903.4562 | K19: =SUMPRODUCT(K7:K18,Prices)/1000 -> 1899.0756 | ... O19: =SUMPRODUCT(O7:O18,Prices)/1000 -> 2064.6275 | R19: =S19/SUM('Данные'!R19:AC19)-1 -> 0.076505835 | S19: =SUM(S7:S18) -> 23061.557 | T19: =SUMPRODUCT(T7:T18,S7:S18)/S19 -> 0.026320618
A21: WAPE — средневзвешенная абсолютная ошибка модели на 24 мес. истории: Σ|факт − модель| ÷ Σ факт. σ ошибки (RMSE) используется в расчёте страхового запаса на листе «Закупки».
A23: Модель на исторических данных (тренд × сезонный индекс) — для оценки точности
A24: Код | B24: Наименование | C24: Ед. | D24: ='Данные'!F6 -> 45566 | E24: ='Данные'!G6 -> 45597 | F24: ='Данные'!H6 -> 45627 | G24: ='Данные'!I6 -> 45658 | H24: ='Данные'!J6 -> 45689 | I24: ='Данные'!K6 -> 45717 | J24: ='Данные'!L6 -> 45748 | K24: ='Данные'!M6 -> 45778 | ... AA24: ='Данные'!AC6 -> 46266
A25: ='Данные'!A7 -> ESP-01 | B25: ='Данные'!B7 -> Зерно «Эспрессо-бленд» | C25: ='Данные'!D7 -> кг | D25: =_xlfn.FORECAST.LINEAR('Данные'!F$4,'Сезонность'!$D38:$AA38,Periods)*INDEX('Сезонность'!$D7:$O7,'Данные'!F$5) -> 368.68322 | E25: =_xlfn.FORECAST.LINEAR('Данные'!G$4,'Сезонность'!$D38:$AA38,Periods)*INDEX('Сезонность'!$D7:$O7,'Данные'!G$5) -> 381.03874 | F25: =_xlfn.FORECAST.LINEAR('Данные'!H$4,'Сезонность'!$D38:$AA38,Periods)*INDEX('Сезонность'!$D7:$O7,'Данные'!H$5) -> 384.90088 | G25: =_xlfn.FORECAST.LINEAR('Данные'!I$4,'Сезонность'!$D38:$AA38,Periods)*INDEX('Сезонность'!$D7:$O7,'Данные'!I$5) -> 338.9041 | H25: =_xlfn.FORECAST.LINEAR('Данные'!J$4,'Сезонность'!$D38:$AA38,Periods)*INDEX('Сезонность'!$D7:$O7,'Данные'!J$5) -> 352.30298 | I25: =_xlfn.FORECAST.LINEAR('Данные'!K$4,'Сезонность'!$D38:$AA38,Periods)*INDEX('Сезонность'!$D7:$O7,'Данные'!K$5) -> 372.73019 | J25: =_xlfn.FORECAST.LINEAR('Данные'!L$4,'Сезонность'!$D38:$AA38,Periods)*INDEX('Сезонность'!$D7:$O7,'Данные'!L$5) -> 367.11795 | K25: =_xlfn.FORECAST.LINEAR('Данные'!M$4,'Сезонность'!$D38:$AA38,Periods)*INDEX('Сезонность'!$D7:$O7,'Данные'!M$5) -> 357.84915 | ... AA25: =_xlfn.FORECAST.LINEAR('Данные'!AC$4,'Сезонность'!$D38:$AA38,Periods)*INDEX('Сезонность'!$D7:$O7,'Данные'!AC$5) -> 416.68095
A26: ='Данные'!A8 -> FLT-02 | B26: ='Данные'!B8 -> Зерно «Эфиопия Иргачеффе», фильтр | C26: ='Данные'!D8 -> кг | D26: =_xlfn.FORECAST.LINEAR('Данные'!F$4,'Сезонность'!$D39:$AA39,Periods)*INDEX('Сезонность'!$D8:$O8,'Данные'!F$5) -> 32.638626 | E26: =_xlfn.FORECAST.LINEAR('Данные'!G$4,'Сезонность'!$D39:$AA39,Periods)*INDEX('Сезонность'!$D8:$O8,'Данные'!G$5) -> 33.274364 | F26: =_xlfn.FORECAST.LINEAR('Данные'!H$4,'Сезонность'!$D39:$AA39,Periods)*INDEX('Сезонность'!$D8:$O8,'Данные'!H$5) -> 32.977753 | G26: =_xlfn.FORECAST.LINEAR('Данные'!I$4,'Сезонность'!$D39:$AA39,Periods)*INDEX('Сезонность'!$D8:$O8,'Данные'!I$5) -> 36.357786 | H26: =_xlfn.FORECAST.LINEAR('Данные'!J$4,'Сезонность'!$D39:$AA39,Periods)*INDEX('Сезонность'!$D8:$O8,'Данные'!J$5) -> 33.492491 | I26: =_xlfn.FORECAST.LINEAR('Данные'!K$4,'Сезонность'!$D39:$AA39,Periods)*INDEX('Сезонность'!$D8:$O8,'Данные'!K$5) -> 35.122611 | J26: =_xlfn.FORECAST.LINEAR('Данные'!L$4,'Сезонность'!$D39:$AA39,Periods)*INDEX('Сезонность'!$D8:$O8,'Данные'!L$5) -> 34.587428 | K26: =_xlfn.FORECAST.LINEAR('Данные'!M$4,'Сезонность'!$D39:$AA39,Periods)*INDEX('Сезонность'!$D8:$O8,'Данные'!M$5) -> 43.331368 | ... AA26: =_xlfn.FORECAST.LINEAR('Данные'!AC$4,'Сезонность'!$D39:$AA39,Periods)*INDEX('Сезонность'!$D8:$O8,'Данные'!AC$5) -> 47.257977
A27: ='Данные'!A9 -> MLK-03 | B27: ='Данные'!B9 -> Молоко 3,2 % | C27: ='Данные'!D9 -> л | D27: =_xlfn.FORECAST.LINEAR('Данные'!F$4,'Сезонность'!$D40:$AA40,Periods)*INDEX('Сезонность'!$D9:$O9,'Данные'!F$5) -> 3712.9523 | E27: =_xlfn.FORECAST.LINEAR('Данные'!G$4,'Сезонность'!$D40:$AA40,Periods)*INDEX('Сезонность'!$D9:$O9,'Данные'!G$5) -> 3812.6088 | F27: =_xlfn.FORECAST.LINEAR('Данные'!H$4,'Сезонность'!$D40:$AA40,Periods)*INDEX('Сезонность'!$D9:$O9,'Данные'!H$5) -> 3853.6504 | G27: =_xlfn.FORECAST.LINEAR('Данные'!I$4,'Сезонность'!$D40:$AA40,Periods)*INDEX('Сезонность'!$D9:$O9,'Данные'!I$5) -> 3164.0694 | H27: =_xlfn.FORECAST.LINEAR('Данные'!J$4,'Сезонность'!$D40:$AA40,Periods)*INDEX('Сезонность'!$D9:$O9,'Данные'!J$5) -> 3253.9312 | I27: =_xlfn.FORECAST.LINEAR('Данные'!K$4,'Сезонность'!$D40:$AA40,Periods)*INDEX('Сезонность'!$D9:$O9,'Данные'!K$5) -> 3716.118 | J27: =_xlfn.FORECAST.LINEAR('Данные'!L$4,'Сезонность'!$D40:$AA40,Periods)*INDEX('Сезонность'!$D9:$O9,'Данные'!L$5) -> 3460.0506 | K27: =_xlfn.FORECAST.LINEAR('Данные'!M$4,'Сезонность'!$D40:$AA40,Periods)*INDEX('Сезонность'!$D9:$O9,'Данные'!M$5) -> 3497.2296 | ... AA27: =_xlfn.FORECAST.LINEAR('Данные'!AC$4,'Сезонность'!$D40:$AA40,Periods)*INDEX('Сезонность'!$D9:$O9,'Данные'!AC$5) -> 3618.8381
A28: ='Данные'!A10 -> OAT-04 | B28: ='Данные'!B10 -> Напиток овсяный «Бариста» | C28: ='Данные'!D10 -> л | D28: =_xlfn.FORECAST.LINEAR('Данные'!F$4,'Сезонность'!$D41:$AA41,Periods)*INDEX('Сезонность'!$D10:$O10,'Данные'!F$5) -> 402.1732 | E28: =_xlfn.FORECAST.LINEAR('Данные'!G$4,'Сезонность'!$D41:$AA41,Periods)*INDEX('Сезонность'!$D10:$O10,'Данные'!G$5) -> 365.24307 | F28: =_xlfn.FORECAST.LINEAR('Данные'!H$4,'Сезонность'!$D41:$AA41,Periods)*INDEX('Сезонность'!$D10:$O10,'Данные'!H$5) -> 407.15621 | G28: =_xlfn.FORECAST.LINEAR('Данные'!I$4,'Сезонность'!$D41:$AA41,Periods)*INDEX('Сезонность'!$D10:$O10,'Данные'!I$5) -> 380.82197 | H28: =_xlfn.FORECAST.LINEAR('Данные'!J$4,'Сезонность'!$D41:$AA41,Periods)*INDEX('Сезонность'!$D10:$O10,'Данные'!J$5) -> 384.76275 | I28: =_xlfn.FORECAST.LINEAR('Данные'!K$4,'Сезонность'!$D41:$AA41,Periods)*INDEX('Сезонность'!$D10:$O10,'Данные'!K$5) -> 422.4382 | J28: =_xlfn.FORECAST.LINEAR('Данные'!L$4,'Сезонность'!$D41:$AA41,Periods)*INDEX('Сезонность'!$D10:$O10,'Данные'!L$5) -> 454.11182 | K28: =_xlfn.FORECAST.LINEAR('Данные'!M$4,'Сезонность'!$D41:$AA41,Periods)*INDEX('Сезонность'!$D10:$O10,'Данные'!M$5) -> 414.06338 | ... AA28: =_xlfn.FORECAST.LINEAR('Данные'!AC$4,'Сезонность'!$D41:$AA41,Periods)*INDEX('Сезонность'!$D10:$O10,'Данные'!AC$5) -> 692.48626
A29: ='Данные'!A11 -> SYR-05 | B29: ='Данные'!B11 -> Сироп «Ваниль», 1 л | C29: ='Данные'!D11 -> бут. | D29: =_xlfn.FORECAST.LINEAR('Данные'!F$4,'Сезонность'!$D42:$AA42,Periods)*INDEX('Сезонность'!$D11:$O11,'Данные'!F$5) -> 37.550745 | E29: =_xlfn.FORECAST.LINEAR('Данные'!G$4,'Сезонность'!$D42:$AA42,Periods)*INDEX('Сезонность'!$D11:$O11,'Данные'!G$5) -> 39.487083 | F29: =_xlfn.FORECAST.LINEAR('Данные'!H$4,'Сезонность'!$D42:$AA42,Periods)*INDEX('Сезонность'!$D11:$O11,'Данные'!H$5) -> 35.198782 | G29: =_xlfn.FORECAST.LINEAR('Данные'!I$4,'Сезонность'!$D42:$AA42,Periods)*INDEX('Сезонность'!$D11:$O11,'Данные'!I$5) -> 31.444089 | H29: =_xlfn.FORECAST.LINEAR('Данные'!J$4,'Сезонность'!$D42:$AA42,Periods)*INDEX('Сезонность'!$D11:$O11,'Данные'!J$5) -> 35.568943 | I29: =_xlfn.FORECAST.LINEAR('Данные'!K$4,'Сезонность'!$D42:$AA42,Periods)*INDEX('Сезонность'!$D11:$O11,'Данные'!K$5) -> 39.144873 | J29: =_xlfn.FORECAST.LINEAR('Данные'!L$4,'Сезонность'!$D42:$AA42,Periods)*INDEX('Сезонность'!$D11:$O11,'Данные'!L$5) -> 43.514155 | K29: =_xlfn.FORECAST.LINEAR('Данные'!M$4,'Сезонность'!$D42:$AA42,Periods)*INDEX('Сезонность'!$D11:$O11,'Данные'!M$5) -> 46.645228 | ... AA29: =_xlfn.FORECAST.LINEAR('Данные'!AC$4,'Сезонность'!$D42:$AA42,Periods)*INDEX('Сезонность'!$D11:$O11,'Данные'!AC$5) -> 45.490361
A30: ='Данные'!A12 -> SYR-06 | B30: ='Данные'!B12 -> Сироп «Тыквенный пряный», 1 л | C30: ='Данные'!D12 -> бут. | D30: =_xlfn.FORECAST.LINEAR('Данные'!F$4,'Сезонность'!$D43:$AA43,Periods)*INDEX('Сезонность'!$D12:$O12,'Данные'!F$5) -> 78.638826 | E30: =_xlfn.FORECAST.LINEAR('Данные'!G$4,'Сезонность'!$D43:$AA43,Periods)*INDEX('Сезонность'!$D12:$O12,'Данные'!G$5) -> 59.864934 | F30: =_xlfn.FORECAST.LINEAR('Данные'!H$4,'Сезонность'!$D43:$AA43,Periods)*INDEX('Сезонность'!$D12:$O12,'Данные'!H$5) -> 49.113895 | G30: =_xlfn.FORECAST.LINEAR('Данные'!I$4,'Сезонность'!$D43:$AA43,Periods)*INDEX('Сезонность'!$D12:$O12,'Данные'!I$5) -> 10.823239 | H30: =_xlfn.FORECAST.LINEAR('Данные'!J$4,'Сезонность'!$D43:$AA43,Periods)*INDEX('Сезонность'!$D12:$O12,'Данные'!J$5) -> 4.7420027 | I30: =_xlfn.FORECAST.LINEAR('Данные'!K$4,'Сезонность'!$D43:$AA43,Periods)*INDEX('Сезонность'!$D12:$O12,'Данные'!K$5) -> 3.7924572 | J30: =_xlfn.FORECAST.LINEAR('Данные'!L$4,'Сезонность'!$D43:$AA43,Periods)*INDEX('Сезонность'!$D12:$O12,'Данные'!L$5) -> 1.8956688 | K30: =_xlfn.FORECAST.LINEAR('Данные'!M$4,'Сезонность'!$D43:$AA43,Periods)*INDEX('Сезонность'!$D12:$O12,'Данные'!M$5) -> 2.3966511 | ... AA30: =_xlfn.FORECAST.LINEAR('Данные'!AC$4,'Сезонность'!$D43:$AA43,Periods)*INDEX('Сезонность'!$D12:$O12,'Данные'!AC$5) -> 50.525888
A31: ='Данные'!A13 -> CUP-07 | B31: ='Данные'!B13 -> Стакан бумажный 300 мл | C31: ='Данные'!D13 -> шт. | D31: =_xlfn.FORECAST.LINEAR('Данные'!F$4,'Сезонность'!$D44:$AA44,Periods)*INDEX('Сезонность'!$D13:$O13,'Данные'!F$5) -> 11575.663 | E31: =_xlfn.FORECAST.LINEAR('Данные'!G$4,'Сезонность'!$D44:$AA44,Periods)*INDEX('Сезонность'!$D13:$O13,'Данные'!G$5) -> 10905.768 | F31: =_xlfn.FORECAST.LINEAR('Данные'!H$4,'Сезонность'!$D44:$AA44,Periods)*INDEX('Сезонность'!$D13:$O13,'Данные'!H$5) -> 11919.194 | G31: =_xlfn.FORECAST.LINEAR('Данные'!I$4,'Сезонность'!$D44:$AA44,Periods)*INDEX('Сезонность'!$D13:$O13,'Данные'!I$5) -> 11005.242 | H31: =_xlfn.FORECAST.LINEAR('Данные'!J$4,'Сезонность'!$D44:$AA44,Periods)*INDEX('Сезонность'!$D13:$O13,'Данные'!J$5) -> 11456.584 | I31: =_xlfn.FORECAST.LINEAR('Данные'!K$4,'Сезонность'!$D44:$AA44,Periods)*INDEX('Сезонность'!$D13:$O13,'Данные'!K$5) -> 13379.654 | J31: =_xlfn.FORECAST.LINEAR('Данные'!L$4,'Сезонность'!$D44:$AA44,Periods)*INDEX('Сезонность'!$D13:$O13,'Данные'!L$5) -> 13595.451 | K31: =_xlfn.FORECAST.LINEAR('Данные'!M$4,'Сезонность'!$D44:$AA44,Periods)*INDEX('Сезонность'!$D13:$O13,'Данные'!M$5) -> 14708.547 | ... AA31: =_xlfn.FORECAST.LINEAR('Данные'!AC$4,'Сезонность'!$D44:$AA44,Periods)*INDEX('Сезонность'!$D13:$O13,'Данные'!AC$5) -> 15994.64
A32: ='Данные'!A14 -> LID-08 | B32: ='Данные'!B14 -> Крышка для стакана Ø 90 мм | C32: ='Данные'!D14 -> шт. | D32: =_xlfn.FORECAST.LINEAR('Данные'!F$4,'Сезонность'!$D45:$AA45,Periods)*INDEX('Сезонность'!$D14:$O14,'Данные'!F$5) -> 11853.538 | E32: =_xlfn.FORECAST.LINEAR('Данные'!G$4,'Сезонность'!$D45:$AA45,Periods)*INDEX('Сезонность'!$D14:$O14,'Данные'!G$5) -> 11416.958 | F32: =_xlfn.FORECAST.LINEAR('Данные'!H$4,'Сезонность'!$D45:$AA45,Periods)*INDEX('Сезонность'!$D14:$O14,'Данные'!H$5) -> 11606.365 | G32: =_xlfn.FORECAST.LINEAR('Данные'!I$4,'Сезонность'!$D45:$AA45,Periods)*INDEX('Сезонность'!$D14:$O14,'Данные'!I$5) -> 10485.398 | H32: =_xlfn.FORECAST.LINEAR('Данные'!J$4,'Сезонность'!$D45:$AA45,Periods)*INDEX('Сезонность'!$D14:$O14,'Данные'!J$5) -> 11159.033 | I32: =_xlfn.FORECAST.LINEAR('Данные'!K$4,'Сезонность'!$D45:$AA45,Periods)*INDEX('Сезонность'!$D14:$O14,'Данные'!K$5) -> 13029.369 | J32: =_xlfn.FORECAST.LINEAR('Данные'!L$4,'Сезонность'!$D45:$AA45,Periods)*INDEX('Сезонность'!$D14:$O14,'Данные'!L$5) -> 13401.228 | K32: =_xlfn.FORECAST.LINEAR('Данные'!M$4,'Сезонность'!$D45:$AA45,Periods)*INDEX('Сезонность'!$D14:$O14,'Данные'!M$5) -> 14158.11 | ... AA32: =_xlfn.FORECAST.LINEAR('Данные'!AC$4,'Сезонность'!$D45:$AA45,Periods)*INDEX('Сезонность'!$D14:$O14,'Данные'!AC$5) -> 16171.074
A33: ='Данные'!A15 -> CRS-09 | B33: ='Данные'!B15 -> Круассан сливочный, заморозка | C33: ='Данные'!D15 -> шт. | D33: =_xlfn.FORECAST.LINEAR('Данные'!F$4,'Сезонность'!$D46:$AA46,Periods)*INDEX('Сезонность'!$D15:$O15,'Данные'!F$5) -> 5197.1716 | E33: =_xlfn.FORECAST.LINEAR('Данные'!G$4,'Сезонность'!$D46:$AA46,Periods)*INDEX('Сезонность'!$D15:$O15,'Данные'!G$5) -> 5338.6888 | F33: =_xlfn.FORECAST.LINEAR('Данные'!H$4,'Сезонность'!$D46:$AA46,Periods)*INDEX('Сезонность'!$D15:$O15,'Данные'!H$5) -> 5354.6896 | G33: =_xlfn.FORECAST.LINEAR('Данные'!I$4,'Сезонность'!$D46:$AA46,Periods)*INDEX('Сезонность'!$D15:$O15,'Данные'!I$5) -> 4474.4513 | H33: =_xlfn.FORECAST.LINEAR('Данные'!J$4,'Сезонность'!$D46:$AA46,Periods)*INDEX('Сезонность'!$D15:$O15,'Данные'!J$5) -> 4668.8215 | I33: =_xlfn.FORECAST.LINEAR('Данные'!K$4,'Сезонность'!$D46:$AA46,Periods)*INDEX('Сезонность'!$D15:$O15,'Данные'!K$5) -> 5035.0601 | J33: =_xlfn.FORECAST.LINEAR('Данные'!L$4,'Сезонность'!$D46:$AA46,Periods)*INDEX('Сезонность'!$D15:$O15,'Данные'!L$5) -> 4898.9218 | K33: =_xlfn.FORECAST.LINEAR('Данные'!M$4,'Сезонность'!$D46:$AA46,Periods)*INDEX('Сезонность'!$D15:$O15,'Данные'!M$5) -> 4881.9663 | ... AA33: =_xlfn.FORECAST.LINEAR('Данные'!AC$4,'Сезонность'!$D46:$AA46,Periods)*INDEX('Сезонность'!$D15:$O15,'Данные'!AC$5) -> 5529.8542
A34: ='Данные'!A16 -> TEA-10 | B34: ='Данные'!B16 -> Чай зелёный «Сенча», 500 г | C34: ='Данные'!D16 -> уп. | D34: =_xlfn.FORECAST.LINEAR('Данные'!F$4,'Сезонность'!$D47:$AA47,Periods)*INDEX('Сезонность'!$D16:$O16,'Данные'!F$5) -> 23.065376 | E34: =_xlfn.FORECAST.LINEAR('Данные'!G$4,'Сезонность'!$D47:$AA47,Periods)*INDEX('Сезонность'!$D16:$O16,'Данные'!G$5) -> 27.600312 | F34: =_xlfn.FORECAST.LINEAR('Данные'!H$4,'Сезонность'!$D47:$AA47,Periods)*INDEX('Сезонность'!$D16:$O16,'Данные'!H$5) -> 28.447748 | G34: =_xlfn.FORECAST.LINEAR('Данные'!I$4,'Сезонность'!$D47:$AA47,Periods)*INDEX('Сезонность'!$D16:$O16,'Данные'!I$5) -> 30.978141 | H34: =_xlfn.FORECAST.LINEAR('Данные'!J$4,'Сезонность'!$D47:$AA47,Periods)*INDEX('Сезонность'!$D16:$O16,'Данные'!J$5) -> 29.145282 | I34: =_xlfn.FORECAST.LINEAR('Данные'!K$4,'Сезонность'!$D47:$AA47,Periods)*INDEX('Сезонность'!$D16:$O16,'Данные'!K$5) -> 26.046743 | J34: =_xlfn.FORECAST.LINEAR('Данные'!L$4,'Сезонность'!$D47:$AA47,Periods)*INDEX('Сезонность'!$D16:$O16,'Данные'!L$5) -> 23.285201 | K34: =_xlfn.FORECAST.LINEAR('Данные'!M$4,'Сезонность'!$D47:$AA47,Periods)*INDEX('Сезонность'!$D16:$O16,'Данные'!M$5) -> 16.637896 | ... AA34: =_xlfn.FORECAST.LINEAR('Данные'!AC$4,'Сезонность'!$D47:$AA47,Periods)*INDEX('Сезонность'!$D16:$O16,'Данные'!AC$5) -> 26.125956
A35: ='Данные'!A17 -> ICE-11 | B35: ='Данные'!B17 -> Лёд пищевой, кубики | C35: ='Данные'!D17 -> кг | D35: =_xlfn.FORECAST.LINEAR('Данные'!F$4,'Сезонность'!$D48:$AA48,Periods)*INDEX('Сезонность'!$D17:$O17,'Данные'!F$5) -> 285.86004 | E35: =_xlfn.FORECAST.LINEAR('Данные'!G$4,'Сезонность'!$D48:$AA48,Periods)*INDEX('Сезонность'!$D17:$O17,'Данные'!G$5) -> 188.65302 | F35: =_xlfn.FORECAST.LINEAR('Данные'!H$4,'Сезонность'!$D48:$AA48,Periods)*INDEX('Сезонность'!$D17:$O17,'Данные'!H$5) -> 171.26258 | G35: =_xlfn.FORECAST.LINEAR('Данные'!I$4,'Сезонность'!$D48:$AA48,Periods)*INDEX('Сезонность'!$D17:$O17,'Данные'!I$5) -> 136.38657 | H35: =_xlfn.FORECAST.LINEAR('Данные'!J$4,'Сезонность'!$D48:$AA48,Periods)*INDEX('Сезонность'!$D17:$O17,'Данные'!J$5) -> 166.62997 | I35: =_xlfn.FORECAST.LINEAR('Данные'!K$4,'Сезонность'!$D48:$AA48,Periods)*INDEX('Сезонность'!$D17:$O17,'Данные'!K$5) -> 269.62621 | J35: =_xlfn.FORECAST.LINEAR('Данные'!L$4,'Сезонность'!$D48:$AA48,Periods)*INDEX('Сезонность'!$D17:$O17,'Данные'!L$5) -> 375.67239 | K35: =_xlfn.FORECAST.LINEAR('Данные'!M$4,'Сезонность'!$D48:$AA48,Periods)*INDEX('Сезонность'!$D17:$O17,'Данные'!M$5) -> 535.72949 | ... AA35: =_xlfn.FORECAST.LINEAR('Данные'!AC$4,'Сезонность'!$D48:$AA48,Periods)*INDEX('Сезонность'!$D17:$O17,'Данные'!AC$5) -> 541.32456
A36: ='Данные'!A18 -> CHO-12 | B36: ='Данные'!B18 -> Шоколад для горячего шоколада | C36: ='Данные'!D18 -> кг | D36: =_xlfn.FORECAST.LINEAR('Данные'!F$4,'Сезонность'!$D49:$AA49,Periods)*INDEX('Сезонность'!$D18:$O18,'Данные'!F$5) -> 28.170089 | E36: =_xlfn.FORECAST.LINEAR('Данные'!G$4,'Сезонность'!$D49:$AA49,Periods)*INDEX('Сезонность'!$D18:$O18,'Данные'!G$5) -> 33.381645 | F36: =_xlfn.FORECAST.LINEAR('Данные'!H$4,'Сезонность'!$D49:$AA49,Periods)*INDEX('Сезонность'!$D18:$O18,'Данные'!H$5) -> 33.393516 | G36: =_xlfn.FORECAST.LINEAR('Данные'!I$4,'Сезонность'!$D49:$AA49,Periods)*INDEX('Сезонность'!$D18:$O18,'Данные'!I$5) -> 36.656283 | H36: =_xlfn.FORECAST.LINEAR('Данные'!J$4,'Сезонность'!$D49:$AA49,Periods)*INDEX('Сезонность'!$D18:$O18,'Данные'!J$5) -> 36.201713 | I36: =_xlfn.FORECAST.LINEAR('Данные'!K$4,'Сезонность'!$D49:$AA49,Periods)*INDEX('Сезонность'!$D18:$O18,'Данные'!K$5) -> 27.54584 | J36: =_xlfn.FORECAST.LINEAR('Данные'!L$4,'Сезонность'!$D49:$AA49,Periods)*INDEX('Сезонность'!$D18:$O18,'Данные'!L$5) -> 21.261041 | K36: =_xlfn.FORECAST.LINEAR('Данные'!M$4,'Сезонность'!$D49:$AA49,Periods)*INDEX('Сезонность'!$D18:$O18,'Данные'!M$5) -> 15.025269 | ... AA36: =_xlfn.FORECAST.LINEAR('Данные'!AC$4,'Сезонность'!$D49:$AA49,Periods)*INDEX('Сезонность'!$D18:$O18,'Данные'!AC$5) -> 21.077176

Sheet ABC-XYZ
A1: ABC-XYZ-анализ ассортимента закупок
A2: ABC — по стоимости закупок за последние 12 мес. (окт 2025 — сен 2026); XYZ — по коэффициенту вариации месячного спроса за тот же период
A3: Обозначения: синий — исходные данные и параметры (ввод), чёрный — формулы, зелёный — ссылки на другие листы, жёлтая заливка — ячейки для ввода
C4: Граница класса A (накопленная доля) | D4: 0.8 | J4: Граница X (коэф. вариации) | K4: 0.1 | N4: Период анализа: 12 последних месяцев факта
C5: Граница класса B (накопленная доля) | D5: 0.95 | J5: Граница Y (коэф. вариации) | K5: 0.25 | N5: Строки сортируются формулами по убыванию стоимости
Q6: Вспомогательный расчёт (в порядке справочника) | W6: Спрос за 12 мес. в порядке ранга (для XYZ и мини-графиков)
A7: № | B7: Код | C7: Наименование | D7: Закупки 12 мес., тыс. ₽ | E7: Доля | F7: Накопл. доля | G7: ABC | H7: Спрос по месяцам (12 мес.) | I7: Средний спрос, ед./мес. | J7: σ спроса, ед./мес. | K7: Коэф. вариации | L7: XYZ | M7: Класс | N7: Стратегия управления запасом | Q7: Код | R7: Закупки 12 мес., ₽ | S7: Ранг | T7: Граница A | U7: Граница B | W7: ='Данные'!R6 -> 45931 | X7: ='Данные'!S6 -> 45962 | Y7: ='Данные'!T6 -> 45992 | Z7: ='Данные'!U6 -> 46023 | AA7: ='Данные'!V6 -> 46054 | AB7: ='Данные'!W6 -> 46082 | AC7: ='Данные'!X6 -> 46113 | AD7: ='Данные'!Y6 -> 46143 | ... AH7: ='Данные'!AC6 -> 46266
A8: 1 | B8: =INDEX($Q$8:$Q$19,MATCH($A8,$S$8:$S$19,0)) -> ESP-01 | C8: =INDEX(SKU_Names,MATCH($B8,SKU_Codes,0)) -> Зерно «Эспрессо-бленд» | D8: =INDEX($R$8:$R$19,MATCH($A8,$S$8:$S$19,0))/1000 -> 7827.12 | E8: =D8/SUM($D$8:$D$19) -> 0.36536736 | F8: =SUM($E$8:E8) -> 0.36536736 | G8: =IF(F8<=Thr_A,"A",IF(F8<=Thr_B,"B","C")) -> A | I8: =AVERAGE(W8:AH8) -> 388.25 | J8: =_xlfn.STDEV.P(W8:AH8) -> 21.683807 | K8: =J8/I8 -> 0.055850115 | L8: =IF(K8<=Thr_X,"X",IF(K8<=Thr_Y,"Y","Z")) -> X | M8: =G8&L8 -> AX | N8: =INDEX($C$31:$C$39,MATCH(M8,$B$31:$B$39,0)) -> Постоянное наличие, частые поставки, минимальный запас | Q8: ='Данные'!A7 -> ESP-01 | R8: =SUM('Данные'!R7:AC7)*'Данные'!E7 -> 7827120 | S8: =RANK(R8,$R$8:$R$19,0)+COUNTIF($R$8:R8,R8)-1 -> 1 | T8: =Thr_A -> 0.8 | U8: =Thr_B -> 0.95 | W8: =INDEX('Данные'!$R$7:$AC$18,MATCH($B8,SKU_Codes,0),1) -> 400 | X8: =INDEX('Данные'!$R$7:$AC$18,MATCH($B8,SKU_Codes,0),2) -> 406 | Y8: =INDEX('Данные'!$R$7:$AC$18,MATCH($B8,SKU_Codes,0),3) -> 427 | Z8: =INDEX('Данные'!$R$7:$AC$18,MATCH($B8,SKU_Codes,0),4) -> 350 | AA8: =INDEX('Данные'!$R$7:$AC$18,MATCH($B8,SKU_Codes,0),5) -> 370 | AB8: =INDEX('Данные'!$R$7:$AC$18,MATCH($B8,SKU_Codes,0),6) -> 405 | AC8: =INDEX('Данные'!$R$7:$AC$18,MATCH($B8,SKU_Codes,0),7) -> 394 | AD8: =INDEX('Данные'!$R$7:$AC$18,MATCH($B8,SKU_Codes,0),8) -> 372 | AE8: =INDEX('Данные'!$R$7:$AC$18,MATCH($B8,SKU_Codes,0),9) -> 371 | AF8: =INDEX('Данные'!$R$7:$AC$18,MATCH($B8,SKU_Codes,0),10) -> 376 | AG8: =INDEX('Данные'!$R$7:$AC$18,MATCH($B8,SKU_Codes,0),11) -> 374 | AH8: =INDEX('Данные'!$R$7:$AC$18,MATCH($B8,SKU_Codes,0),12) -> 414
A9: 2 | B9: =INDEX($Q$8:$Q$19,MATCH($A9,$S$8:$S$19,0)) -> MLK-03 | C9: =INDEX(SKU_Names,MATCH($B9,SKU_Codes,0)) -> Молоко 3,2 % | D9: =INDEX($R$8:$R$19,MATCH($A9,$S$8:$S$19,0))/1000 -> 3874.212 | E9: =D9/SUM($D$8:$D$19) -> 0.18084693 | F9: =SUM($E$8:E9) -> 0.54621429 | G9: =IF(F9<=Thr_A,"A",IF(F9<=Thr_B,"B","C")) -> A | I9: =AVERAGE(W9:AH9) -> 3509.25 | J9: =_xlfn.STDEV.P(W9:AH9) -> 219.67898 | K9: =J9/I9 -> 0.06259998 | L9: =IF(K9<=Thr_X,"X",IF(K9<=Thr_Y,"Y","Z")) -> X | M9: =G9&L9 -> AX | N9: =INDEX($C$31:$C$39,MATCH(M9,$B$31:$B$39,0)) -> Постоянное наличие, частые поставки, минимальный запас | Q9: ='Данные'!A8 -> FLT-02 | R9: =SUM('Данные'!R8:AC8)*'Данные'!E8 -> 1335250 | S9: =RANK(R9,$R$8:$R$19,0)+COUNTIF($R$8:R9,R9)-1 -> 6 | T9: =Thr_A -> 0.8 | U9: =Thr_B -> 0.95 | W9: =INDEX('Данные'!$R$7:$AC$18,MATCH($B9,SKU_Codes,0),1) -> 3570 | X9: =INDEX('Данные'!$R$7:$AC$18,MATCH($B9,SKU_Codes,0),2) -> 3619 | Y9: =INDEX('Данные'!$R$7:$AC$18,MATCH($B9,SKU_Codes,0),3) -> 3779 | Z9: =INDEX('Данные'!$R$7:$AC$18,MATCH($B9,SKU_Codes,0),4) -> 3123 | AA9: =INDEX('Данные'!$R$7:$AC$18,MATCH($B9,SKU_Codes,0),5) -> 3343 | AB9: =INDEX('Данные'!$R$7:$AC$18,MATCH($B9,SKU_Codes,0),6) -> 3858 | AC9: =INDEX('Данные'!$R$7:$AC$18,MATCH($B9,SKU_Codes,0),7) -> 3561 | AD9: =INDEX('Данные'!$R$7:$AC$18,MATCH($B9,SKU_Codes,0),8) -> 3629 | AE9: =INDEX('Данные'!$R$7:$AC$18,MATCH($B9,SKU_Codes,0),9) -> 3299 | AF9: =INDEX('Данные'!$R$7:$AC$18,MATCH($B9,SKU_Codes,0),10) -> 3394 | AG9: =INDEX('Данные'!$R$7:$AC$18,MATCH($B9,SKU_Codes,0),11) -> 3229 | AH9: =INDEX('Данные'!$R$7:$AC$18,MATCH($B9,SKU_Codes,0),12) -> 3707
A10: 3 | B10: =INDEX($Q$8:$Q$19,MATCH($A10,$S$8:$S$19,0)) -> CRS-09 | C10: =INDEX(SKU_Names,MATCH($B10,SKU_Codes,0)) -> Круассан сливочный, заморозка | D10: =INDEX($R$8:$R$19,MATCH($A10,$S$8:$S$19,0))/1000 -> 3363.228 | E10: =D10/SUM($D$8:$D$19) -> 0.15699437 | F10: =SUM($E$8:E10) -> 0.70320866 | G10: =IF(F10<=Thr_A,"A",IF(F10<=Thr_B,"B","C")) -> A | I10: =AVERAGE(W10:AH10) -> 5190.1667 | J10: =_xlfn.STDEV.P(W10:AH10) -> 323.69117 | K10: =J10/I10 -> 0.062366238 | L10: =IF(K10<=Thr_X,"X",IF(K10<=Thr_Y,"Y","Z")) -> X | M10: =G10&L10 -> AX | N10: =INDEX($C$31:$C$39,MATCH(M10,$B$31:$B$39,0)) -> Постоянное наличие, частые поставки, минимальный запас | Q10: ='Данные'!A9 -> MLK-03 | R10: =SUM('Данные'!R9:AC9)*'Данные'!E9 -> 3874212 | S10: =RANK(R10,$R$8:$R$19,0)+COUNTIF($R$8:R10,R10)-1 -> 2 | T10: =Thr_A -> 0.8 | U10: =Thr_B -> 0.95 | W10: =INDEX('Данные'!$R$7:$AC$18,MATCH($B10,SKU_Codes,0),1) -> 5411 | X10: =INDEX('Данные'!$R$7:$AC$18,MATCH($B10,SKU_Codes,0),2) -> 5725 | Y10: =INDEX('Данные'!$R$7:$AC$18,MATCH($B10,SKU_Codes,0),3) -> 5545 | Z10: =INDEX('Данные'!$R$7:$AC$18,MATCH($B10,SKU_Codes,0),4) -> 4987 | AA10: =INDEX('Данные'!$R$7:$AC$18,MATCH($B10,SKU_Codes,0),5) -> 5181 | AB10: =INDEX('Данные'!$R$7:$AC$18,MATCH($B10,SKU_Codes,0),6) -> 5272 | AC10: =INDEX('Данные'!$R$7:$AC$18,MATCH($B10,SKU_Codes,0),7) -> 5091 | AD10: =INDEX('Данные'!$R$7:$AC$18,MATCH($B10,SKU_Codes,0),8) -> 5174 | AE10: =INDEX('Данные'!$R$7:$AC$18,MATCH($B10,SKU_Codes,0),9) -> 5053 | AF10: =INDEX('Данные'!$R$7:$AC$18,MATCH($B10,SKU_Codes,0),10) -> 4456 | AG10: =INDEX('Данные'!$R$7:$AC$18,MATCH($B10,SKU_Codes,0),11) -> 4893 | AH10: =INDEX('Данные'!$R$7:$AC$18,MATCH($B10,SKU_Codes,0),12) -> 5494
A11: 4 | B11: =INDEX($Q$8:$Q$19,MATCH($A11,$S$8:$S$19,0)) -> OAT-04 | C11: =INDEX(SKU_Names,MATCH($B11,SKU_Codes,0)) -> Напиток овсяный «Бариста» | D11: =INDEX($R$8:$R$19,MATCH($A11,$S$8:$S$19,0))/1000 -> 1634.885 | E11: =D11/SUM($D$8:$D$19) -> 0.076315889 | F11: =SUM($E$8:E11) -> 0.77952455 | G11: =IF(F11<=Thr_A,"A",IF(F11<=Thr_B,"B","C")) -> A | I11: =AVERAGE(W11:AH11) -> 556.08333 | J11: =_xlfn.STDEV.P(W11:AH11) -> 70.0422 | K11: =J11/I11 -> 0.1259563 | L11: =IF(K11<=Thr_X,"X",IF(K11<=Thr_Y,"Y","Z")) -> Y | M11: =G11&L11 -> AY | N11: =INDEX($C$31:$C$39,MATCH(M11,$B$31:$B$39,0)) -> Регулярный контроль, запас с учётом сезонности | Q11: ='Данные'!A10 -> OAT-04 | R11: =SUM('Данные'!R10:AC10)*'Данные'!E10 -> 1634885 | S11: =RANK(R11,$R$8:$R$19,0)+COUNTIF($R$8:R11,R11)-1 -> 4 | T11: =Thr_A -> 0.8 | U11: =Thr_B -> 0.95 | W11: =INDEX('Данные'!$R$7:$AC$18,MATCH($B11,SKU_Codes,0),1) -> 516 | X11: =INDEX('Данные'!$R$7:$AC$18,MATCH($B11,SKU_Codes,0),2) -> 485 | Y11: =INDEX('Данные'!$R$7:$AC$18,MATCH($B11,SKU_Codes,0),3) -> 520 | Z11: =INDEX('Данные'!$R$7:$AC$18,MATCH($B11,SKU_Codes,0),4) -> 502 | AA11: =INDEX('Данные'!$R$7:$AC$18,MATCH($B11,SKU_Codes,0),5) -> 505 | AB11: =INDEX('Данные'!$R$7:$AC$18,MATCH($B11,SKU_Codes,0),6) -> 586 | AC11: =INDEX('Данные'!$R$7:$AC$18,MATCH($B11,SKU_Codes,0),7) -> 592 | AD11: =INDEX('Данные'!$R$7:$AC$18,MATCH($B11,SKU_Codes,0),8) -> 521 | AE11: =INDEX('Данные'!$R$7:$AC$18,MATCH($B11,SKU_Codes,0),9) -> 529 | AF11: =INDEX('Данные'!$R$7:$AC$18,MATCH($B11,SKU_Codes,0),10) -> 549 | AG11: =INDEX('Данные'!$R$7:$AC$18,MATCH($B11,SKU_Codes,0),11) -> 619 | AH11: =INDEX('Данные'!$R$7:$AC$18,MATCH($B11,SKU_Codes,0),12) -> 749
A12: 5 | B12: =INDEX($Q$8:$Q$19,MATCH($A12,$S$8:$S$19,0)) -> CUP-07 | C12: =INDEX(SKU_Names,MATCH($B12,SKU_Codes,0)) -> Стакан бумажный 300 мл | D12: =INDEX($R$8:$R$19,MATCH($A12,$S$8:$S$19,0))/1000 -> 1363.1022 | E12: =D12/SUM($D$8:$D$19) -> 0.063629158 | F12: =SUM($E$8:E12) -> 0.84315371 | G12: =IF(F12<=Thr_A,"A",IF(F12<=Thr_B,"B","C")) -> B | I12: =AVERAGE(W12:AH12) -> 15350.25 | J12: =_xlfn.STDEV.P(W12:AH12) -> 2769.9862 | K12: =J12/I12 -> 0.18045219 | L12: =IF(K12<=Thr_X,"X",IF(K12<=Thr_Y,"Y","Z")) -> Y | M12: =G12&L12 -> BY | N12: =INDEX($C$31:$C$39,MATCH(M12,$B$31:$B$39,0)) -> Плановые поставки, умеренный страховой запас | Q12: ='Данные'!A11 -> SYR-05 | R12: =SUM('Данные'!R11:AC11)*'Данные'!E11 -> 282960 | S12: =RANK(R12,$R$8:$R$19,0)+COUNTIF($R$8:R12,R12)-1 -> 10 | T12: =Thr_A -> 0.8 | U12: =Thr_B -> 0.95 | W12: =INDEX('Данные'!$R$7:$AC$18,MATCH($B12,SKU_Codes,0),1) -> 13066 | X12: =INDEX('Данные'!$R$7:$AC$18,MATCH($B12,SKU_Codes,0),2) -> 11112 | Y12: =INDEX('Данные'!$R$7:$AC$18,MATCH($B12,SKU_Codes,0),3) -> 12971 | Z12: =INDEX('Данные'!$R$7:$AC$18,MATCH($B12,SKU_Codes,0),4) -> 12319 | AA12: =INDEX('Данные'!$R$7:$AC$18,MATCH($B12,SKU_Codes,0),5) -> 12952 | AB12: =INDEX('Данные'!$R$7:$AC$18,MATCH($B12,SKU_Codes,0),6) -> 15824 | AC12: =INDEX('Данные'!$R$7:$AC$18,MATCH($B12,SKU_Codes,0),7) -> 15834 | AD12: =INDEX('Данные'!$R$7:$AC$18,MATCH($B12,SKU_Codes,0),8) -> 16103 | AE12: =INDEX('Данные'!$R$7:$AC$18,MATCH($B12,SKU_Codes,0),9) -> 20454 | AF12: =INDEX('Данные'!$R$7:$AC$18,MATCH($B12,SKU_Codes,0),10) -> 18132 | AG12: =INDEX('Данные'!$R$7:$AC$18,MATCH($B12,SKU_Codes,0),11) -> 18783 | AH12: =INDEX('Данные'!$R$7:$AC$18,MATCH($B12,SKU_Codes,0),12) -> 16653
A13: 6 | B13: =INDEX($Q$8:$Q$19,MATCH($A13,$S$8:$S$19,0)) -> FLT-02 | C13: =INDEX(SKU_Names,MATCH($B13,SKU_Codes,0)) -> Зерно «Эфиопия Иргачеффе», фильтр | D13: =INDEX($R$8:$R$19,MATCH($A13,$S$8:$S$19,0))/1000 -> 1335.25 | E13: =D13/SUM($D$8:$D$19) -> 0.062329027 | F13: =SUM($E$8:E13) -> 0.90548273 | G13: =IF(F13<=Thr_A,"A",IF(F13<=Thr_B,"B","C")) -> B | I13: =AVERAGE(W13:AH13) -> 45.416667 | J13: =_xlfn.STDEV.P(W13:AH13) -> 6.6264411 | K13: =J13/I13 -> 0.14590329 | L13: =IF(K13<=Thr_X,"X",IF(K13<=Thr_Y,"Y","Z")) -> Y | M13: =G13&L13 -> BY | N13: =INDEX($C$31:$C$39,MATCH(M13,$B$31:$B$39,0)) -> Плановые поставки, умеренный страховой запас | Q13: ='Данные'!A12 -> SYR-06 | R13: =SUM('Данные'!R12:AC12)*'Данные'!E12 -> 184830 | S13: =RANK(R13,$R$8:$R$19,0)+COUNTIF($R$8:R13,R13)-1 -> 12 | T13: =Thr_A -> 0.8 | U13: =Thr_B -> 0.95 | W13: =INDEX('Данные'!$R$7:$AC$18,MATCH($B13,SKU_Codes,0),1) -> 38 | X13: =INDEX('Данные'!$R$7:$AC$18,MATCH($B13,SKU_Codes,0),2) -> 37 | Y13: =INDEX('Данные'!$R$7:$AC$18,MATCH($B13,SKU_Codes,0),3) -> 41 | Z13: =INDEX('Данные'!$R$7:$AC$18,MATCH($B13,SKU_Codes,0),4) -> 43 | AA13: =INDEX('Данные'!$R$7:$AC$18,MATCH($B13,SKU_Codes,0),5) -> 42 | AB13: =INDEX('Данные'!$R$7:$AC$18,MATCH($B13,SKU_Codes,0),6) -> 41 | AC13: =INDEX('Данные'!$R$7:$AC$18,MATCH($B13,SKU_Codes,0),7) -> 42 | AD13: =INDEX('Данные'!$R$7:$AC$18,MATCH($B13,SKU_Codes,0),8) -> 52 | AE13: =INDEX('Данные'!$R$7:$AC$18,MATCH($B13,SKU_Codes,0),9) -> 51 | AF13: =INDEX('Данные'!$R$7:$AC$18,MATCH($B13,SKU_Codes,0),10) -> 54 | AG13: =INDEX('Данные'!$R$7:$AC$18,MATCH($B13,SKU_Codes,0),11) -> 59 | AH13: =INDEX('Данные'!$R$7:$AC$18,MATCH($B13,SKU_Codes,0),12) -> 45
A14: 7 | B14: =INDEX($Q$8:$Q$19,MATCH($A14,$S$8:$S$19,0)) -> LID-08 | C14: =INDEX(SKU_Names,MATCH($B14,SKU_Codes,0)) -> Крышка для стакана Ø 90 мм | D14: =INDEX($R$8:$R$19,MATCH($A14,$S$8:$S$19,0))/1000 -> 541.8459 | E14: =D14/SUM($D$8:$D$19) -> 0.025293187 | F14: =SUM($E$8:E14) -> 0.93077592 | G14: =IF(F14<=Thr_A,"A",IF(F14<=Thr_B,"B","C")) -> B | I14: =AVERAGE(W14:AH14) -> 14565.75 | J14: =_xlfn.STDEV.P(W14:AH14) -> 2146.4099 | K14: =J14/I14 -> 0.14736007 | L14: =IF(K14<=Thr_X,"X",IF(K14<=Thr_Y,"Y","Z")) -> Y | M14: =G14&L14 -> BY | N14: =INDEX($C$31:$C$39,MATCH(M14,$B$31:$B$39,0)) -> Плановые поставки, умеренный страховой запас | Q14: ='Данные'!A13 -> CUP-07 | R14: =SUM('Данные'!R13:AC13)*'Данные'!E13 -> 1363102.2 | S14: =RANK(R14,$R$8:$R$19,0)+COUNTIF($R$8:R14,R14)-1 -> 5 | T14: =Thr_A -> 0.8 | U14: =Thr_B -> 0.95 | W14: =INDEX('Данные'!$R$7:$AC$18,MATCH($B14,SKU_Codes,0),1) -> 13680 | X14: =INDEX('Данные'!$R$7:$AC$18,MATCH($B14,SKU_Codes,0),2) -> 12302 | Y14: =INDEX('Данные'!$R$7:$AC$18,MATCH($B14,SKU_Codes,0),3) -> 12970 | Z14: =INDEX('Данные'!$R$7:$AC$18,MATCH($B14,SKU_Codes,0),4) -> 11135 | AA14: =INDEX('Данные'!$R$7:$AC$18,MATCH($B14,SKU_Codes,0),5) -> 12676 | AB14: =INDEX('Данные'!$R$7:$AC$18,MATCH($B14,SKU_Codes,0),6) -> 14218 | AC14: =INDEX('Данные'!$R$7:$AC$18,MATCH($B14,SKU_Codes,0),7) -> 15278 | AD14: =INDEX('Данные'!$R$7:$AC$18,MATCH($B14,SKU_Codes,0),8) -> 16118 | AE14: =INDEX('Данные'!$R$7:$AC$18,MATCH($B14,SKU_Codes,0),9) -> 14581 | AF14: =INDEX('Данные'!$R$7:$AC$18,MATCH($B14,SKU_Codes,0),10) -> 18835 | AG14: =INDEX('Данные'!$R$7:$AC$18,MATCH($B14,SKU_Codes,0),11) -> 17672 | AH14: =INDEX('Данные'!$R$7:$AC$18,MATCH($B14,SKU_Codes,0),12) -> 15324
A15: 8 | B15: =INDEX($Q$8:$Q$19,MATCH($A15,$S$8:$S$19,0)) -> TEA-10 | C15: =INDEX(SKU_Names,MATCH($B15,SKU_Codes,0)) -> Чай зелёный «Сенча», 500 г | D15: =INDEX($R$8:$R$19,MATCH($A15,$S$8:$S$19,0))/1000 -> 471.25 | E15: =D15/SUM($D$8:$D$19) -> 0.021997794 | F15: =SUM($E$8:E15) -> 0.95277371 | G15: =IF(F15<=Thr_A,"A",IF(F15<=Thr_B,"B","C")) -> C | I15: =AVERAGE(W15:AH15) -> 27.083333 | J15: =_xlfn.STDEV.P(W15:AH15) -> 7.488417 | K15: =J15/I15 -> 0.2764954 | L15: =IF(K15<=Thr_X,"X",IF(K15<=Thr_Y,"Y","Z")) -> Z | M15: =G15&L15 -> CZ | N15: =INDEX($C$31:$C$39,MATCH(M15,$B$31:$B$39,0)) -> Заказ под сезон, минимум запаса вне сезона | Q15: ='Данные'!A14 -> LID-08 | R15: =SUM('Данные'!R14:AC14)*'Данные'!E14 -> 541845.9 | S15: =RANK(R15,$R$8:$R$19,0)+COUNTIF($R$8:R15,R15)-1 -> 7 | T15: =Thr_A -> 0.8 | U15: =Thr_B -> 0.95 | W15: =INDEX('Данные'!$R$7:$AC$18,MATCH($B15,SKU_Codes,0),1) -> 25 | X15: =INDEX('Данные'!$R$7:$AC$18,MATCH($B15,SKU_Codes,0),2) -> 31 | Y15: =INDEX('Данные'!$R$7:$AC$18,MATCH($B15,SKU_Codes,0),3) -> 33 | Z15: =INDEX('Данные'!$R$7:$AC$18,MATCH($B15,SKU_Codes,0),4) -> 39 | AA15: =INDEX('Данные'!$R$7:$AC$18,MATCH($B15,SKU_Codes,0),5) -> 37 | AB15: =INDEX('Данные'!$R$7:$AC$18,MATCH($B15,SKU_Codes,0),6) -> 32 | AC15: =INDEX('Данные'!$R$7:$AC$18,MATCH($B15,SKU_Codes,0),7) -> 29 | AD15: =INDEX('Данные'!$R$7:$AC$18,MATCH($B15,SKU_Codes,0),8) -> 18 | AE15: =INDEX('Данные'!$R$7:$AC$18,MATCH($B15,SKU_Codes,0),9) -> 18 | AF15: =INDEX('Данные'!$R$7:$AC$18,MATCH($B15,SKU_Codes,0),10) -> 17 | AG15: =INDEX('Данные'!$R$7:$AC$18,MATCH($B15,SKU_Codes,0),11) -> 18 | AH15: =INDEX('Данные'!$R$7:$AC$18,MATCH($B15,SKU_Codes,0),12) -> 28
A16: 9 | B16: =INDEX($Q$8:$Q$19,MATCH($A16,$S$8:$S$19,0)) -> CHO-12 | C16: =INDEX(SKU_Names,MATCH($B16,SKU_Codes,0)) -> Шоколад для горячего шоколада | D16: =INDEX($R$8:$R$19,MATCH($A16,$S$8:$S$19,0))/1000 -> 354.2 | E16: =D16/SUM($D$8:$D$19) -> 0.016533938 | F16: =SUM($E$8:E16) -> 0.96930765 | G16: =IF(F16<=Thr_A,"A",IF(F16<=Thr_B,"B","C")) -> C | I16: =AVERAGE(W16:AH16) -> 25.666667 | J16: =_xlfn.STDEV.P(W16:AH16) -> 10.849987 | K16: =J16/I16 -> 0.42272677 | L16: =IF(K16<=Thr_X,"X",IF(K16<=Thr_Y,"Y","Z")) -> Z | M16: =G16&L16 -> CZ | N16: =INDEX($C$31:$C$39,MATCH(M16,$B$31:$B$39,0)) -> Заказ под сезон, минимум запаса вне сезона | Q16: ='Данные'!A15 -> CRS-09 | R16: =SUM('Данные'!R15:AC15)*'Данные'!E15 -> 3363228 | S16: =RANK(R16,$R$8:$R$19,0)+COUNTIF($R$8:R16,R16)-1 -> 3 | T16: =Thr_A -> 0.8 | U16: =Thr_B -> 0.95 | W16: =INDEX('Данные'!$R$7:$AC$18,MATCH($B16,SKU_Codes,0),1) -> 29 | X16: =INDEX('Данные'!$R$7:$AC$18,MATCH($B16,SKU_Codes,0),2) -> 37 | Y16: =INDEX('Данные'!$R$7:$AC$18,MATCH($B16,SKU_Codes,0),3) -> 36 | Z16: =INDEX('Данные'!$R$7:$AC$18,MATCH($B16,SKU_Codes,0),4) -> 42 | AA16: =INDEX('Данные'!$R$7:$AC$18,MATCH($B16,SKU_Codes,0),5) -> 40 | AB16: =INDEX('Данные'!$R$7:$AC$18,MATCH($B16,SKU_Codes,0),6) -> 29 | AC16: =INDEX('Данные'!$R$7:$AC$18,MATCH($B16,SKU_Codes,0),7) -> 22 | AD16: =INDEX('Данные'!$R$7:$AC$18,MATCH($B16,SKU_Codes,0),8) -> 14 | AE16: =INDEX('Данные'!$R$7:$AC$18,MATCH($B16,SKU_Codes,0),9) -> 14 | AF16: =INDEX('Данные'!$R$7:$AC$18,MATCH($B16,SKU_Codes,0),10) -> 11 | AG16: =INDEX('Данные'!$R$7:$AC$18,MATCH($B16,SKU_Codes,0),11) -> 13 | AH16: =INDEX('Данные'!$R$7:$AC$18,MATCH($B16,SKU_Codes,0),12) -> 21
A17: 10 | B17: =INDEX($Q$8:$Q$19,MATCH($A17,$S$8:$S$19,0)) -> SYR-05 | C17: =INDEX(SKU_Names,MATCH($B17,SKU_Codes,0)) -> Сироп «Ваниль», 1 л | D17: =INDEX($R$8:$R$19,MATCH($A17,$S$8:$S$19,0))/1000 -> 282.96 | E17: =D17/SUM($D$8:$D$19) -> 0.013208479 | F17: =SUM($E$8:E17) -> 0.98251613 | G17: =IF(F17<=Thr_A,"A",IF(F17<=Thr_B,"B","C")) -> C | I17: =AVERAGE(W17:AH17) -> 43.666667 | J17: =_xlfn.STDEV.P(W17:AH17) -> 6.1689185 | K17: =J17/I17 -> 0.14127294 | L17: =IF(K17<=Thr_X,"X",IF(K17<=Thr_Y,"Y","Z")) -> Y | M17: =G17&L17 -> CY | N17: =INDEX($C$31:$C$39,MATCH(M17,$B$31:$B$39,0)) -> Периодический контроль, укрупнённые партии | Q17: ='Данные'!A16 -> TEA-10 | R17: =SUM('Данные'!R16:AC16)*'Данные'!E16 -> 471250 | S17: =RANK(R17,$R$8:$R$19,0)+COUNTIF($R$8:R17,R17)-1 -> 8 | T17: =Thr_A -> 0.8 | U17: =Thr_B -> 0.95 | W17: =INDEX('Данные'!$R$7:$AC$18,MATCH($B17,SKU_Codes,0),1) -> 42 | X17: =INDEX('Данные'!$R$7:$AC$18,MATCH($B17,SKU_Codes,0),2) -> 44 | Y17: =INDEX('Данные'!$R$7:$AC$18,MATCH($B17,SKU_Codes,0),3) -> 38 | Z17: =INDEX('Данные'!$R$7:$AC$18,MATCH($B17,SKU_Codes,0),4) -> 31 | AA17: =INDEX('Данные'!$R$7:$AC$18,MATCH($B17,SKU_Codes,0),5) -> 42 | AB17: =INDEX('Данные'!$R$7:$AC$18,MATCH($B17,SKU_Codes,0),6) -> 40 | AC17: =INDEX('Данные'!$R$7:$AC$18,MATCH($B17,SKU_Codes,0),7) -> 44 | AD17: =INDEX('Данные'!$R$7:$AC$18,MATCH($B17,SKU_Codes,0),8) -> 55 | AE17: =INDEX('Данные'!$R$7:$AC$18,MATCH($B17,SKU_Codes,0),9) -> 41 | AF17: =INDEX('Данные'!$R$7:$AC$18,MATCH($B17,SKU_Codes,0),10) -> 51 | AG17: =INDEX('Данные'!$R$7:$AC$18,MATCH($B17,SKU_Codes,0),11) -> 51 | AH17: =INDEX('Данные'!$R$7:$AC$18,MATCH($B17,SKU_Codes,0),12) -> 45
A18: 11 | B18: =INDEX($Q$8:$Q$19,MATCH($A18,$S$8:$S$19,0)) -> ICE-11 | C18: =INDEX(SKU_Names,MATCH($B18,SKU_Codes,0)) -> Лёд пищевой, кубики | D18: =INDEX($R$8:$R$19,MATCH($A18,$S$8:$S$19,0))/1000 -> 189.72 | E18: =D18/SUM($D$8:$D$19) -> 0.0088560666 | F18: =SUM($E$8:E18) -> 0.9913722 | G18: =IF(F18<=Thr_A,"A",IF(F18<=Thr_B,"B","C")) -> C | I18: =AVERAGE(W18:AH18) -> 465 | J18: =_xlfn.STDEV.P(W18:AH18) -> 289.89682 | K18: =J18/I18 -> 0.62343402 | L18: =IF(K18<=Thr_X,"X",IF(K18<=Thr_Y,"Y","Z")) -> Z | M18: =G18&L18 -> CZ | N18: =INDEX($C$31:$C$39,MATCH(M18,$B$31:$B$39,0)) -> Заказ под сезон, минимум запаса вне сезона | Q18: ='Данные'!A17 -> ICE-11 | R18: =SUM('Данные'!R17:AC17)*'Данные'!E17 -> 189720 | S18: =RANK(R18,$R$8:$R$19,0)+COUNTIF($R$8:R18,R18)-1 -> 11 | T18: =Thr_A -> 0.8 | U18: =Thr_B -> 0.95 | W18: =INDEX('Данные'!$R$7:$AC$18,MATCH($B18,SKU_Codes,0),1) -> 270 | X18: =INDEX('Данные'!$R$7:$AC$18,MATCH($B18,SKU_Codes,0),2) -> 196 | Y18: =INDEX('Данные'!$R$7:$AC$18,MATCH($B18,SKU_Codes,0),3) -> 182 | Z18: =INDEX('Данные'!$R$7:$AC$18,MATCH($B18,SKU_Codes,0),4) -> 147 | AA18: =INDEX('Данные'!$R$7:$AC$18,MATCH($B18,SKU_Codes,0),5) -> 197 | AB18: =INDEX('Данные'!$R$7:$AC$18,MATCH($B18,SKU_Codes,0),6) -> 311 | AC18: =INDEX('Данные'!$R$7:$AC$18,MATCH($B18,SKU_Codes,0),7) -> 421 | AD18: =INDEX('Данные'!$R$7:$AC$18,MATCH($B18,SKU_Codes,0),8) -> 571 | AE18: =INDEX('Данные'!$R$7:$AC$18,MATCH($B18,SKU_Codes,0),9) -> 970 | AF18: =INDEX('Данные'!$R$7:$AC$18,MATCH($B18,SKU_Codes,0),10) -> 936 | AG18: =INDEX('Данные'!$R$7:$AC$18,MATCH($B18,SKU_Codes,0),11) -> 813 | AH18: =INDEX('Данные'!$R$7:$AC$18,MATCH($B18,SKU_Codes,0),12) -> 566
A19: 12 | B19: =INDEX($Q$8:$Q$19,MATCH($A19,$S$8:$S$19,0)) -> SYR-06 | C19: =INDEX(SKU_Names,MATCH($B19,SKU_Codes,0)) -> Сироп «Тыквенный пряный», 1 л | D19: =INDEX($R$8:$R$19,MATCH($A19,$S$8:$S$19,0))/1000 -> 184.83 | E19: =D19/SUM($D$8:$D$19) -> 0.008627803 | F19: =SUM($E$8:E19) -> 1 | G19: =IF(F19<=Thr_A,"A",IF(F19<=Thr_B,"B","C")) -> C | I19: =AVERAGE(W19:AH19) -> 25.25 | J19: =_xlfn.STDEV.P(W19:AH19) -> 29.18083 | K19: =J19/I19 -> 1.1556764 | L19: =IF(K19<=Thr_X,"X",IF(K19<=Thr_Y,"Y","Z")) -> Z | M19: =G19&L19 -> CZ | N19: =INDEX($C$31:$C$39,MATCH(M19,$B$31:$B$39,0)) -> Заказ под сезон, минимум запаса вне сезона | Q19: ='Данные'!A18 -> CHO-12 | R19: =SUM('Данные'!R18:AC18)*'Данные'!E18 -> 354200 | S19: =RANK(R19,$R$8:$R$19,0)+COUNTIF($R$8:R19,R19)-1 -> 9 | T19: =Thr_A -> 0.8 | U19: =Thr_B -> 0.95 | W19: =INDEX('Данные'!$R$7:$AC$18,MATCH($B19,SKU_Codes,0),1) -> 86 | X19: =INDEX('Данные'!$R$7:$AC$18,MATCH($B19,SKU_Codes,0),2) -> 62 | Y19: =INDEX('Данные'!$R$7:$AC$18,MATCH($B19,SKU_Codes,0),3) -> 56 | Z19: =INDEX('Данные'!$R$7:$AC$18,MATCH($B19,SKU_Codes,0),4) -> 13 | AA19: =INDEX('Данные'!$R$7:$AC$18,MATCH($B19,SKU_Codes,0),5) -> 5 | AB19: =INDEX('Данные'!$R$7:$AC$18,MATCH($B19,SKU_Codes,0),6) -> 4 | AC19: =INDEX('Данные'!$R$7:$AC$18,MATCH($B19,SKU_Codes,0),7) -> 2 | AD19: =INDEX('Данные'!$R$7:$AC$18,MATCH($B19,SKU_Codes,0),8) -> 2 | AE19: =INDEX('Данные'!$R$7:$AC$18,MATCH($B19,SKU_Codes,0),9) -> 3 | AF19: =INDEX('Данные'!$R$7:$AC$18,MATCH($B19,SKU_Codes,0),10) -> 3 | AG19: =INDEX('Данные'!$R$7:$AC$18,MATCH($B19,SKU_Codes,0),11) -> 11 | AH19: =INDEX('Данные'!$R$7:$AC$18,MATCH($B19,SKU_Codes,0),12) -> 56
B20: Итого | D20: =SUM(D8:D19) -> 21422.603 | E20: =SUM(E8:E19) -> 1
B22: Матрица ABC-XYZ: какие SKU попали в каждую группу
B23: Стоимость ↓ · стабильность спроса → | D23: X — стабильный (CV ≤ 10 %) | G23: Y — колебания (10–25 %) | J23: Z — нерегулярный (> 25 %) | N23: Как читать: по вертикали — вклад SKU в стоимость закупок (ABC), по горизонтали — стабильность спроса (XYZ). Левый верхний угол — ключевые стабильные позиции: их выгодно поставлять часто и держать минимальный запас; правый нижний — сезонные и нерегулярные позиции, их заказывают под сезон.
B24: A — около 80 % стоимости | D24: {=IF(COUNTIFS($G$8:$G$19,"A",$L$8:$L$19,"X")=0,"—",COUNTIFS($G$8:$G$19,"A",$L$8:$L$19,"X")&" SKU:"&CHAR(10)&_xlfn.TEXTJOIN(", ",TRUE,IF($M$8:$M$19="AX",$B$8:$B$19,"")))} -> 3 SKU: ESP-01, MLK-03, CRS-09 | G24: {=IF(COUNTIFS($G$8:$G$19,"A",$L$8:$L$19,"Y")=0,"—",COUNTIFS($G$8:$G$19,"A",$L$8:$L$19,"Y")&" SKU:"&CHAR(10)&_xlfn.TEXTJOIN(", ",TRUE,IF($M$8:$M$19="AY",$B$8:$B$19,"")))} -> 1 SKU: OAT-04 | J24: {=IF(COUNTIFS($G$8:$G$19,"A",$L$8:$L$19,"Z")=0,"—",COUNTIFS($G$8:$G$19,"A",$L$8:$L$19,"Z")&" SKU:"&CHAR(10)&_xlfn.TEXTJOIN(", ",TRUE,IF($M$8:$M$19="AZ",$B$8:$B$19,"")))} -> —
B25: B — следующие ~15 % | D25: {=IF(COUNTIFS($G$8:$G$19,"B",$L$8:$L$19,"X")=0,"—",COUNTIFS($G$8:$G$19,"B",$L$8:$L$19,"X")&" SKU:"&CHAR(10)&_xlfn.TEXTJOIN(", ",TRUE,IF($M$8:$M$19="BX",$B$8:$B$19,"")))} -> — | G25: {=IF(COUNTIFS($G$8:$G$19,"B",$L$8:$L$19,"Y")=0,"—",COUNTIFS($G$8:$G$19,"B",$L$8:$L$19,"Y")&" SKU:"&CHAR(10)&_xlfn.TEXTJOIN(", ",TRUE,IF($M$8:$M$19="BY",$B$8:$B$19,"")))} -> 3 SKU: CUP-07, FLT-02, LID-08 | J25: {=IF(COUNTIFS($G$8:$G$19,"B",$L$8:$L$19,"Z")=0,"—",COUNTIFS($G$8:$G$19,"B",$L$8:$L$19,"Z")&" SKU:"&CHAR(10)&_xlfn.TEXTJOIN(", ",TRUE,IF($M$8:$M$19="BZ",$B$8:$B$19,"")))} -> —
B26: C — оставшиеся ~5 % | D26: {=IF(COUNTIFS($G$8:$G$19,"C",$L$8:$L$19,"X")=0,"—",COUNTIFS($G$8:$G$19,"C",$L$8:$L$19,"X")&" SKU:"&CHAR(10)&_xlfn.TEXTJOIN(", ",TRUE,IF($M$8:$M$19="CX",$B$8:$B$19,"")))} -> — | G26: {=IF(COUNTIFS($G$8:$G$19,"C",$L$8:$L$19,"Y")=0,"—",COUNTIFS($G$8:$G$19,"C",$L$8:$L$19,"Y")&" SKU:"&CHAR(10)&_xlfn.TEXTJOIN(", ",TRUE,IF($M$8:$M$19="CY",$B$8:$B$19,"")))} -> 1 SKU: SYR-05 | J26: {=IF(COUNTIFS($G$8:$G$19,"C",$L$8:$L$19,"Z")=0,"—",COUNTIFS($G$8:$G$19,"C",$L$8:$L$19,"Z")&" SKU:"&CHAR(10)&_xlfn.TEXTJOIN(", ",TRUE,IF($M$8:$M$19="CZ",$B$8:$B$19,"")))} -> 4 SKU: TEA-10, CHO-12, ICE-11, SYR-06
B29: Справочник стратегий (редактируемый)
B30: Класс | C30: Стратегия управления запасом
B31: AX | C31: Постоянное наличие, частые поставки, минимальный запас
B32: AY | C32: Регулярный контроль, запас с учётом сезонности
B33: AZ | C33: Индивидуальный контроль, заказ строго под прогноз
B34: BX | C34: Поставки по графику, стандартный страховой запас
B35: BY | C35: Плановые поставки, умеренный страховой запас
B36: BZ | C36: Заказ под прогноз, повышенный страховой запас
B37: CX | C37: Редкие крупные поставки по точке заказа
B38: CY | C38: Периодический контроль, укрупнённые партии
B39: CZ | C39: Заказ под сезон, минимум запаса вне сезона

Sheet Закупки
A1: Страховой запас, точка заказа и рекомендуемый заказ
A2: Страховой запас = z · σ · √(LT ÷ 30), где z = НОРМ.СТ.ОБР(уровень сервиса), σ — СКО ошибки прогноза, ед./мес., LT — срок поставки, дн. · остатки на 01.10.2026
A3: Обозначения: синий — исходные данные и параметры (ввод), чёрный — формулы, зелёный — ссылки на другие листы, жёлтая заливка — ячейки для ввода
B4: Целевой уровень сервиса по классу ABC | C4: A | D4: 0.98 | E4: B | F4: 0.95 | G4: C | H4: 0.9
A6: Код | B6: Наименование | C6: Ед. | D6: Класс ABC-XYZ | E6: Срок поставки (LT), дн. | F6: Период заказа, дн. | G6: Кратность заказа, ед. | H6: Уровень сервиса | I6: z | J6: Прогноз спроса, ед./мес. | K6: σ ошибки прогноза, ед./мес. | L6: Страховой запас, ед. | M6: Спрос за срок поставки, ед. | N6: Точка заказа, ед. | O6: Максимальный запас, ед. | P6: Остаток на складе, ед. | Q6: В пути, ед. | R6: Позиция запаса, ед. | S6: Покрытие, дн. | T6: Статус | U6: Рекомендуемый заказ, ед. | V6: Сумма заказа, ₽
A7: ='Данные'!A7 -> ESP-01 | B7: ='Данные'!B7 -> Зерно «Эспрессо-бленд» | C7: ='Данные'!D7 -> кг | D7: =INDEX('ABC-XYZ'!$M$8:$M$19,MATCH(A7,'ABC-XYZ'!$B$8:$B$19,0)) -> AX | E7: 10 | F7: 14 | G7: 5 | H7: =IF(LEFT(D7,1)="A",SL_A,IF(LEFT(D7,1)="B",SL_B,SL_C)) -> 0.98 | I7: =_xlfn.NORM.S.INV(H7) -> 2.0537489 | J7: ='Прогноз'!D7 -> 419.79012 | K7: ='Прогноз'!U7 -> 7.4115763 | L7: =I7*K7*SQRT(E7/30) -> 8.7881468 | M7: =J7*E7/30 -> 139.93004 | N7: =L7+M7 -> 148.71819 | O7: =N7+J7*F7/30 -> 344.62025 | P7: 122 | Q7: 0 | R7: =P7+Q7 -> 122 | S7: =R7/(J7/30) -> 8.7186425 | T7: =IF(R7<=N7,"Заказать","Норма") -> Заказать | U7: =IF(R7<=N7,ROUNDUP((O7-R7)/G7,0)*G7,0) -> 225 | V7: =U7*'Данные'!E7 -> 378000
A8: ='Данные'!A8 -> FLT-02 | B8: ='Данные'!B8 -> Зерно «Эфиопия Иргачеффе», фильтр | C8: ='Данные'!D8 -> кг | D8: =INDEX('ABC-XYZ'!$M$8:$M$19,MATCH(A8,'ABC-XYZ'!$B$8:$B$19,0)) -> BY | E8: 10 | F8: 14 | G8: 1 | H8: =IF(LEFT(D8,1)="A",SL_A,IF(LEFT(D8,1)="B",SL_B,SL_C)) -> 0.95 | I8: =_xlfn.NORM.S.INV(H8) -> 1.6448536 | J8: ='Прогноз'!D8 -> 46.637776 | K8: ='Прогноз'!U8 -> 2.0729357 | L8: =I8*K8*SQRT(E8/30) -> 1.9685773 | M8: =J8*E8/30 -> 15.545925 | N8: =L8+M8 -> 17.514503 | O8: =N8+J8*F8/30 -> 39.278798 | P8: 25 | Q8: 0 | R8: =P8+Q8 -> 25 | S8: =R8/(J8/30) -> 16.081384 | T8: =IF(R8<=N8,"Заказать","Норма") -> Норма | U8: =IF(R8<=N8,ROUNDUP((O8-R8)/G8,0)*G8,0) -> 0 | V8: =U8*'Данные'!E8 -> 0
A9: ='Данные'!A9 -> MLK-03 | B9: ='Данные'!B9 -> Молоко 3,2 % | C9: ='Данные'!D9 -> л | D9: =INDEX('ABC-XYZ'!$M$8:$M$19,MATCH(A9,'ABC-XYZ'!$B$8:$B$19,0)) -> AX | E9: 2 | F9: 3 | G9: 12 | H9: =IF(LEFT(D9,1)="A",SL_A,IF(LEFT(D9,1)="B",SL_B,SL_C)) -> 0.98 | I9: =_xlfn.NORM.S.INV(H9) -> 2.0537489 | J9: ='Прогноз'!D9 -> 3745.0473 | K9: ='Прогноз'!U9 -> 112.64572 | L9: =I9*K9*SQRT(E9/30) -> 59.733285 | M9: =J9*E9/30 -> 249.66982 | N9: =L9+M9 -> 309.4031 | O9: =N9+J9*F9/30 -> 683.90783 | P9: 229 | Q9: 0 | R9: =P9+Q9 -> 229 | S9: =R9/(J9/30) -> 1.8344228 | T9: =IF(R9<=N9,"Заказать","Норма") -> Заказать | U9: =IF(R9<=N9,ROUNDUP((O9-R9)/G9,0)*G9,0) -> 456 | V9: =U9*'Данные'!E9 -> 41952
A10: ='Данные'!A10 -> OAT-04 | B10: ='Данные'!B10 -> Напиток овсяный «Бариста» | C10: ='Данные'!D10 -> л | D10: =INDEX('ABC-XYZ'!$M$8:$M$19,MATCH(A10,'ABC-XYZ'!$B$8:$B$19,0)) -> AY | E10: 7 | F10: 7 | G10: 12 | H10: =IF(LEFT(D10,1)="A",SL_A,IF(LEFT(D10,1)="B",SL_B,SL_C)) -> 0.98 | I10: =_xlfn.NORM.S.INV(H10) -> 2.0537489 | J10: ='Прогноз'!D10 -> 688.70901 | K10: ='Прогноз'!U10 -> 23.445589 | L10: =I10*K10*SQRT(E10/30) -> 23.259314 | M10: =J10*E10/30 -> 160.69877 | N10: =L10+M10 -> 183.95808 | O10: =N10+J10*F10/30 -> 344.65685 | P10: 175 | Q10: 168 | R10: =P10+Q10 -> 343 | S10: =R10/(J10/30) -> 14.940998 | T10: =IF(R10<=N10,"Заказать","Норма") -> Норма | U10: =IF(R10<=N10,ROUNDUP((O10-R10)/G10,0)*G10,0) -> 0 | V10: =U10*'Данные'!E10 -> 0
A11: ='Данные'!A11 -> SYR-05 | B11: ='Данные'!B11 -> Сироп «Ваниль», 1 л | C11: ='Данные'!D11 -> бут. | D11: =INDEX('ABC-XYZ'!$M$8:$M$19,MATCH(A11,'ABC-XYZ'!$B$8:$B$19,0)) -> CY | E11: 14 | F11: 14 | G11: 6 | H11: =IF(LEFT(D11,1)="A",SL_A,IF(LEFT(D11,1)="B",SL_B,SL_C)) -> 0.9 | I11: =_xlfn.NORM.S.INV(H11) -> 1.2815516 | J11: ='Прогноз'!D11 -> 43.193382 | K11: ='Прогноз'!U11 -> 3.118071 | L11: =I11*K11*SQRT(E11/30) -> 2.7297663 | M11: =J11*E11/30 -> 20.156912 | N11: =L11+M11 -> 22.886678 | O11: =N11+J11*F11/30 -> 43.043589 | P11: 37 | Q11: 0 | R11: =P11+Q11 -> 37 | S11: =R11/(J11/30) -> 25.698381 | T11: =IF(R11<=N11,"Заказать","Норма") -> Норма | U11: =IF(R11<=N11,ROUNDUP((O11-R11)/G11,0)*G11,0) -> 0 | V11: =U11*'Данные'!E11 -> 0
A12: ='Данные'!A12 -> SYR-06 | B12: ='Данные'!B12 -> Сироп «Тыквенный пряный», 1 л | C12: ='Данные'!D12 -> бут. | D12: =INDEX('ABC-XYZ'!$M$8:$M$19,MATCH(A12,'ABC-XYZ'!$B$8:$B$19,0)) -> CZ | E12: 21 | F12: 14 | G12: 6 | H12: =IF(LEFT(D12,1)="A",SL_A,IF(LEFT(D12,1)="B",SL_B,SL_C)) -> 0.9 | I12: =_xlfn.NORM.S.INV(H12) -> 1.2815516 | J12: ='Прогноз'!D12 -> 97.939277 | K12: ='Прогноз'!U12 -> 2.1472368 | L12: =I12*K12*SQRT(E12/30) -> 2.3023166 | M12: =J12*E12/30 -> 68.557494 | N12: =L12+M12 -> 70.859811 | O12: =N12+J12*F12/30 -> 116.56481 | P12: 62 | Q12: 0 | R12: =P12+Q12 -> 62 | S12: =R12/(J12/30) -> 18.991359 | T12: =IF(R12<=N12,"Заказать","Норма") -> Заказать | U12: =IF(R12<=N12,ROUNDUP((O12-R12)/G12,0)*G12,0) -> 60 | V12: =U12*'Данные'!E12 -> 36600
A13: ='Данные'!A13 -> CUP-07 | B13: ='Данные'!B13 -> Стакан бумажный 300 мл | C13: ='Данные'!D13 -> шт. | D13: =INDEX('ABC-XYZ'!$M$8:$M$19,MATCH(A13,'ABC-XYZ'!$B$8:$B$19,0)) -> BY | E13: 14 | F13: 14 | G13: 1000 | H13: =IF(LEFT(D13,1)="A",SL_A,IF(LEFT(D13,1)="B",SL_B,SL_C)) -> 0.95 | I13: =_xlfn.NORM.S.INV(H13) -> 1.6448536 | J13: ='Прогноз'!D13 -> 14681.366 | K13: ='Прогноз'!U13 -> 568.22846 | L13: =I13*K13*SQRT(E13/30) -> 638.48931 | M13: =J13*E13/30 -> 6851.3039 | N13: =L13+M13 -> 7489.7932 | O13: =N13+J13*F13/30 -> 14341.097 | P13: 6441 | Q13: 0 | R13: =P13+Q13 -> 6441 | S13: =R13/(J13/30) -> 13.161582 | T13: =IF(R13<=N13,"Заказать","Норма") -> Заказать | U13: =IF(R13<=N13,ROUNDUP((O13-R13)/G13,0)*G13,0) -> 8000 | V13: =U13*'Данные'!E13 -> 59200
A14: ='Данные'!A14 -> LID-08 | B14: ='Данные'!B14 -> Крышка для стакана Ø 90 мм | C14: ='Данные'!D14 -> шт. | D14: =INDEX('ABC-XYZ'!$M$8:$M$19,MATCH(A14,'ABC-XYZ'!$B$8:$B$19,0)) -> BY | E14: 14 | F14: 14 | G14: 1000 | H14: =IF(LEFT(D14,1)="A",SL_A,IF(LEFT(D14,1)="B",SL_B,SL_C)) -> 0.95 | I14: =_xlfn.NORM.S.INV(H14) -> 1.6448536 | J14: ='Прогноз'!D14 -> 14136.936 | K14: ='Прогноз'!U14 -> 735.99167 | L14: =I14*K14*SQRT(E14/30) -> 826.99626 | M14: =J14*E14/30 -> 6597.2369 | N14: =L14+M14 -> 7424.2331 | O14: =N14+J14*F14/30 -> 14021.47 | P14: 9058 | Q14: 0 | R14: =P14+Q14 -> 9058 | S14: =R14/(J14/30) -> 19.221987 | T14: =IF(R14<=N14,"Заказать","Норма") -> Норма | U14: =IF(R14<=N14,ROUNDUP((O14-R14)/G14,0)*G14,0) -> 0 | V14: =U14*'Данные'!E14 -> 0
A15: ='Данные'!A15 -> CRS-09 | B15: ='Данные'!B15 -> Круассан сливочный, заморозка | C15: ='Данные'!D15 -> шт. | D15: =INDEX('ABC-XYZ'!$M$8:$M$19,MATCH(A15,'ABC-XYZ'!$B$8:$B$19,0)) -> AX | E15: 7 | F15: 7 | G15: 60 | H15: =IF(LEFT(D15,1)="A",SL_A,IF(LEFT(D15,1)="B",SL_B,SL_C)) -> 0.98 | I15: =_xlfn.NORM.S.INV(H15) -> 2.0537489 | J15: ='Прогноз'!D15 -> 5825.977 | K15: ='Прогноз'!U15 -> 126.37665 | L15: =I15*K15*SQRT(E15/30) -> 125.37258 | M15: =J15*E15/30 -> 1359.3946 | N15: =L15+M15 -> 1484.7672 | O15: =N15+J15*F15/30 -> 2844.1619 | P15: 1039 | Q15: 0 | R15: =P15+Q15 -> 1039 | S15: =R15/(J15/30) -> 5.3501756 | T15: =IF(R15<=N15,"Заказать","Норма") -> Заказать | U15: =IF(R15<=N15,ROUNDUP((O15-R15)/G15,0)*G15,0) -> 1860 | V15: =U15*'Данные'!E15 -> 100440
A16: ='Данные'!A16 -> TEA-10 | B16: ='Данные'!B16 -> Чай зелёный «Сенча», 500 г | C16: ='Данные'!D16 -> уп. | D16: =INDEX('ABC-XYZ'!$M$8:$M$19,MATCH(A16,'ABC-XYZ'!$B$8:$B$19,0)) -> CZ | E16: 14 | F16: 14 | G16: 2 | H16: =IF(LEFT(D16,1)="A",SL_A,IF(LEFT(D16,1)="B",SL_B,SL_C)) -> 0.9 | I16: =_xlfn.NORM.S.INV(H16) -> 1.2815516 | J16: ='Прогноз'!D16 -> 32.095513 | K16: ='Прогноз'!U16 -> 1.5177391 | L16: =I16*K16*SQRT(E16/30) -> 1.3287295 | M16: =J16*E16/30 -> 14.977906 | N16: =L16+M16 -> 16.306635 | O16: =N16+J16*F16/30 -> 31.284541 | P16: 24 | Q16: 0 | R16: =P16+Q16 -> 24 | S16: =R16/(J16/30) -> 22.433042 | T16: =IF(R16<=N16,"Заказать","Норма") -> Норма | U16: =IF(R16<=N16,ROUNDUP((O16-R16)/G16,0)*G16,0) -> 0 | V16: =U16*'Данные'!E16 -> 0
A17: ='Данные'!A17 -> ICE-11 | B17: ='Данные'!B17 -> Лёд пищевой, кубики | C17: ='Данные'!D17 -> кг | D17: =INDEX('ABC-XYZ'!$M$8:$M$19,MATCH(A17,'ABC-XYZ'!$B$8:$B$19,0)) -> CZ | E17: 2 | F17: 3 | G17: 20 | H17: =IF(LEFT(D17,1)="A",SL_A,IF(LEFT(D17,1)="B",SL_B,SL_C)) -> 0.9 | I17: =_xlfn.NORM.S.INV(H17) -> 1.2815516 | J17: ='Прогноз'!D17 -> 317.31131 | K17: ='Прогноз'!U17 -> 43.898576 | L17: =I17*K17*SQRT(E17/30) -> 14.525828 | M17: =J17*E17/30 -> 21.154087 | N17: =L17+M17 -> 35.679915 | O17: =N17+J17*F17/30 -> 67.411045 | P17: 48 | Q17: 0 | R17: =P17+Q17 -> 48 | S17: =R17/(J17/30) -> 4.5381301 | T17: =IF(R17<=N17,"Заказать","Норма") -> Норма | U17: =IF(R17<=N17,ROUNDUP((O17-R17)/G17,0)*G17,0) -> 0 | V17: =U17*'Данные'!E17 -> 0
A18: ='Данные'!A18 -> CHO-12 | B18: ='Данные'!B18 -> Шоколад для горячего шоколада | C18: ='Данные'!D18 -> кг | D18: =INDEX('ABC-XYZ'!$M$8:$M$19,MATCH(A18,'ABC-XYZ'!$B$8:$B$19,0)) -> CZ | E18: 10 | F18: 14 | G18: 5 | H18: =IF(LEFT(D18,1)="A",SL_A,IF(LEFT(D18,1)="B",SL_B,SL_C)) -> 0.9 | I18: =_xlfn.NORM.S.INV(H18) -> 1.2815516 | J18: ='Прогноз'!D18 -> 32.329985 | K18: ='Прогноз'!U18 -> 1.2152629 | L18: =I18*K18*SQRT(E18/30) -> 0.89917805 | M18: =J18*E18/30 -> 10.776662 | N18: =L18+M18 -> 11.67584 | O18: =N18+J18*F18/30 -> 26.763166 | P18: 11 | Q18: 0 | R18: =P18+Q18 -> 11 | S18: =R18/(J18/30) -> 10.207243 | T18: =IF(R18<=N18,"Заказать","Норма") -> Заказать | U18: =IF(R18<=N18,ROUNDUP((O18-R18)/G18,0)*G18,0) -> 20 | V18: =U18*'Данные'!E18 -> 23000
A19: Итого к заказу | T19: =COUNTIF(T7:T18,"Заказать") -> 6 | V19: =SUM(V7:V18) -> 639192
A21: Логика: если позиция запаса (остаток + в пути) ≤ точки заказа, заказывается количество до максимального запаса (точка заказа + спрос за период заказа), округлённое вверх до кратности поставки.
